BEGIN:VCALENDAR
VERSION:2.0
PRODID:-//Nova Scotia Curling Association - ECPv6.15.20//NONSGML v1.0//EN
CALSCALE:GREGORIAN
METHOD:PUBLISH
X-ORIGINAL-URL:https://nscurl.com
X-WR-CALDESC:Events for Nova Scotia Curling Association
REFRESH-INTERVAL;VALUE=DURATION:PT1H
X-Robots-Tag:noindex
X-PUBLISHED-TTL:PT1H
BEGIN:VTIMEZONE
TZID:America/Halifax
BEGIN:DAYLIGHT
TZOFFSETFROM:-0400
TZOFFSETTO:-0300
TZNAME:ADT
DTSTART:20170312T060000
END:DAYLIGHT
BEGIN:STANDARD
TZOFFSETFROM:-0300
TZOFFSETTO:-0400
TZNAME:AST
DTSTART:20171105T050000
END:STANDARD
BEGIN:DAYLIGHT
TZOFFSETFROM:-0400
TZOFFSETTO:-0300
TZNAME:ADT
DTSTART:20180311T060000
END:DAYLIGHT
BEGIN:STANDARD
TZOFFSETFROM:-0300
TZOFFSETTO:-0400
TZNAME:AST
DTSTART:20181104T050000
END:STANDARD
BEGIN:DAYLIGHT
TZOFFSETFROM:-0400
TZOFFSETTO:-0300
TZNAME:ADT
DTSTART:20190310T060000
END:DAYLIGHT
BEGIN:STANDARD
TZOFFSETFROM:-0300
TZOFFSETTO:-0400
TZNAME:AST
DTSTART:20191103T050000
END:STANDARD
END:VTIMEZONE
BEGIN:VEVENT
DTSTART;VALUE=DATE:20181206
DTEND;VALUE=DATE:20181210
DTSTAMP:20260426T014145
CREATED:20180510T100941Z
LAST-MODIFIED:20181031T111214Z
UID:9272-1544054400-1544399999@nscurl.com
SUMMARY:2018 Scotties Qualifier
DESCRIPTION:General Info\n\n \nRegistration\nPRESENTING SPONSOR \nThe Nova Scotia Curling Association is now using Curling Canada’s Curling IO system for all of its events. This is the same system that is used to register teams for all of their events. You are required to have a profile within their system in order to register. Creating an account is easy. You simply use one of your existing social media or email accounts. Once logged in\, you will be able to update your profile & register for any NSCA event. \n \n  \nPractice & Schedule Info\n \nThe NSCA will make every attempt to release the draw schedule roughly two weeks prior to the event. Teams competing in the event should make the appropriate travel & lodging arrangements to ensure they can be at the venue by 8 am on day the event is scheduled to start in case they have the first pre-event practice or first draw of the event. Events leading to a Canadian Championship and requiring a pre-event practice\, this schedule will be released with the completed draw. In the event there is a larger than expected number of teams and the pre-event practices and/or draw cannot be completed in the time allotted for the event\, then the schedule will be extended the necessary day(s) and practices/draw one will commence on the first scheduled day of the event. Information on pre-event and in event practices can be found here. \n  \n\n\nRules\nThis event is governed by the NSCA’s Competition Rules and Curling Canada’s Rules for Officiated Play. In the event there is conflicting information provided\, the NSCA Competitions Director will make the final decision on which rule(s) will be used. \nThe NSCA’s Competition Rules can be viewed online. \nAge Requirements\nThere is no age restriction for this event. \n\n\n2018 VIDEO PLAYBACK\n\n\n\n\n\nSchedule & Registered Teams\n\n \nPRESENTING SPONSOR \nAll information for this event can be found on the Curling IO page. \nTeams that have registered and have been approved for entry into the event will be listed in the team section of the event.  Complete lineups for teams will only be displayed if each player on the team has a valid Curling IO profile.  All players in Nova Scotia are encouraged to create one. \n\nPast Champions\n\n \n\n\n\n\n	YearWinning ClubSkipThirdSecondLeadAlternateCoachCC/WC\n\n\n\n\n	2025HalifaxChristina BlackJill BrothersJenn BaxterKarlee EveristMarlee PowersStuart MacLean\n\n\n	2024HalifaxHeather SmithJill BrothersMarie ChristiansonErin CarmodyTaylour StevensColleen Jones\n\n\n	2023DartmouthChristina BlackJenn BaxterKarlee EveristShelley BarkerCarole MacLeanStuart MacLean\n\n\n	2022DartmouthChristina BlackJenn BaxterKarlee EveristShelley BarkerCarole MacLeanStuart MacLean\n\n\n	2021 Selected (Covid)Jill BrothersErin CarmodyJennifer BrineEmma LoanKim KellyDaryell Nowlan\n\n\n	2020DartmouthMary-Anne ArsenaultChristina BlackJennifer BaxterEmma LoganKristin ClarkeStuart MacLean\n\n\n	2019MayflowerJill BrothersErin CarmodySarah MurphyJenn BrineKim KellyTaylor Ardiel\n\n\n	2018DartmouthMary-Anne ArsenaultChristina BlackJennifer BaxterJennifer CrouseCarole MacLeanPeter Corkum\n\n\n	2017NSCAMary MattatallMarg CutcliffeJill Alcoe-HollandAndrea SaulnierJulie McEvoyBruce Lohnes\n\n\n	2016MayflowerJill BrothersSarah MurphyBlisse JoyceTeri UdleJennifer BrineDaryell Nowlan\n\n\n	2015MayflowerMary-Anne ArsenaultChristina BlackJane SnyderJennifer BaxterCarole MacLeanPeter Corkum\n\n\n	2014MayflowerHeather SmithJill BrothersBlisse JoyceTeri LakeStephanie McVicarPeter Gallant\n\n\n	2013MayflowerMary-Anne ArsenaultKim KellyColleen JonesJen BaxterNancy DelahuntPeter Corkum\n\n\n	2012MayflowerHeather Smith-DaceyDanielle ParsonsBlisse JoyceTeri LakeMelanie ComstockMark Dacey\n\n\n	2011MayflowerHeather Smith-DaceyDanielle ParsonsBlisse JoyceTeri LakeMelanie ComstockMark Dacey\n\n\n	2010DartmouthNancy McConneryJennifer CrouseSheena GilmanJill ThomasKelly MacIntoshCarol MacLean\n\n\n	2009DartmouthNancy McConneryJennifer CrouseSheena GilmanJill ThomasColleen PinkneyCarole MacLean\n\n\n	2008MayflowerMary-Anne ArsenaultKim KellyLaine PetersNancy DelahuntCheryl McBainPeter Corkum\n\n\n	2007MayflowerJill MouzarMeredith HarrisonTeri LakeHayley ClarkeMary Mattatall\n\n\n	2006MayflowerColleen JonesKim KellyMary-Anne ArsenaultNancy DelahuntMary Sue Radford\n\n\n	2005MayflowerKay ZinckMary MattatallCandice MittelstadtMonica Moriarty Meaghan SmartRob Krepps\n\n\n	2004MayflowerMeredith DoyleHeather Smith-DaceyLaine PetersBeth IskiwNancy MacDonaldDave Scott\n\n\n	2003TruroNancy McConneryColleen PinkneyShelley MacNuttWendy CurrieKaren HennigarDavid Williams\n\n\n	2002TruroMeredith DoyleBeth IskiwCandice MacLeanKrista TriderAllyson BurgessJim Burgess\n\n\n	2001MayflowerColleen JonesKim KellyMary-Anne ArsenaultNancy DelahuntLaine PetersKen Bagnall++\n\n\n	2000MayflowerKay ZinckHeather Smith-DaceyKrista BernardLaine PetersCathy DonaldAl Smith
URL:https://nscurl.com/event/2018-scotties-qualifier/
LOCATION:Highlander Curling Club\, 3916 Highway 316\, St. Andrew's\, Nova Scotia\, B0H 1X0\, Canada
CATEGORIES:Adult Events,Junior Events
ATTACH;FMTTYPE=image/gif:https://nscurl.com/wp-content/uploads/2018/05/scotties665x2651.gif
ORGANIZER;CN="Marion MacAulay%2C NSCA Competitions Director":MAILTO:marionmacaulay@gmail.com
END:VEVENT
END:VCALENDAR