BEGIN:VCALENDAR
VERSION:2.0
PRODID:-//Nova Scotia Curling Association - ECPv6.15.20//NONSGML v1.0//EN
CALSCALE:GREGORIAN
METHOD:PUBLISH
X-ORIGINAL-URL:https://nscurl.com
X-WR-CALDESC:Events for Nova Scotia Curling Association
REFRESH-INTERVAL;VALUE=DURATION:PT1H
X-Robots-Tag:noindex
X-PUBLISHED-TTL:PT1H
BEGIN:VTIMEZONE
TZID:America/Halifax
BEGIN:DAYLIGHT
TZOFFSETFROM:-0400
TZOFFSETTO:-0300
TZNAME:ADT
DTSTART:20170312T060000
END:DAYLIGHT
BEGIN:STANDARD
TZOFFSETFROM:-0300
TZOFFSETTO:-0400
TZNAME:AST
DTSTART:20171105T050000
END:STANDARD
BEGIN:DAYLIGHT
TZOFFSETFROM:-0400
TZOFFSETTO:-0300
TZNAME:ADT
DTSTART:20180311T060000
END:DAYLIGHT
BEGIN:STANDARD
TZOFFSETFROM:-0300
TZOFFSETTO:-0400
TZNAME:AST
DTSTART:20181104T050000
END:STANDARD
BEGIN:DAYLIGHT
TZOFFSETFROM:-0400
TZOFFSETTO:-0300
TZNAME:ADT
DTSTART:20190310T060000
END:DAYLIGHT
BEGIN:STANDARD
TZOFFSETFROM:-0300
TZOFFSETTO:-0400
TZNAME:AST
DTSTART:20191103T050000
END:STANDARD
END:VTIMEZONE
BEGIN:VEVENT
DTSTART;VALUE=DATE:20181221
DTEND;VALUE=DATE:20181224
DTSTAMP:20260426T014201
CREATED:20180730T101033Z
LAST-MODIFIED:20180730T101033Z
UID:9607-1545350400-1545609599@nscurl.com
SUMMARY:Polar Express Bonspiel
DESCRIPTION:Junior Bonspiel for ANY team in U13\, U15 or U18\n6 End Games\n4 Game Guarantee
URL:https://nscurl.com/event/polar-express-bonspiel/
LOCATION:Mayflower Curling Club\, 3000 Monaghan Drive\, Halifax\, Nova Scotia\, B3K 2V9\, Canada
CATEGORIES:Junior Bonspiels
ATTACH;FMTTYPE=image/jpeg:https://nscurl.com/wp-content/uploads/2018/07/Polar-poster2.jpg
ORGANIZER;CN="Pamela Sullivan":MAILTO:HarvestSpiel@gmail.com
END:VEVENT
END:VCALENDAR