BEGIN:VCALENDAR
VERSION:2.0
PRODID:-//Nova Scotia Curling Association - ECPv6.15.20//NONSGML v1.0//EN
CALSCALE:GREGORIAN
METHOD:PUBLISH
X-WR-CALNAME:Nova Scotia Curling Association
X-ORIGINAL-URL:https://nscurl.com
X-WR-CALDESC:Events for Nova Scotia Curling Association
REFRESH-INTERVAL;VALUE=DURATION:PT1H
X-Robots-Tag:noindex
X-PUBLISHED-TTL:PT1H
BEGIN:VTIMEZONE
TZID:America/Halifax
BEGIN:DAYLIGHT
TZOFFSETFROM:-0400
TZOFFSETTO:-0300
TZNAME:ADT
DTSTART:20180311T060000
END:DAYLIGHT
BEGIN:STANDARD
TZOFFSETFROM:-0300
TZOFFSETTO:-0400
TZNAME:AST
DTSTART:20181104T050000
END:STANDARD
BEGIN:DAYLIGHT
TZOFFSETFROM:-0400
TZOFFSETTO:-0300
TZNAME:ADT
DTSTART:20190310T060000
END:DAYLIGHT
BEGIN:STANDARD
TZOFFSETFROM:-0300
TZOFFSETTO:-0400
TZNAME:AST
DTSTART:20191103T050000
END:STANDARD
BEGIN:DAYLIGHT
TZOFFSETFROM:-0400
TZOFFSETTO:-0300
TZNAME:ADT
DTSTART:20200308T060000
END:DAYLIGHT
BEGIN:STANDARD
TZOFFSETFROM:-0300
TZOFFSETTO:-0400
TZNAME:AST
DTSTART:20201101T050000
END:STANDARD
END:VTIMEZONE
BEGIN:VEVENT
DTSTART;VALUE=DATE:20190106
DTEND;VALUE=DATE:20190108
DTSTAMP:20260425T235124
CREATED:20180924T103514Z
LAST-MODIFIED:20180924T103514Z
UID:10062-1546732800-1546905599@nscurl.com
SUMMARY:Wolfville Cash Spiel
DESCRIPTION:This event is open to any adult Men’s and Women’s teams from Scottie\, Senior\, Club and Master. Unfortunately the Men’s Tankard Qualifier is being held at the same time. With the 2 day format you are still guaranteed 3 games and all games are 8 ends.
URL:https://nscurl.com/event/wolfville-cash-spiel-2/
LOCATION:Wolfville Curling Club\, 22 Elm Avenue\, Wolfville\, Nova Scotia\, B4P 1Z9\, Canada
CATEGORIES:Adult Bonspiels
ATTACH;FMTTYPE=image/jpeg:https://nscurl.com/wp-content/uploads/2018/09/wolfville-curling-club-logo-small.jpg
ORGANIZER;CN="Tony Stirling":MAILTO:tstirling@eastlink.ca
END:VEVENT
END:VCALENDAR