BEGIN:VCALENDAR
VERSION:2.0
PRODID:-//Nova Scotia Curling Association - ECPv6.15.20//NONSGML v1.0//EN
CALSCALE:GREGORIAN
METHOD:PUBLISH
X-WR-CALNAME:Nova Scotia Curling Association
X-ORIGINAL-URL:https://nscurl.com
X-WR-CALDESC:Events for Nova Scotia Curling Association
REFRESH-INTERVAL;VALUE=DURATION:PT1H
X-Robots-Tag:noindex
X-PUBLISHED-TTL:PT1H
BEGIN:VTIMEZONE
TZID:America/Halifax
BEGIN:DAYLIGHT
TZOFFSETFROM:-0400
TZOFFSETTO:-0300
TZNAME:ADT
DTSTART:20180311T060000
END:DAYLIGHT
BEGIN:STANDARD
TZOFFSETFROM:-0300
TZOFFSETTO:-0400
TZNAME:AST
DTSTART:20181104T050000
END:STANDARD
BEGIN:DAYLIGHT
TZOFFSETFROM:-0400
TZOFFSETTO:-0300
TZNAME:ADT
DTSTART:20190310T060000
END:DAYLIGHT
BEGIN:STANDARD
TZOFFSETFROM:-0300
TZOFFSETTO:-0400
TZNAME:AST
DTSTART:20191103T050000
END:STANDARD
BEGIN:DAYLIGHT
TZOFFSETFROM:-0400
TZOFFSETTO:-0300
TZNAME:ADT
DTSTART:20200308T060000
END:DAYLIGHT
BEGIN:STANDARD
TZOFFSETFROM:-0300
TZOFFSETTO:-0400
TZNAME:AST
DTSTART:20201101T050000
END:STANDARD
END:VTIMEZONE
BEGIN:VEVENT
DTSTART;TZID=America/Halifax:20190111T163000
DTEND;TZID=America/Halifax:20190113T170000
DTSTAMP:20260425T235216
CREATED:20180930T225901Z
LAST-MODIFIED:20180930T225901Z
UID:10146-1547224200-1547398800@nscurl.com
SUMMARY:Grey Cup of Curling
DESCRIPTION:Bonspiel format\, cash prizes.  Cash to be won every game.\nFood and entertainment included.\nOpen format for teams; any combination of players.
URL:https://nscurl.com/event/grey-cup-of-curling/
LOCATION:Amherst Curling Club\, 45 Prince Arthur Street\, Amherst\, Nova Scotia\, B4H 3Y6\, Canada
CATEGORIES:Adult Bonspiels
ATTACH;FMTTYPE=image/jpeg:https://nscurl.com/wp-content/uploads/2018/09/Poster2019_2.jpg
ORGANIZER;CN="Robin Keith":MAILTO:rrkeith57@hotmail.com
END:VEVENT
END:VCALENDAR