BEGIN:VCALENDAR
VERSION:2.0
PRODID:-//Nova Scotia Curling Association - ECPv6.15.20//NONSGML v1.0//EN
CALSCALE:GREGORIAN
METHOD:PUBLISH
X-WR-CALNAME:Nova Scotia Curling Association
X-ORIGINAL-URL:https://nscurl.com
X-WR-CALDESC:Events for Nova Scotia Curling Association
REFRESH-INTERVAL;VALUE=DURATION:PT1H
X-Robots-Tag:noindex
X-PUBLISHED-TTL:PT1H
BEGIN:VTIMEZONE
TZID:America/Halifax
BEGIN:DAYLIGHT
TZOFFSETFROM:-0400
TZOFFSETTO:-0300
TZNAME:ADT
DTSTART:20180311T060000
END:DAYLIGHT
BEGIN:STANDARD
TZOFFSETFROM:-0300
TZOFFSETTO:-0400
TZNAME:AST
DTSTART:20181104T050000
END:STANDARD
BEGIN:DAYLIGHT
TZOFFSETFROM:-0400
TZOFFSETTO:-0300
TZNAME:ADT
DTSTART:20190310T060000
END:DAYLIGHT
BEGIN:STANDARD
TZOFFSETFROM:-0300
TZOFFSETTO:-0400
TZNAME:AST
DTSTART:20191103T050000
END:STANDARD
BEGIN:DAYLIGHT
TZOFFSETFROM:-0400
TZOFFSETTO:-0300
TZNAME:ADT
DTSTART:20200308T060000
END:DAYLIGHT
BEGIN:STANDARD
TZOFFSETFROM:-0300
TZOFFSETTO:-0400
TZNAME:AST
DTSTART:20201101T050000
END:STANDARD
END:VTIMEZONE
BEGIN:VEVENT
DTSTART;VALUE=DATE:20190118
DTEND;VALUE=DATE:20190121
DTSTAMP:20260425T235145
CREATED:20180907T173811Z
LAST-MODIFIED:20180907T173811Z
UID:9978-1547769600-1548028799@nscurl.com
SUMMARY:2019 Coors Banquet Cashspiel
DESCRIPTION:Open to Senior Men and Women as well as Masters Men and Women teams. Separate divisions will be based on number of entries.
URL:https://nscurl.com/event/2019-coors-banquet-cashspiel/
LOCATION:Lakeshore Curling Club\, 409 Glendale Avenue\, Lower Sackville\, Nova Scotia\, B4C 3V3\, Canada
CATEGORIES:Bonspiels
ATTACH;FMTTYPE=image/png:https://nscurl.com/wp-content/uploads/2018/09/CBSMS19.png
ORGANIZER;CN="Karen Skiffington":MAILTO:info@lakeshorecurlingclub.com
END:VEVENT
END:VCALENDAR