BEGIN:VCALENDAR
VERSION:2.0
PRODID:-//Nova Scotia Curling Association - ECPv6.15.20//NONSGML v1.0//EN
CALSCALE:GREGORIAN
METHOD:PUBLISH
X-ORIGINAL-URL:https://nscurl.com
X-WR-CALDESC:Events for Nova Scotia Curling Association
REFRESH-INTERVAL;VALUE=DURATION:PT1H
X-Robots-Tag:noindex
X-PUBLISHED-TTL:PT1H
BEGIN:VTIMEZONE
TZID:America/Halifax
BEGIN:DAYLIGHT
TZOFFSETFROM:-0400
TZOFFSETTO:-0300
TZNAME:ADT
DTSTART:20180311T060000
END:DAYLIGHT
BEGIN:STANDARD
TZOFFSETFROM:-0300
TZOFFSETTO:-0400
TZNAME:AST
DTSTART:20181104T050000
END:STANDARD
BEGIN:DAYLIGHT
TZOFFSETFROM:-0400
TZOFFSETTO:-0300
TZNAME:ADT
DTSTART:20190310T060000
END:DAYLIGHT
BEGIN:STANDARD
TZOFFSETFROM:-0300
TZOFFSETTO:-0400
TZNAME:AST
DTSTART:20191103T050000
END:STANDARD
BEGIN:DAYLIGHT
TZOFFSETFROM:-0400
TZOFFSETTO:-0300
TZNAME:ADT
DTSTART:20200308T060000
END:DAYLIGHT
BEGIN:STANDARD
TZOFFSETFROM:-0300
TZOFFSETTO:-0400
TZNAME:AST
DTSTART:20201101T050000
END:STANDARD
END:VTIMEZONE
BEGIN:VEVENT
DTSTART;VALUE=DATE:20190121
DTEND;VALUE=DATE:20190128
DTSTAMP:20260425T235422
CREATED:20180417T095516Z
LAST-MODIFIED:20190118T121001Z
UID:9003-1548028800-1548633599@nscurl.com
SUMMARY:2019 Deloitte Tankard
DESCRIPTION:General Info\n\n \nPractice & Schedule Info\n \nThe NSCA will make every attempt to release the draw schedule roughly two weeks prior to the event. Teams competing in the event should make the appropriate travel & lodging arrangements to ensure they can be at the venue by 8 am on day the event is scheduled to start in case they have the first pre-event practice or first draw of the event. Events leading to a Canadian Championship and requiring a pre-event practice\, this schedule will be released with the completed draw. In the event there is a larger than expected number of teams and the pre-event practices and/or draw cannot be completed in the time allotted for the event\, then the schedule will be extended the necessary day(s) and practices/draw one will commence on the first scheduled day of the event. Information on pre-event and in event practices can be found here. \n  \n\n\nRules\nThis event is governed by the NSCA’s Competition Rules and Curling Canada’s Rules for Officiated Play. In the event there is conflicting information provided\, the NSCA Competitions Director will make the final decision on which rule(s) will be used. \nThe NSCA’s Competition Rules can be viewed online. \nAge Requirements\nThere is no age restriction for this event. \n\n\n2018 VIDEO PLAYBACK\n\n\n\n\n\nSchedule & Registered Teams\n\n \n \nAll information for this event can be found on the Curling IO page. \nTeams that have qualified for the event will be listed in the team section of the event. Complete lineups for teams will only be displayed if each player on the team has a valid Curling IO profile. All players in Nova Scotia are encouraged to create one. \n\nPast Champions\n\n \n\n\n\n\n	YearWinning ClubSkipThirdSecondLeadAlternateCoachCC/WC\n\n\n\n\n	2025HalifaxOwen PurcellLuke SaundersScott SaccaryRyan AbrahamCalan MacIsaacColleen Jones\n\n\n	2024HalifaxMatthew ManuelLuke SaundersJeff MeagherNick ZachernukKim Kelly\n\n\n	2023HalifaxMatthew ManuelLuke SaundersJeff MeagherNick ZachernukKevin Patterson\n\n\n	2022Selected (Covid)Paul FlemmingScott SaccaryRyan AbrahamPhil CrowellKevin Ouellette\n\n\n	2021Selected (Covid)Scott MacDonaldPaul FlemmingScott SaccaryPhil CrowellKevin Ouellette\n\n\n	2020HalifaxJamie MurphyPaul FlemmingScott SaccaryPhilip CrowellKevin OuelletteBruce Lohnes\n\n\n	2019DartmouthStuart ThompsonColten SteeleTravis ColterTaylor ArdielBill MacPheeKevin Patterson\n\n\n	2018HalifaxJamie MurphyPaul FlemmingScott SaccaryPhilip CrowellBruce Lohnes\n\n\n	2017HalifaxJamie MurphyJordan PinderScott SaccaryPhilip CrowellAlan DarraghBruce Lohnes\n\n\n	2016MayflowerJamie MurphyJordan PinderScott SaccaryPhilip CrowellAlan DarraghBruce Lohnes\n\n\n	2015MayflowerGlen MacLeodPeter BurgessColten SteeleRobby MacLeanPaul FlemmingStuart MacLean\n\n\n	2014LakeshoreJamie MurphyJordan PinderMike BardsleyDonald MacDermaidMark KehoeAlan Darragh\n\n\n	2013LakeshoreIan Fitzner-LeBlancPaul FlemmingGraham BreckonKelly MittelstadtKent SmithStuart MacLean\n\n\n	2012LakeshoreJamie MurphyJordan PinderMike BardsleyDonald MacDermaidKyle SchmeisserHelen Radford\n\n\n	2011MayflowerShawn AdamsPaul FlemmingAndrew GibsonKelly MittelstadtCraig BurgessStuart MacLean\n\n\n	2010MayflowerIan Fitzner-LeBlancStuart MacLeanKent SmithPhilip CrowellMark RobarDavid MacLellan\n\n\n	2009MayflowerMark DaceyBruce LohnesAndrew GibsonKris GranchelliMat HarrisPeter Corkum\n\n\n	2008BridgewaterBrian RafuseCurt PalmerAlan DarraghDave SlauenwhiteGlenn JosephsonPeter MacPhee\n\n\n	2007WindsorMark KehoeCurt PalmerDoug BryantRichard BarkerDonnie SmithDonalda Mattie\n\n\n	2006MayflowerMark DaceyBruce LohnesRob HarrisAndrew GibsonMat HarrisPeter Corkum\n\n\n	2005MayflowerShawn AdamsPaul FlemmingCraig BurgessKelly MittelstadtStuart MacLeanJim Burgess\n\n\n	2004MayflowerMark DaceyBruce LohnesRob HarrisAndrew GibsonMat HarrisPeter Corkum\n\n\n	2003MayflowerMark DaceyBruce LohnesRob HarrisAndrew GibsonSteve OgdenPeter Corkum+\n\n\n	2002BridgewaterShawn AdamsCraig BurgessJeff HopkinsBen BlanchardJason BlanchardNeil Powers\n\n\n	2001MayflowerMark DaceyPaul FlemmingBlayne IskiwTom FetterlyMat Harris\n\n\n	2000BridgewaterShawn AdamsJeff HopkinsBen BlanchardJason BlanchardRob MacArther
URL:https://nscurl.com/event/2019-deloitte-tankard-test/
LOCATION:Dartmouth Curling Club\, 35 Canal Street\, Dartmouth\, Nova Scotia\, B2Y 2W1\, Canada
CATEGORIES:Adult Events,Junior Events
ATTACH;FMTTYPE=image/jpeg:https://nscurl.com/wp-content/uploads/2018/04/Deloitte500x152.jpeg
ORGANIZER;CN="Marion MacAulay%2C NSCA Competitions Director":MAILTO:marionmacaulay@gmail.com
END:VEVENT
BEGIN:VEVENT
DTSTART;VALUE=DATE:20190121
DTEND;VALUE=DATE:20190128
DTSTAMP:20260425T235422
CREATED:20180511T103416Z
LAST-MODIFIED:20181219T121059Z
UID:9316-1548028800-1548633599@nscurl.com
SUMMARY:2019 Scotties Tournament of Hearts
DESCRIPTION:General Info\n\n \nPractice & Schedule Info\n \nThe NSCA will make every attempt to release the draw schedule roughly two weeks prior to the event. Teams competing in the event should make the appropriate travel & lodging arrangements to ensure they can be at the venue by 8 am on day the event is scheduled to start in case they have the first pre-event practice or first draw of the event. Events leading to a Canadian Championship and requiring a pre-event practice\, this schedule will be released with the completed draw. In the event there is a larger than expected number of teams and the pre-event practices and/or draw cannot be completed in the time allotted for the event\, then the schedule will be extended the necessary day(s) and practices/draw one will commence on the first scheduled day of the event. Information on pre-event and in event practices can be found here. \n  \n\n\nRules\nThis event is governed by the NSCA’s Competition Rules and Curling Canada’s Rules for Officiated Play. In the event there is conflicting information provided\, the NSCA Competitions Director will make the final decision on which rule(s) will be used. \nThe NSCA’s Competition Rules can be viewed online. \nAge Requirements\nThere is no age restriction for this event. \n\n\n2018 VIDEO PLAYBACK\n\n\n\n\n\nSchedule & Registered Teams\n\n \nPRESENTING SPONSOR \nAll information for this event can be found on the Curling IO page. \nTeams that have qualified for the event will be listed in the team section of the event.  Complete lineups for teams will only be displayed if each player on the team has a valid Curling IO profile.  All players in Nova Scotia are encouraged to create one. \n\nPast Champions\n\n \n\n\n\n\n	YearWinning ClubSkipThirdSecondLeadAlternateCoachCC/WC\n\n\n\n\n	2025HalifaxChristina BlackJill BrothersJenn BaxterKarlee EveristMarlee PowersStuart MacLean\n\n\n	2024HalifaxHeather SmithJill BrothersMarie ChristiansonErin CarmodyTaylour StevensColleen Jones\n\n\n	2023DartmouthChristina BlackJenn BaxterKarlee EveristShelley BarkerCarole MacLeanStuart MacLean\n\n\n	2022DartmouthChristina BlackJenn BaxterKarlee EveristShelley BarkerCarole MacLeanStuart MacLean\n\n\n	2021 Selected (Covid)Jill BrothersErin CarmodyJennifer BrineEmma LoanKim KellyDaryell Nowlan\n\n\n	2020DartmouthMary-Anne ArsenaultChristina BlackJennifer BaxterEmma LoganKristin ClarkeStuart MacLean\n\n\n	2019MayflowerJill BrothersErin CarmodySarah MurphyJenn BrineKim KellyTaylor Ardiel\n\n\n	2018DartmouthMary-Anne ArsenaultChristina BlackJennifer BaxterJennifer CrouseCarole MacLeanPeter Corkum\n\n\n	2017NSCAMary MattatallMarg CutcliffeJill Alcoe-HollandAndrea SaulnierJulie McEvoyBruce Lohnes\n\n\n	2016MayflowerJill BrothersSarah MurphyBlisse JoyceTeri UdleJennifer BrineDaryell Nowlan\n\n\n	2015MayflowerMary-Anne ArsenaultChristina BlackJane SnyderJennifer BaxterCarole MacLeanPeter Corkum\n\n\n	2014MayflowerHeather SmithJill BrothersBlisse JoyceTeri LakeStephanie McVicarPeter Gallant\n\n\n	2013MayflowerMary-Anne ArsenaultKim KellyColleen JonesJen BaxterNancy DelahuntPeter Corkum\n\n\n	2012MayflowerHeather Smith-DaceyDanielle ParsonsBlisse JoyceTeri LakeMelanie ComstockMark Dacey\n\n\n	2011MayflowerHeather Smith-DaceyDanielle ParsonsBlisse JoyceTeri LakeMelanie ComstockMark Dacey\n\n\n	2010DartmouthNancy McConneryJennifer CrouseSheena GilmanJill ThomasKelly MacIntoshCarol MacLean\n\n\n	2009DartmouthNancy McConneryJennifer CrouseSheena GilmanJill ThomasColleen PinkneyCarole MacLean\n\n\n	2008MayflowerMary-Anne ArsenaultKim KellyLaine PetersNancy DelahuntCheryl McBainPeter Corkum\n\n\n	2007MayflowerJill MouzarMeredith HarrisonTeri LakeHayley ClarkeMary Mattatall\n\n\n	2006MayflowerColleen JonesKim KellyMary-Anne ArsenaultNancy DelahuntMary Sue Radford\n\n\n	2005MayflowerKay ZinckMary MattatallCandice MittelstadtMonica Moriarty Meaghan SmartRob Krepps\n\n\n	2004MayflowerMeredith DoyleHeather Smith-DaceyLaine PetersBeth IskiwNancy MacDonaldDave Scott\n\n\n	2003TruroNancy McConneryColleen PinkneyShelley MacNuttWendy CurrieKaren HennigarDavid Williams\n\n\n	2002TruroMeredith DoyleBeth IskiwCandice MacLeanKrista TriderAllyson BurgessJim Burgess\n\n\n	2001MayflowerColleen JonesKim KellyMary-Anne ArsenaultNancy DelahuntLaine PetersKen Bagnall++\n\n\n	2000MayflowerKay ZinckHeather Smith-DaceyKrista BernardLaine PetersCathy DonaldAl Smith
URL:https://nscurl.com/event/2019-scotties-tournament-of-hearts/
LOCATION:Dartmouth Curling Club\, 35 Canal Street\, Dartmouth\, Nova Scotia\, B2Y 2W1\, Canada
CATEGORIES:Adult Events,Junior Events
ATTACH;FMTTYPE=image/gif:https://nscurl.com/wp-content/uploads/2018/05/scotties665x2651.gif
ORGANIZER;CN="Marion MacAulay%2C NSCA Competitions Director":MAILTO:marionmacaulay@gmail.com
END:VEVENT
BEGIN:VEVENT
DTSTART;VALUE=DATE:20190125
DTEND;VALUE=DATE:20190129
DTSTAMP:20260425T235422
CREATED:20181102T132039Z
LAST-MODIFIED:20181102T132039Z
UID:10379-1548374400-1548719999@nscurl.com
SUMMARY:2019 Ship Hector Bonspiel
DESCRIPTION:47TH ANNUAL SHIP HECTOR OPEN CURLING BONSPIEL\nHosted by the four Pictou County curling clubs; BLUENOSE – New Glasgow\, NEW CALEDONIAN – Pictou\, STELLAR – Stellarton\, WESTVILLE \nFRIDAY\, JANUARY 25 TO SUNDAY\, JANUARY 27\, 2019\n$7\,100.00 IN PRIZES* 20 TEAMS “IN MONEY”* GUARANTEED 4 GAMES\n*based on 48 team entries \nENTRY FEE $200 PER TEAM – OPEN TO MENS’\, LADIES’\, MIXED\, JUNIOR & SENIOR TEAMS\, STICK CURLERS WELCOME!\n➢ Registration\, Draw and Reception Buffet at the Bluenose Curling Club\, 5:30 – 7:00 pm Friday\, January 25\, 2019. \n➢ First Draws at all clubs Friday 8:00pm and 10:00pm. \n➢ Finals Sunday 1:30pm. \nSend Registration/Entry form (below) to: Scott Maston\, P. O. Box 1258\, Pictou\, NS\, B0K 1H0. Make cheques payable to: “Ship Hector Curling Bonspiel” All entries will be acknowledged promptly. \nEntry forms can be downloaded from: http://curling.pictou.org/wp-content/uploads/2018/10/ENTRY-FORM-SHIP-HECTOR-BONSPIEL.docx\n47th Ship Hector Poster can be download from : http://curling.pictou.org/wp-content/uploads/2018/10/47th-Ship-Hector-Poster.pdf \nFurther Information: shiphectorbonspiel@gmail.com
URL:https://nscurl.com/event/2019-ship-hector-bonspiel/
LOCATION:Bluenose Curling Club\, 234 Park Street\, New Glasgow\, Nova Scotia\, B2H 5E5\, Canada
CATEGORIES:Adult Bonspiels
ATTACH;FMTTYPE=image/png:https://nscurl.com/wp-content/uploads/2018/11/2019HectorLogo.png
ORGANIZER;CN="Scott Maston":MAILTO:shiphectorbonspiel@gmail.com
END:VEVENT
BEGIN:VEVENT
DTSTART;VALUE=DATE:20190125
DTEND;VALUE=DATE:20190128
DTSTAMP:20260425T235422
CREATED:20181224T113822Z
LAST-MODIFIED:20181224T114528Z
UID:10659-1548374400-1548633599@nscurl.com
SUMMARY:Gold Star Bonspiel
DESCRIPTION:19th Annual Open Format\nLobster Supper Included\nAcadian Hospitality Throughout\nBonspiel Format: Open (Mens/Ladies/Mixed/any combination of players)\nDancing & Supper on Saturday \nSend your entry to clarecurling@eastlink.ca or by mail to: \nClare Curling Club\nBox 288\, Connector Rd\nMeteghan\, NS B0W 2J0 \nPayment:\nMake cheques Payable to: Clare Curling Club\nE-Transfer: clarecurling@eastlink.ca (use e-transfer pwd “curling”)
URL:https://nscurl.com/event/gold-star-bonspiel-2/
LOCATION:Clare Curling Association\, 32 Connector Road\, Meteghan\, Nova Scotia\, B0W 2J0\, Canada
CATEGORIES:Adult Bonspiels
ATTACH;FMTTYPE=image/jpeg:https://nscurl.com/wp-content/uploads/2018/12/Goldstar20181204.jpg
ORGANIZER;CN="Clare Curling Auxiliary":MAILTO:clarecurling@eastlilnk.ca
END:VEVENT
BEGIN:VEVENT
DTSTART;VALUE=DATE:20190125
DTEND;VALUE=DATE:20190128
DTSTAMP:20260425T235422
CREATED:20180813T165003Z
LAST-MODIFIED:20181031T111531Z
UID:9584-1548374400-1548633599@nscurl.com
SUMMARY:2019 Club Mixed Championship
DESCRIPTION:General Info\n\n \nRegistration\nPRESENTING SPONSOR \nThe Nova Scotia Curling Association is now using Curling Canada’s Curling IO system for all of its events. This is the same system that is used to register teams for all of their events. You are required to have a profile within their system in order to register. Creating an account is easy. You simply use one of your existing social media or email accounts. Once logged in\, you will be able to update your profile & register for any NSCA event. \n \n  \nPractice & Schedule Info\n  \nThe NSCA will make every attempt to release the draw schedule roughly two weeks prior to the event. Teams competing in the event should make the appropriate travel & lodging arrangements to ensure they can be at the venue by 8 am on day the event is scheduled to start in case they have the first pre-event practice or first draw of the event. Events leading to a Canadian Championship and requiring a pre-event practice\, this schedule will be released with the completed draw. In the event there is a larger than expected number of teams and the pre-event practices and/or draw cannot be completed in the time allotted for the event\, then the schedule will be extended the necessary day(s) and practices/draw one will commence on the first scheduled day of the event. Information on pre-event and in event practices can be found here. \n  \n\n\nRules\nThis event is governed by the NSCA’s Competition Rules and Curling Canada’s Rules for Officiated Play. In the event there is conflicting information provided\, the NSCA Competitions Director will make the final decision on which rule(s) will be used. \nThe NSCA’s Competition Rules can be viewed online. \nAge Requirements\nTo be eligible to compete in this event players must be 19 years of age or older prior to January 1\, 2019. \n\n\n  \nRELIVE CHAMPIONSHIP MOMENTS\n\n                    \n                                    \n                    \n                                                \n                                            \n                    \n                                    \n                                \n                \n            \n \n\n\n\n\nSchedule & Registered Teams\n\n \nPRESENTING SPONSOR \nAll information for this event can be found on the Curling IO page. \nTeams that have registered and have been approved for entry into the event will be listed in the team section of the event.  Complete lineups for teams will only be displayed if each player on the team has a valid Curling IO profile.  All players in Nova Scotia are encouraged to create one.
URL:https://nscurl.com/event/2019-club-mixed-championship/
LOCATION:Middleton Curling Club\, 6 King Street\, Middleton\, Nova Scotia\, B0S 1P0\, Canada
CATEGORIES:Adult Events
ATTACH;FMTTYPE=image/jpeg:https://nscurl.com/wp-content/uploads/2018/04/NSCA.jpg
ORGANIZER;CN="Marion MacAulay%2C NSCA Competitions Director":MAILTO:marionmacaulay@gmail.com
END:VEVENT
END:VCALENDAR