BEGIN:VCALENDAR
VERSION:2.0
PRODID:-//Nova Scotia Curling Association - ECPv6.15.20//NONSGML v1.0//EN
CALSCALE:GREGORIAN
METHOD:PUBLISH
X-ORIGINAL-URL:https://nscurl.com
X-WR-CALDESC:Events for Nova Scotia Curling Association
REFRESH-INTERVAL;VALUE=DURATION:PT1H
X-Robots-Tag:noindex
X-PUBLISHED-TTL:PT1H
BEGIN:VTIMEZONE
TZID:America/Halifax
BEGIN:DAYLIGHT
TZOFFSETFROM:-0400
TZOFFSETTO:-0300
TZNAME:ADT
DTSTART:20180311T060000
END:DAYLIGHT
BEGIN:STANDARD
TZOFFSETFROM:-0300
TZOFFSETTO:-0400
TZNAME:AST
DTSTART:20181104T050000
END:STANDARD
BEGIN:DAYLIGHT
TZOFFSETFROM:-0400
TZOFFSETTO:-0300
TZNAME:ADT
DTSTART:20190310T060000
END:DAYLIGHT
BEGIN:STANDARD
TZOFFSETFROM:-0300
TZOFFSETTO:-0400
TZNAME:AST
DTSTART:20191103T050000
END:STANDARD
BEGIN:DAYLIGHT
TZOFFSETFROM:-0400
TZOFFSETTO:-0300
TZNAME:ADT
DTSTART:20200308T060000
END:DAYLIGHT
BEGIN:STANDARD
TZOFFSETFROM:-0300
TZOFFSETTO:-0400
TZNAME:AST
DTSTART:20201101T050000
END:STANDARD
END:VTIMEZONE
BEGIN:VEVENT
DTSTART;VALUE=DATE:20190222
DTEND;VALUE=DATE:20190225
DTSTAMP:20260424T054752
CREATED:20180814T105118Z
LAST-MODIFIED:20190109T122925Z
UID:9701-1550793600-1551052799@nscurl.com
SUMMARY:2019 Harding Medical Wheelchair Championship
DESCRIPTION:General Info\n\n \nRegistration\nPRESENTING SPONSOR \nThe Nova Scotia Curling Association is now using Curling Canada’s Curling IO system for all of its events. This is the same system that is used to register teams for all of their events. You are required to have a profile within their system in order to register. Creating an account is easy. You simply use one of your existing social media or email accounts. Once logged in\, you will be able to update your profile & register for any NSCA event. \n \n  \nPractice & Schedule Info\n \nThe NSCA will make every attempt to release the draw schedule roughly two weeks prior to the event. Teams competing in the event should make the appropriate travel & lodging arrangements to ensure they can be at the venue by 8 am on day the event is scheduled to start in case they have the first pre-event practice or first draw of the event. Events leading to a Canadian Championship and requiring a pre-event practice\, this schedule will be released with the completed draw. In the event there is a larger than expected number of teams and the pre-event practices and/or draw cannot be completed in the time allotted for the event\, then the schedule will be extended the necessary day(s) and practices/draw one will commence on the first scheduled day of the event. Information on pre-event and in event practices can be found here. \n  \n\n\nRules\nThis event is governed by the NSCA’s Competition Rules and Curling Canada’s Rules for Officiated Play. In the event there is conflicting information provided\, the NSCA Competitions Director will make the final decision on which rule(s) will be used. \nThe NSCA’s Competition Rules can be viewed online. \nAge Requirements\nThere is no age restriction for this event. \n\n\n  \n  \nRELIVE CHAMPIONSHIP MOMENTS\n\n                    \n                                    \n                    \n                                                \n                                            \n                    \n                                    \n                                \n                \n            \n \n\n\n\n\nSchedule & Registered Teams\n\n \nPRESENTING SPONSOR \nAll information for this event can be found on the Curling IO page. \nTeams that have registered and have been approved for entry into the event will be listed in the team section of the event.  Complete lineups for teams will only be displayed if each player on the team has a valid Curling IO profile.  All players in Nova Scotia are encouraged to create one. \n\nPast Champions\n\n \n\n\n\n\n	YearWinning ClubSkipThirdSecondLeadAlternateCoachCC/WC\n\n\n\n\n	2025LakeshoreLaughlin RuttStephen ParfitHarris JoseyMarie Ann MacEachernNicholas TaylorStewart Slauenwhite\n\n\n	2024Did Not Compete\n\n\n	2023LakeshoreLaughlin RuttStephen ParfittRose PearleEdie LloydStewart Slauenwhite\n\n\n	2022LakeshoreLaughlin RuttStephen ParfittRose PearleEdie Lloyd Stewart Slauenwhite\n\n\n	2021None due to COVID\n\n\n	2020LakeshoreLaughie RuttSteve ParfittRose PearleStewart SlauenwhiteStewart Slauenwhite\n\n\n	2019LakeshoreTrendal Hubley-BolivarTerry CousineauKeith WilliamsDebbie MorganBill Fletcher\n\n\n	2018LakeshoreTrendal Hubley-BolivarTerry CousineauKeith WilliamsDebbie MorganBill Fletcher\n\n\n	2017LakeshoreTrendal Hubley-BolivarTerry CousineauKeith WilliamsDebbie MorganJoe Murphy\n\n\n	2016LakeshoreTrendal Hubley-BolivarTerry CousineauKeith WilliamsDebbie MorganBruce Wilkie\n\n\n	2015LakeshoreTrendal Hubley - BolivarTerry CousineauKeith WilliamsDebbie MorganBruce Wilkie\n\n\n	2014LakeshoreGeorge HorningLaughie RuttSteve ParfittPaige FougereSteve AuldStew Slauenwhite\n\n\n	2013LakeshoreTrendal Hubley - BolivarDevin ForbesKeith WilliamsDebbie EarleTerry CousineauBill Fletcher\n\n\n	2012LakeshoreRichard BrownTerry CousineauSteve ParfittPaige FougereBill Fletcher\n\n\n	2011LakeshoreMichael FitzgeraldLaughie RuttTrendal Hubley - BolivarDeborah EarleGlen McClare\n\n\n	2010LakeshoreMichael FitzgeraldLaughie RuttTrendal Hubley - BolivarDeborah EarleGlen McClare\n\n\n	2009LakeshoreMichael FitzgeraldLaughie RuttTrendal Hubley - BolivarNicole DurandWilliam Fletcher
URL:https://nscurl.com/event/2019-wheelchair-championship/
LOCATION:Bluenose Curling Club\, 234 Park Street\, New Glasgow\, Nova Scotia\, B2H 5E5\, Canada
CATEGORIES:Adult Events,Junior Events
ATTACH;FMTTYPE=image/jpeg:https://nscurl.com/wp-content/uploads/2018/08/HardingMedicalLogo.jpg
ORGANIZER;CN="Marion MacAulay%2C NSCA Competitions Director":MAILTO:marionmacaulay@gmail.com
END:VEVENT
BEGIN:VEVENT
DTSTART;VALUE=DATE:20190222
DTEND;VALUE=DATE:20190225
DTSTAMP:20260424T054752
CREATED:20181129T014410Z
LAST-MODIFIED:20181129T014410Z
UID:10489-1550793600-1551052799@nscurl.com
SUMMARY:Tropicurl
DESCRIPTION:Tropicurl is a fun\, annual mixed team bonspiel.  The weekend includes a champagne brunch (Saturday)\, Tropicurl dance party (Saturday night)\, snacks and drinks\, and lots of good curling!  There are heaps of prizes for each of the draws as well as prizes for the best tropical outfits\, hula hoops contests\, and limbo!  Come and have a ton of tropical fun at the Glooscap Curling Club.
URL:https://nscurl.com/event/tropicurl/
LOCATION:Glooscap Curling Club\, 17 Crescent Avenue\, Kentville\, Nova Scotia\, B4N 3V9\, Canada
CATEGORIES:Adult Bonspiels
ATTACH;FMTTYPE=image/png:https://nscurl.com/wp-content/uploads/2018/11/Tropicurl-Registration-Form.png
ORGANIZER;CN="Steph & Katie":MAILTO:tropicurlkentville@gmail.com
END:VEVENT
END:VCALENDAR