BEGIN:VCALENDAR
VERSION:2.0
PRODID:-//Nova Scotia Curling Association - ECPv6.15.20//NONSGML v1.0//EN
CALSCALE:GREGORIAN
METHOD:PUBLISH
X-WR-CALNAME:Nova Scotia Curling Association
X-ORIGINAL-URL:https://nscurl.com
X-WR-CALDESC:Events for Nova Scotia Curling Association
REFRESH-INTERVAL;VALUE=DURATION:PT1H
X-Robots-Tag:noindex
X-PUBLISHED-TTL:PT1H
BEGIN:VTIMEZONE
TZID:America/Halifax
BEGIN:DAYLIGHT
TZOFFSETFROM:-0400
TZOFFSETTO:-0300
TZNAME:ADT
DTSTART:20180311T060000
END:DAYLIGHT
BEGIN:STANDARD
TZOFFSETFROM:-0300
TZOFFSETTO:-0400
TZNAME:AST
DTSTART:20181104T050000
END:STANDARD
BEGIN:DAYLIGHT
TZOFFSETFROM:-0400
TZOFFSETTO:-0300
TZNAME:ADT
DTSTART:20190310T060000
END:DAYLIGHT
BEGIN:STANDARD
TZOFFSETFROM:-0300
TZOFFSETTO:-0400
TZNAME:AST
DTSTART:20191103T050000
END:STANDARD
BEGIN:DAYLIGHT
TZOFFSETFROM:-0400
TZOFFSETTO:-0300
TZNAME:ADT
DTSTART:20200308T060000
END:DAYLIGHT
BEGIN:STANDARD
TZOFFSETFROM:-0300
TZOFFSETTO:-0400
TZNAME:AST
DTSTART:20201101T050000
END:STANDARD
END:VTIMEZONE
BEGIN:VEVENT
DTSTART;VALUE=DATE:20190308
DTEND;VALUE=DATE:20190313
DTSTAMP:20260423T214758
CREATED:20180815T104044Z
LAST-MODIFIED:20181031T112501Z
UID:9770-1552003200-1552352399@nscurl.com
SUMMARY:2019 Under 18 Men’s Championship
DESCRIPTION:General Info\n\n \nRegistration\nPRESENTING SPONSOR \nThe Nova Scotia Curling Association is now using Curling Canada’s Curling IO system for all of its events. This is the same system that is used to register teams for all of their events. You are required to have a profile within their system in order to register. Creating an account is easy. You simply use one of your existing social media or email accounts. Once logged in\, you will be able to update your profile & register for any NSCA event. \n \n  \nPractice & Schedule Info\n \nThe NSCA will make every attempt to release the draw schedule roughly two weeks prior to the event. Teams competing in the event should make the appropriate travel & lodging arrangements to ensure they can be at the venue by 8 am on day the event is scheduled to start in case they have the first pre-event practice or first draw of the event. Events leading to a Canadian Championship and requiring a pre-event practice\, this schedule will be released with the completed draw. In the event there is a larger than expected number of teams and the pre-event practices and/or draw cannot be completed in the time allotted for the event\, then the schedule will be extended the necessary day(s) and practices/draw one will commence on the first scheduled day of the event. Information on pre-event and in event practices can be found here. \n  \n\n\nRules\nThis event is governed by the NSCA’s Competition Rules and Curling Canada’s Rules for Officiated Play. In the event there is conflicting information provided\, the NSCA Competitions Director will make the final decision on which rule(s) will be used. \nThe NSCA’s Competition Rules can be viewed online. \nAge Requirements\nTo be eligible to compete in this event players must be 17 years of age or younger prior to July 1\, 2018. \n\n\n  \n  \nRELIVE CHAMPIONSHIP MOMENTS\n\n                    \n                                    \n                    \n                                                \n                                            \n                    \n                                    \n                                \n                \n            \n \n\n\n\n\nSchedule & Registered Teams\n\n \nPRESENTING SPONSOR \nAll information for this event can be found on the Curling IO page. \nTeams that have registered and have been approved for entry into the event will be listed in the team section of the event.  Complete lineups for teams will only be displayed if each player on the team has a valid Curling IO profile.  All players in Nova Scotia are encouraged to create one. \n\nPast Champions\n\n \n\n\n\n\n	YearWinning ClubSkipThirdSecondLeadAlternateCoachCC\n\n\n\n\n	2025HalifaxZach AthertonAlan FawcettTyler McMullenJed FreemanJoel Krats\n\n\n	2024HalifaxZach AthertonAlan FawcettTyler McMullenBrennan SmithJoel Krats\n\n\n	2023HalifaxNick MosherOwen McPhersonEvan HennigarAidan MacDonaldDanny Christianson\n\n\n	2022TruroCalan MacIsaacNathan GrayOwain FisherChristopher McCurdyCraig Burgess\n\n\n	2021None due to COVID\n\n\n	2020LunenburgAdam CurrieBenjamin CurrieNathan AllenConnor HainesNick Deagle\n\n\n	2019TruroAdam McEachrenOwen PurcellAlex McDonahScott WeagleAnthony Purcell\n\n\n	2018ChesterGraeme WeagleOwen PurcellJeffrey MeagherScott WeagleAnthony Purcell\n\n\n	2017Ryan AbrahamMitchell CortelloJake FlemmingThomas MosherPaul Flemming
URL:https://nscurl.com/event/2019-under-18-mens-championship-2/
LOCATION:Truro Curling Club\, 56 Young Street\, Truro\, Nova Scotia\, B2N 5C7\, Canada
CATEGORIES:Junior Events
ATTACH;FMTTYPE=image/jpeg:https://nscurl.com/wp-content/uploads/2018/04/NSCA.jpg
ORGANIZER;CN="Marion MacAulay%2C NSCA Competitions Director":MAILTO:marionmacaulay@gmail.com
END:VEVENT
BEGIN:VEVENT
DTSTART;VALUE=DATE:20190308
DTEND;VALUE=DATE:20190313
DTSTAMP:20260423T214758
CREATED:20180815T105146Z
LAST-MODIFIED:20181031T112535Z
UID:9779-1552003200-1552352399@nscurl.com
SUMMARY:2019 Under 18 Women's Championship
DESCRIPTION:General Info\n\n \nRegistration\nPRESENTING SPONSOR \nThe Nova Scotia Curling Association is now using Curling Canada’s Curling IO system for all of its events. This is the same system that is used to register teams for all of their events. You are required to have a profile within their system in order to register. Creating an account is easy. You simply use one of your existing social media or email accounts. Once logged in\, you will be able to update your profile & register for any NSCA event. \n \n  \nPractice & Schedule Info\n \nThe NSCA will make every attempt to release the draw schedule roughly two weeks prior to the event. Teams competing in the event should make the appropriate travel & lodging arrangements to ensure they can be at the venue by 8 am on day the event is scheduled to start in case they have the first pre-event practice or first draw of the event. Events leading to a Canadian Championship and requiring a pre-event practice\, this schedule will be released with the completed draw. In the event there is a larger than expected number of teams and the pre-event practices and/or draw cannot be completed in the time allotted for the event\, then the schedule will be extended the necessary day(s) and practices/draw one will commence on the first scheduled day of the event. Information on pre-event and in event practices can be found here. \n  \n\n\nRules\nThis event is governed by the NSCA’s Competition Rules and Curling Canada’s Rules for Officiated Play. In the event there is conflicting information provided\, the NSCA Competitions Director will make the final decision on which rule(s) will be used. \nThe NSCA’s Competition Rules can be viewed online. \nAge Requirements\nTo be eligible to compete in this event players must be 17 years of age or younger prior to July 1\, 2018. \n\n\n  \n  \nRELIVE CHAMPIONSHIP MOMENTS\n\n                    \n                                    \n                    \n                                                \n                                            \n                    \n                                    \n                                \n                \n            \n \n\n\n\n\nSchedule & Registered Teams\n\n \nPRESENTING SPONSOR \nAll information for this event can be found on the Curling IO page. \nTeams that have registered and have been approved for entry into the event will be listed in the team section of the event.  Complete lineups for teams will only be displayed if each player on the team has a valid Curling IO profile.  All players in Nova Scotia are encouraged to create one. \n\nPast Champions\n\n \n\n\n\n\n	YearWinning ClubSkipThirdSecondLeadAlternateCoachCC\n\n\n\n\n	2025HalifaxCassidy BladesSteffi AthertonAnna MacNuttLily MitchellAndrew Atherton\n\n\n	2024LakeshoreRebecca ReganOlivia McDonahMackenzie HiltzElla KinleyMichel Ladouceur\n\n\n	2023LakeshoreRebecca ReganMackenzie HiltzElla WilsonElla KinleyAce MacDonaldMichel Ladouceur\n\n\n	2022MayflowerMarin CallaghanMaria FitzgeraldMacKenzie HillPeyton BowserMike Callaghan\n\n\n	2021None due to COVID\n\n\n	2020BridgewaterKatelyn NoddingCally MooreLydia LockeAllison UmlahScott Nodding\n\n\n	2019MayflowerCally MooreTaylour StevensCassidy CurrieCate FitzgeraldRob Moore\n\n\n	2018LakeshoreIsabelle LadouceurEmilie ProulxKate CallaghanMakayla HarnishElsa Nauss Brian Rafuse\n\n\n	2017MayflowerCally MooreCassidy CurrieAlexis ChiassonCate FitzgeraldRob Moore
URL:https://nscurl.com/event/2019-under-18-womens-championship/
LOCATION:Truro Curling Club\, 56 Young Street\, Truro\, Nova Scotia\, B2N 5C7\, Canada
CATEGORIES:Junior Events
ATTACH;FMTTYPE=image/jpeg:https://nscurl.com/wp-content/uploads/2018/04/NSCA.jpg
ORGANIZER;CN="Marion MacAulay%2C NSCA Competitions Director":MAILTO:marionmacaulay@gmail.com
END:VEVENT
BEGIN:VEVENT
DTSTART;VALUE=DATE:20190308
DTEND;VALUE=DATE:20190312
DTSTAMP:20260423T214758
CREATED:20181206T115825Z
LAST-MODIFIED:20181206T115825Z
UID:10587-1552003200-1552265999@nscurl.com
SUMMARY:Ice Cup Open Bonspiel
DESCRIPTION:Second annual Ice Cup Open Bonspiel: \nAll skill levels (19+)\n3 game Guarantee\n6 end Games\nSaturday night supper and dance with live music!\nTons of Prizes! \nRegistration: $240/team\, Deadline February 28th\nEarly Bird Registration: $200/team before January 31st \nRegistration open now at www.halifaxcurl.com under “Events”. \nLast years event was so much fun and we can’t wait to see you all again this year!
URL:https://nscurl.com/event/ice-cup-open-bonspiel-2/
LOCATION:Halifax Curling Club\, 948 South Bland Street\, Halifax\, Nova Scotia\, B3H 2S5\, Canada
CATEGORIES:Adult Bonspiels
ATTACH;FMTTYPE=image/jpeg:https://nscurl.com/wp-content/uploads/2018/12/Curling-Poster.jpg
ORGANIZER;CN="Peter Zablocki":MAILTO:pzablocki@oregans.com
END:VEVENT
BEGIN:VEVENT
DTSTART;TZID=America/Halifax:20190308T150000
DTEND;TZID=America/Halifax:20190310T180000
DTSTAMP:20260423T214758
CREATED:20180928T091818Z
LAST-MODIFIED:20180928T091818Z
UID:10142-1552057200-1552240800@nscurl.com
SUMMARY:Liverpool Lobster Spiel
DESCRIPTION:24-team open format for mens\, women or mixed teams 19 years or older at the Liverpool Curling Club. 3 8-end games guaranteed\, along with a skills competition\, prizes\, and a meal. Entry fee is $225.00\, for registration or any other questions email Wade Davison at lobsterspiel@gmail.com.
URL:https://nscurl.com/event/liverpool-lobster-spiel/
LOCATION:Liverpool Curling Club\, 108 Gorham\, Liverpool\, Nova Scotia\, B0T 1K0\, Canada
CATEGORIES:Adult Bonspiels
ORGANIZER;CN="Wade Davison":MAILTO:lobsterspiel@gmail.com
END:VEVENT
BEGIN:VEVENT
DTSTART;TZID=America/Halifax:20190308T160000
DTEND;TZID=America/Halifax:20190310T180000
DTSTAMP:20260423T214758
CREATED:20180830T095855Z
LAST-MODIFIED:20180830T095855Z
UID:9923-1552060800-1552240800@nscurl.com
SUMMARY:Apple Spiel - Larsen Curling Centre - Home of Berwick Curling Club
DESCRIPTION:Mixed Curling Bonspiel – teams must consist of male and female alternately\nGuaranteed three 8 end games\nFriday night – sandwiches and snacks\nSaturday – lunch provided\nSaturday night – Wine & Cheese plus dance\nSunday – Championship Games\nOpen to first 24 teams; registration deadline March 2\, 2019 \nRegistration – Contact Danny Vaughan at danny.vaughan@ns.sympatico.ca or 902 679-3736
URL:https://nscurl.com/event/apple-spiel-larsen-curling-centre-home-of-berwick-curling-club/
LOCATION:Berwick Curling Club\, 250 Veteran’s Drive\, Berwick\, Nova Scotia\, B0P 1E0\, Canada
CATEGORIES:Adult Bonspiels
END:VEVENT
END:VCALENDAR