BEGIN:VCALENDAR
VERSION:2.0
PRODID:-//Nova Scotia Curling Association - ECPv6.15.20//NONSGML v1.0//EN
CALSCALE:GREGORIAN
METHOD:PUBLISH
X-WR-CALNAME:Nova Scotia Curling Association
X-ORIGINAL-URL:https://nscurl.com
X-WR-CALDESC:Events for Nova Scotia Curling Association
REFRESH-INTERVAL;VALUE=DURATION:PT1H
X-Robots-Tag:noindex
X-PUBLISHED-TTL:PT1H
BEGIN:VTIMEZONE
TZID:America/Halifax
BEGIN:DAYLIGHT
TZOFFSETFROM:-0400
TZOFFSETTO:-0300
TZNAME:ADT
DTSTART:20180311T060000
END:DAYLIGHT
BEGIN:STANDARD
TZOFFSETFROM:-0300
TZOFFSETTO:-0400
TZNAME:AST
DTSTART:20181104T050000
END:STANDARD
BEGIN:DAYLIGHT
TZOFFSETFROM:-0400
TZOFFSETTO:-0300
TZNAME:ADT
DTSTART:20190310T060000
END:DAYLIGHT
BEGIN:STANDARD
TZOFFSETFROM:-0300
TZOFFSETTO:-0400
TZNAME:AST
DTSTART:20191103T050000
END:STANDARD
BEGIN:DAYLIGHT
TZOFFSETFROM:-0400
TZOFFSETTO:-0300
TZNAME:ADT
DTSTART:20200308T060000
END:DAYLIGHT
BEGIN:STANDARD
TZOFFSETFROM:-0300
TZOFFSETTO:-0400
TZNAME:AST
DTSTART:20201101T050000
END:STANDARD
END:VTIMEZONE
BEGIN:VEVENT
DTSTART;VALUE=DATE:20190314
DTEND;VALUE=DATE:20190319
DTSTAMP:20260423T214820
CREATED:20180815T111307Z
LAST-MODIFIED:20181031T112614Z
UID:9800-1552525200-1552870799@nscurl.com
SUMMARY:2019 Mixed Championship
DESCRIPTION:General Info\n\n \nRegistration\nPRESENTING SPONSOR \nThe Nova Scotia Curling Association is now using Curling Canada’s Curling IO system for all of its events. This is the same system that is used to register teams for all of their events. You are required to have a profile within their system in order to register. Creating an account is easy. You simply use one of your existing social media or email accounts. Once logged in\, you will be able to update your profile & register for any NSCA event. \n \n  \nPractice & Schedule Info\n  \nThe NSCA will make every attempt to release the draw schedule roughly two weeks prior to the event. Teams competing in the event should make the appropriate travel & lodging arrangements to ensure they can be at the venue by 8 am on day the event is scheduled to start in case they have the first pre-event practice or first draw of the event. Events leading to a Canadian Championship and requiring a pre-event practice\, this schedule will be released with the completed draw. In the event there is a larger than expected number of teams and the pre-event practices and/or draw cannot be completed in the time allotted for the event\, then the schedule will be extended the necessary day(s) and practices/draw one will commence on the first scheduled day of the event. Information on pre-event and in event practices can be found here. \n  \n\n\nRules\nThis event is governed by the NSCA’s Competition Rules and Curling Canada’s Rules for Officiated Play. In the event there is conflicting information provided\, the NSCA Competitions Director will make the final decision on which rule(s) will be used. \nThe NSCA’s Competition Rules can be viewed online. \nAge Requirements\nThere is no age restriction to play in this event. \n\n\n  \n  \nRELIVE CHAMPIONSHIP MOMENTS\n\n                    \n                                    \n                    \n                                                \n                                            \n                    \n                                    \n                                \n                \n            \n \n\n\n\n\nSchedule & Registered Teams\n\n \nPRESENTING SPONSOR \nAll information for this event can be found on the Curling IO page. \nTeams that have registered and have been approved for entry into the event will be listed in the team section of the event.  Complete lineups for teams will only be displayed if each player on the team has a valid Curling IO profile.  All players in Nova Scotia are encouraged to create one. \n\nPast Champions\n\n \n\n\n\n\n	YearWinning ClubSkipThirdSecondLeadCoachCC\n\n\n\n\n	2025HalifaxBrent MacDougallErin CarmodyChris JeffreyJenn Mitchell\n\n\n	2024HalifaxOwen PurcellChristina BlackAdam McEachrenJenn Baxter\n\n\n	2023HalifaxPaul FlemmingMarlee PowersLuke SaundersColleen Jones\n\n\n	2022HalifaxPaul FlemmingMarie ChristiansonScott SaccaryJill Brothers\n\n\n	2021TruroCraig BurgessColleen PinkneyTodd BurgessShelley MacNutt\n\n\n	2020None due to COVID\n\n\n	2019NSCAPeter BurgessColleen JonesLuke SaundersLindsey Burgess\n\n\n	2018MayflowerKendal ThompsonMarie ChristiansonBryce EveristKarlee Jones\n\n\n	2017DartmouthBrent MacDougallChristina BlackGraham BreckonJennifer Crouse\n\n\n	2016MayflowerPaul FlemmingChristie GambleTyler GambleTeri Udle\n\n\n	2015WindsorDoug MacKenzieJocelyn NixRichard BarkerShelley Barker\n\n\n	2014MayflowerBrent MacDougallChristina BlackKris GranchelliJane Synder\n\n\n	2013MayflowerRob HarrisMary MattatallCameron MacKenzieKatarina Hakasson\n\n\n	2012MayflowerBrent MacDougallChristina BlackKris GranchelliJane Synder\n\n\n	2011MayflowerPaul FlemmingKelly MacIntoshGlen McLeodTheresa Breen\n\n\n	2010MayflowerChris SutherlandKelly MacIntoshGlen McLeodJennifer Crouse\n\n\n	2008MayflowerMark DaceyHeather Smith-DaceyDavid StephensonLisa Stephenson\n\n\n	2009MayflowerMark DaceyHeather Smith-DaceyAndrew GibsonJill Mouzar+\n\n\n	2007TruroPeter BurgessColleen PinkneyChuck PatriquinShelley MacNutt\n\n\n	2006DartmouthMike RobinsonTracey LeslieOwen GrahamDenice Nicholson\n\n\n	2006BridgewaterBrian RafuseLaura FultzDave SlauenwhiteAlexis Sinclair \n\n\n	2005MayflowerPaul FlemmingMelanie ComstockAlan CameronHayley Clarke\n\n\n	2004MayflowerSteve OgdenMonica MoriartyJack RobarMarg Cutcliffe\n\n\n	2003MayflowerPaul FlemmingKim KellyTom FetterlyCathy Donald+\n\n\n	2002MayflowerMark DaceyHeather Smith-DaceyRob HarrisLaine Peters+\n\n\n	2001MayflowerMark DaceyHeather Smith-DaceyRob HarrisLaine Peters\n\n\n	2000MayflowerMark DaceyHeather Smith-DaceyRob HarrisLaine Peters
URL:https://nscurl.com/event/2019-mixed-championship/
LOCATION:Strait Area Community Curling Club\, 15 MacQuarrie Dive Extension\, Port Hawkesbury\, Nova Scotia\, B9A 3A3\, Canada
CATEGORIES:Adult Events,Junior Events
ATTACH;FMTTYPE=image/jpeg:https://nscurl.com/wp-content/uploads/2018/04/NSCA.jpg
ORGANIZER;CN="Marion MacAulay%2C NSCA Competitions Director":MAILTO:marionmacaulay@gmail.com
END:VEVENT
BEGIN:VEVENT
DTSTART;VALUE=DATE:20190315
DTEND;VALUE=DATE:20190319
DTSTAMP:20260423T214820
CREATED:20180815T105806Z
LAST-MODIFIED:20181031T112648Z
UID:9785-1552611600-1552870799@nscurl.com
SUMMARY:2019 Men's Club Curler Championship
DESCRIPTION:General Info\n\n \nRegistration\nPRESENTING SPONSOR \nThe Nova Scotia Curling Association is now using Curling Canada’s Curling IO system for all of its events. This is the same system that is used to register teams for all of their events. You are required to have a profile within their system in order to register. Creating an account is easy. You simply use one of your existing social media or email accounts. Once logged in\, you will be able to update your profile & register for any NSCA event. \n \n  \nPractice & Schedule Info\n  \nThe NSCA will make every attempt to release the draw schedule roughly two weeks prior to the event. Teams competing in the event should make the appropriate travel & lodging arrangements to ensure they can be at the venue by 8 am on day the event is scheduled to start in case they have the first pre-event practice or first draw of the event. Events leading to a Canadian Championship and requiring a pre-event practice\, this schedule will be released with the completed draw. In the event there is a larger than expected number of teams and the pre-event practices and/or draw cannot be completed in the time allotted for the event\, then the schedule will be extended the necessary day(s) and practices/draw one will commence on the first scheduled day of the event. Information on pre-event and in event practices can be found here. \n  \n\n\nRules\nThis event is governed by the NSCA’s Competition Rules and Curling Canada’s Rules for Officiated Play. In the event there is conflicting information provided\, the NSCA Competitions Director will make the final decision on which rule(s) will be used. \nThe NSCA’s Competition Rules can be viewed online. \nAge Requirements\nTo be eligible to compete in this event players must be 19 years of age or older prior to January 1\, 2019. \n\n\n  \n  \nRELIVE CHAMPIONSHIP MOMENTS\n\n                    \n                                    \n                    \n                                                \n                                            \n                    \n                                    \n                                \n                \n            \n \n\n\n\n\nSchedule & Registered Teams\n\n \nPRESENTING SPONSOR \nAll information for this event can be found on the Curling IO page. \nTeams that have registered and have been approved for entry into the event will be listed in the team section of the event.  Complete lineups for teams will only be displayed if each player on the team has a valid Curling IO profile.  All players in Nova Scotia are encouraged to create one.
URL:https://nscurl.com/event/2019-mens-club-curler-championship/
LOCATION:Glooscap Curling Club\, 17 Crescent Avenue\, Kentville\, Nova Scotia\, B4N 3V9\, Canada
CATEGORIES:Adult Events,Junior Events
ATTACH;FMTTYPE=image/jpeg:https://nscurl.com/wp-content/uploads/2018/04/NSCA.jpg
ORGANIZER;CN="Marion MacAulay%2C NSCA Competitions Director":MAILTO:marionmacaulay@gmail.com
END:VEVENT
BEGIN:VEVENT
DTSTART;VALUE=DATE:20190315
DTEND;VALUE=DATE:20190319
DTSTAMP:20260423T214820
CREATED:20180815T110058Z
LAST-MODIFIED:20181031T112727Z
UID:9789-1552611600-1552870799@nscurl.com
SUMMARY:2019 Women's Club Curler Championship
DESCRIPTION:General Info\n\n \nRegistration\nPRESENTING SPONSOR \nThe Nova Scotia Curling Association is now using Curling Canada’s Curling IO system for all of its events. This is the same system that is used to register teams for all of their events. You are required to have a profile within their system in order to register. Creating an account is easy. You simply use one of your existing social media or email accounts. Once logged in\, you will be able to update your profile & register for any NSCA event. \n \n  \nPractice & Schedule Info\n  \nThe NSCA will make every attempt to release the draw schedule roughly two weeks prior to the event. Teams competing in the event should make the appropriate travel & lodging arrangements to ensure they can be at the venue by 8 am on day the event is scheduled to start in case they have the first pre-event practice or first draw of the event. Events leading to a Canadian Championship and requiring a pre-event practice\, this schedule will be released with the completed draw. In the event there is a larger than expected number of teams and the pre-event practices and/or draw cannot be completed in the time allotted for the event\, then the schedule will be extended the necessary day(s) and practices/draw one will commence on the first scheduled day of the event. Information on pre-event and in event practices can be found here. \n  \n\n\nRules\nThis event is governed by the NSCA’s Competition Rules and Curling Canada’s Rules for Officiated Play. In the event there is conflicting information provided\, the NSCA Competitions Director will make the final decision on which rule(s) will be used. \nThe NSCA’s Competition Rules can be viewed online. \nAge Requirements\nTo be eligible to compete in this event players must be 19 years of age or older prior to January 1\, 2019. \n\n\n  \n  \nRELIVE CHAMPIONSHIP MOMENTS\n\n                    \n                                    \n                    \n                                                \n                                            \n                    \n                                    \n                                \n                \n            \n \n\n\n\n\nSchedule & Registered Teams\n\n \nPRESENTING SPONSOR \nAll information for this event can be found on the Curling IO page. \nTeams that have registered and have been approved for entry into the event will be listed in the team section of the event.  Complete lineups for teams will only be displayed if each player on the team has a valid Curling IO profile.  All players in Nova Scotia are encouraged to create one.
URL:https://nscurl.com/event/2019-womens-club-curler-championship/
LOCATION:Glooscap Curling Club\, 17 Crescent Avenue\, Kentville\, Nova Scotia\, B4N 3V9\, Canada
CATEGORIES:Adult Events,Junior Events
ATTACH;FMTTYPE=image/jpeg:https://nscurl.com/wp-content/uploads/2018/04/NSCA.jpg
ORGANIZER;CN="Marion MacAulay%2C NSCA Competitions Director":MAILTO:marionmacaulay@gmail.com
END:VEVENT
BEGIN:VEVENT
DTSTART;VALUE=DATE:20190315
DTEND;VALUE=DATE:20190319
DTSTAMP:20260423T214820
CREATED:20180815T110522Z
LAST-MODIFIED:20181031T112806Z
UID:9792-1552611600-1552870799@nscurl.com
SUMMARY:2019 Under 16 Mixed Championship
DESCRIPTION:General Info\n\n \nRegistration\nPRESENTING SPONSOR \nThe Nova Scotia Curling Association is now using Curling Canada’s Curling IO system for all of its events. This is the same system that is used to register teams for all of their events. You are required to have a profile within their system in order to register. Creating an account is easy. You simply use one of your existing social media or email accounts. Once logged in\, you will be able to update your profile & register for any NSCA event. \n \n  \nPractice & Schedule Info\n  \nThe NSCA will make every attempt to release the draw schedule roughly two weeks prior to the event. Teams competing in the event should make the appropriate travel & lodging arrangements to ensure they can be at the venue by 8 am on day the event is scheduled to start in case they have the first pre-event practice or first draw of the event. Events leading to a Canadian Championship and requiring a pre-event practice\, this schedule will be released with the completed draw. In the event there is a larger than expected number of teams and the pre-event practices and/or draw cannot be completed in the time allotted for the event\, then the schedule will be extended the necessary day(s) and practices/draw one will commence on the first scheduled day of the event. Information on pre-event and in event practices can be found here. \n  \n\n\nRules\nThis event is governed by the NSCA’s Competition Rules and Curling Canada’s Rules for Officiated Play. In the event there is conflicting information provided\, the NSCA Competitions Director will make the final decision on which rule(s) will be used. \nThe NSCA’s Competition Rules can be viewed online. \nAge Requirements\nTo be eligible to compete in this event players must be 15 years of age or younger prior to July 1\, 2018. \n\n\n  \n  \nRELIVE CHAMPIONSHIP MOMENTS\n\n                    \n                                    \n                    \n                                                \n                                            \n                    \n                                    \n                                \n                \n            \n \n\n\n\n\nSchedule & Registered Teams\n\n \nPRESENTING SPONSOR \nAll information for this event can be found on the Curling IO page. \nTeams that have registered and have been approved for entry into the event will be listed in the team section of the event.  Complete lineups for teams will only be displayed if each player on the team has a valid Curling IO profile.  All players in Nova Scotia are encouraged to create one.
URL:https://nscurl.com/event/2019-under-16-mixed-championship/
LOCATION:Liverpool Curling Club\, 108 Gorham\, Liverpool\, Nova Scotia\, B0T 1K0\, Canada
CATEGORIES:Junior Events
ATTACH;FMTTYPE=image/jpeg:https://nscurl.com/wp-content/uploads/2018/04/NSCA.jpg
ORGANIZER;CN="Marion MacAulay%2C NSCA Competitions Director":MAILTO:marionmacaulay@gmail.com
END:VEVENT
BEGIN:VEVENT
DTSTART;VALUE=DATE:20190315
DTEND;VALUE=DATE:20190319
DTSTAMP:20260423T214820
CREATED:20180815T110851Z
LAST-MODIFIED:20181031T112831Z
UID:9797-1552611600-1552870799@nscurl.com
SUMMARY:2019 Under 19 Mixed Championship
DESCRIPTION:General Info\n\n \nRegistration\nPRESENTING SPONSOR \nThe Nova Scotia Curling Association is now using Curling Canada’s Curling IO system for all of its events. This is the same system that is used to register teams for all of their events. You are required to have a profile within their system in order to register. Creating an account is easy. You simply use one of your existing social media or email accounts. Once logged in\, you will be able to update your profile & register for any NSCA event. \n \n  \nPractice & Schedule Info\n  \nThe NSCA will make every attempt to release the draw schedule roughly two weeks prior to the event. Teams competing in the event should make the appropriate travel & lodging arrangements to ensure they can be at the venue by 8 am on day the event is scheduled to start in case they have the first pre-event practice or first draw of the event. Events leading to a Canadian Championship and requiring a pre-event practice\, this schedule will be released with the completed draw. In the event there is a larger than expected number of teams and the pre-event practices and/or draw cannot be completed in the time allotted for the event\, then the schedule will be extended the necessary day(s) and practices/draw one will commence on the first scheduled day of the event. Information on pre-event and in event practices can be found here. \n  \n\n\nRules\nThis event is governed by the NSCA’s Competition Rules and Curling Canada’s Rules for Officiated Play. In the event there is conflicting information provided\, the NSCA Competitions Director will make the final decision on which rule(s) will be used. \nThe NSCA’s Competition Rules can be viewed online. \nAge Requirements\nTo be eligible to compete in this event players must be 18 years of age or younger prior to July 1\, 2018. \n\n\n  \n  \nRELIVE CHAMPIONSHIP MOMENTS\n\n                    \n                                    \n                    \n                                                \n                                            \n                    \n                                    \n                                \n                \n            \n \n\n\n\n\nSchedule & Registered Teams\n\n \nPRESENTING SPONSOR \nAll information for this event can be found on the Curling IO page. \nTeams that have registered and have been approved for entry into the event will be listed in the team section of the event.  Complete lineups for teams will only be displayed if each player on the team has a valid Curling IO profile.  All players in Nova Scotia are encouraged to create one.
URL:https://nscurl.com/event/2019-under-19-mixed-championship/
LOCATION:Liverpool Curling Club\, 108 Gorham\, Liverpool\, Nova Scotia\, B0T 1K0\, Canada
CATEGORIES:Junior Events
ATTACH;FMTTYPE=image/jpeg:https://nscurl.com/wp-content/uploads/2018/04/NSCA.jpg
ORGANIZER;CN="Marion MacAulay%2C NSCA Competitions Director":MAILTO:marionmacaulay@gmail.com
END:VEVENT
END:VCALENDAR