BEGIN:VCALENDAR
VERSION:2.0
PRODID:-//Nova Scotia Curling Association - ECPv6.15.20//NONSGML v1.0//EN
CALSCALE:GREGORIAN
METHOD:PUBLISH
X-WR-CALNAME:Nova Scotia Curling Association
X-ORIGINAL-URL:https://nscurl.com
X-WR-CALDESC:Events for Nova Scotia Curling Association
REFRESH-INTERVAL;VALUE=DURATION:PT1H
X-Robots-Tag:noindex
X-PUBLISHED-TTL:PT1H
BEGIN:VTIMEZONE
TZID:America/Halifax
BEGIN:DAYLIGHT
TZOFFSETFROM:-0400
TZOFFSETTO:-0300
TZNAME:ADT
DTSTART:20180311T060000
END:DAYLIGHT
BEGIN:STANDARD
TZOFFSETFROM:-0300
TZOFFSETTO:-0400
TZNAME:AST
DTSTART:20181104T050000
END:STANDARD
BEGIN:DAYLIGHT
TZOFFSETFROM:-0400
TZOFFSETTO:-0300
TZNAME:ADT
DTSTART:20190310T060000
END:DAYLIGHT
BEGIN:STANDARD
TZOFFSETFROM:-0300
TZOFFSETTO:-0400
TZNAME:AST
DTSTART:20191103T050000
END:STANDARD
BEGIN:DAYLIGHT
TZOFFSETFROM:-0400
TZOFFSETTO:-0300
TZNAME:ADT
DTSTART:20200308T060000
END:DAYLIGHT
BEGIN:STANDARD
TZOFFSETFROM:-0300
TZOFFSETTO:-0400
TZNAME:AST
DTSTART:20201101T050000
END:STANDARD
END:VTIMEZONE
BEGIN:VEVENT
DTSTART;VALUE=DATE:20190322
DTEND;VALUE=DATE:20190326
DTSTAMP:20260423T214819
CREATED:20190115T142606Z
LAST-MODIFIED:20190208T145136Z
UID:10747-1553216400-1553475599@nscurl.com
SUMMARY:Berwick Junior Curling Spring Fun Spiel
DESCRIPTION:When: March 22-24\, 2019\nWhere: Berwick Curling Club\nAges: U12 (4 end games) & U14 (6 end games)\n(will take 12 teams for each age group)\neach team is guaranteed 4 games\nCost: $120.00 per team\nOpen to Valley and Yarmouth Teams first\nafter Jan 31/19 open to all other teams.\nDeadline :Feb 28 /19 \nContact: Alice McNeil\nalice.mailman@ns.sympatico.ca\n902-844-1085
URL:https://nscurl.com/event/berwick-junior-curling-spring-fun-spiel/
LOCATION:Berwick Curling Club\, 250 Veteran’s Drive\, Berwick\, Nova Scotia\, B0P 1E0\, Canada
CATEGORIES:Junior Bonspiels
ATTACH;FMTTYPE=image/jpeg:https://nscurl.com/wp-content/uploads/2019/01/Berwick-Jr.-Curling-into-Spring-Fun-Spiel-page-001.jpg
ORGANIZER;CN="Alice McNeil":MAILTO:alice.mailman@ns.sympatico.ca
END:VEVENT
END:VCALENDAR