BEGIN:VCALENDAR
VERSION:2.0
PRODID:-//Nova Scotia Curling Association - ECPv6.15.20//NONSGML v1.0//EN
CALSCALE:GREGORIAN
METHOD:PUBLISH
X-WR-CALNAME:Nova Scotia Curling Association
X-ORIGINAL-URL:https://nscurl.com
X-WR-CALDESC:Events for Nova Scotia Curling Association
REFRESH-INTERVAL;VALUE=DURATION:PT1H
X-Robots-Tag:noindex
X-PUBLISHED-TTL:PT1H
BEGIN:VTIMEZONE
TZID:America/Halifax
BEGIN:DAYLIGHT
TZOFFSETFROM:-0400
TZOFFSETTO:-0300
TZNAME:ADT
DTSTART:20180311T060000
END:DAYLIGHT
BEGIN:STANDARD
TZOFFSETFROM:-0300
TZOFFSETTO:-0400
TZNAME:AST
DTSTART:20181104T050000
END:STANDARD
BEGIN:DAYLIGHT
TZOFFSETFROM:-0400
TZOFFSETTO:-0300
TZNAME:ADT
DTSTART:20190310T060000
END:DAYLIGHT
BEGIN:STANDARD
TZOFFSETFROM:-0300
TZOFFSETTO:-0400
TZNAME:AST
DTSTART:20191103T050000
END:STANDARD
BEGIN:DAYLIGHT
TZOFFSETFROM:-0400
TZOFFSETTO:-0300
TZNAME:ADT
DTSTART:20200308T060000
END:DAYLIGHT
BEGIN:STANDARD
TZOFFSETFROM:-0300
TZOFFSETTO:-0400
TZNAME:AST
DTSTART:20201101T050000
END:STANDARD
END:VTIMEZONE
BEGIN:VEVENT
DTSTART;VALUE=DATE:20191005
DTEND;VALUE=DATE:20191008
DTSTAMP:20260423T105023
CREATED:20190702T162229Z
LAST-MODIFIED:20190702T162229Z
UID:11714-1570237200-1570409999@nscurl.com
SUMMARY:Competition Coach Introduction Workshop
DESCRIPTION:Cost: $175. 9:00 AM to 5:00 PM both days. \nPayment can be made on site using cheque (cheques made payable to the Nova Scotia Curling Association) or by credit card using the “Register Here” link below. Cash will not be accepted on site. \nRegistration must be completed via the Locker for ALL participants in order to receive credit for taking the workshop. Please click here to register on the Locker. \nREGISTER HERE
URL:https://nscurl.com/event/competition-coach-introduction-workshop-4/
LOCATION:Bridgewater Curling Club\, 90 Dominion Street\, Bridgewater\, Nova Scotia\, B4V 2K1\, Canada
CATEGORIES:Coaching Development,NCCP Training
ORGANIZER;CN="Andrew Paris":MAILTO:aparis@nscurl.com
END:VEVENT
END:VCALENDAR