BEGIN:VCALENDAR
VERSION:2.0
PRODID:-//Nova Scotia Curling Association - ECPv6.15.20//NONSGML v1.0//EN
CALSCALE:GREGORIAN
METHOD:PUBLISH
X-WR-CALNAME:Nova Scotia Curling Association
X-ORIGINAL-URL:https://nscurl.com
X-WR-CALDESC:Events for Nova Scotia Curling Association
REFRESH-INTERVAL;VALUE=DURATION:PT1H
X-Robots-Tag:noindex
X-PUBLISHED-TTL:PT1H
BEGIN:VTIMEZONE
TZID:America/Halifax
BEGIN:DAYLIGHT
TZOFFSETFROM:-0400
TZOFFSETTO:-0300
TZNAME:ADT
DTSTART:20180311T060000
END:DAYLIGHT
BEGIN:STANDARD
TZOFFSETFROM:-0300
TZOFFSETTO:-0400
TZNAME:AST
DTSTART:20181104T050000
END:STANDARD
BEGIN:DAYLIGHT
TZOFFSETFROM:-0400
TZOFFSETTO:-0300
TZNAME:ADT
DTSTART:20190310T060000
END:DAYLIGHT
BEGIN:STANDARD
TZOFFSETFROM:-0300
TZOFFSETTO:-0400
TZNAME:AST
DTSTART:20191103T050000
END:STANDARD
BEGIN:DAYLIGHT
TZOFFSETFROM:-0400
TZOFFSETTO:-0300
TZNAME:ADT
DTSTART:20200308T060000
END:DAYLIGHT
BEGIN:STANDARD
TZOFFSETFROM:-0300
TZOFFSETTO:-0400
TZNAME:AST
DTSTART:20201101T050000
END:STANDARD
END:VTIMEZONE
BEGIN:VEVENT
DTSTART;VALUE=DATE:20191018
DTEND;VALUE=DATE:20191022
DTSTAMP:20260423T105030
CREATED:20190912T102745Z
LAST-MODIFIED:20190912T102745Z
UID:11927-1571360400-1571619599@nscurl.com
SUMMARY:Second Annual Berwick Curling Club Housewarming Bonspiel
DESCRIPTION:Back by popular demand! Our first event in our new home was so successful last season that we’ve decided to make this an annual event. Come join us for a weekend of curling\, hospitality\, and fun at the Larsen Curling Centre.\nOpen team format\, 6 end games\, 3-game guarantee. First draw at 3 pm on Friday\, championship draws will be completed around 5 pm on Sunday.\nSandwiches provided after Friday draws\, lunch on Saturday\, DJ dance on Saturday night.
URL:https://nscurl.com/event/second-annual-berwick-curling-club-housewarming-bonspiel/
LOCATION:Berwick Curling Club\, 250 Veteran’s Drive\, Berwick\, Nova Scotia\, B0P 1E0\, Canada
CATEGORIES:Adult Bonspiels
ATTACH;FMTTYPE=image/jpeg:https://nscurl.com/wp-content/uploads/2019/09/Housewarming-Poster-2019.jpg
ORGANIZER;CN="Danny Vaughan":MAILTO:danny.vaughan@ns.sympatico.ca
END:VEVENT
END:VCALENDAR