BEGIN:VCALENDAR
VERSION:2.0
PRODID:-//Nova Scotia Curling Association - ECPv6.15.20//NONSGML v1.0//EN
CALSCALE:GREGORIAN
METHOD:PUBLISH
X-WR-CALNAME:Nova Scotia Curling Association
X-ORIGINAL-URL:https://nscurl.com
X-WR-CALDESC:Events for Nova Scotia Curling Association
REFRESH-INTERVAL;VALUE=DURATION:PT1H
X-Robots-Tag:noindex
X-PUBLISHED-TTL:PT1H
BEGIN:VTIMEZONE
TZID:America/Halifax
BEGIN:DAYLIGHT
TZOFFSETFROM:-0400
TZOFFSETTO:-0300
TZNAME:ADT
DTSTART:20180311T060000
END:DAYLIGHT
BEGIN:STANDARD
TZOFFSETFROM:-0300
TZOFFSETTO:-0400
TZNAME:AST
DTSTART:20181104T050000
END:STANDARD
BEGIN:DAYLIGHT
TZOFFSETFROM:-0400
TZOFFSETTO:-0300
TZNAME:ADT
DTSTART:20190310T060000
END:DAYLIGHT
BEGIN:STANDARD
TZOFFSETFROM:-0300
TZOFFSETTO:-0400
TZNAME:AST
DTSTART:20191103T050000
END:STANDARD
BEGIN:DAYLIGHT
TZOFFSETFROM:-0400
TZOFFSETTO:-0300
TZNAME:ADT
DTSTART:20200308T060000
END:DAYLIGHT
BEGIN:STANDARD
TZOFFSETFROM:-0300
TZOFFSETTO:-0400
TZNAME:AST
DTSTART:20201101T050000
END:STANDARD
END:VTIMEZONE
BEGIN:VEVENT
DTSTART;VALUE=DATE:20191108
DTEND;VALUE=DATE:20191111
DTSTAMP:20260423T091919
CREATED:20190916T101115Z
LAST-MODIFIED:20190916T112730Z
UID:11954-1573171200-1573430399@nscurl.com
SUMMARY:Jet Ice Ice Tech Level 1 Program
DESCRIPTION:Berwick Curling Club will host the Level I Ice Technician program Friday Nov 8 to Sunday\, Nov 11 with Chris Tapley as the facilitator. Cheques must be received by Nov 1st.  Registration open until Nov 6 at 9 am. For additional information\, please contact Virginia Jackson using the below information. \n \nThank you to Jet Ice for their tremendous support in helping to put on this event!
URL:https://nscurl.com/event/jet-ice-ice-tech-level-1-program/
LOCATION:Berwick Curling Club\, 250 Veteran’s Drive\, Berwick\, Nova Scotia\, B0P 1E0\, Canada
CATEGORIES:Ice Tech Development
ATTACH;FMTTYPE=image/jpeg:https://nscurl.com/wp-content/uploads/2015/08/jetice2.jpg
ORGANIZER;CN="Virginia Jackson%2C Executive Director%2C NSCA":MAILTO:vjackson@nscurl.com
END:VEVENT
END:VCALENDAR