BEGIN:VCALENDAR
VERSION:2.0
PRODID:-//Nova Scotia Curling Association - ECPv6.15.20//NONSGML v1.0//EN
CALSCALE:GREGORIAN
METHOD:PUBLISH
X-ORIGINAL-URL:https://nscurl.com
X-WR-CALDESC:Events for Nova Scotia Curling Association
REFRESH-INTERVAL;VALUE=DURATION:PT1H
X-Robots-Tag:noindex
X-PUBLISHED-TTL:PT1H
BEGIN:VTIMEZONE
TZID:America/Halifax
BEGIN:DAYLIGHT
TZOFFSETFROM:-0400
TZOFFSETTO:-0300
TZNAME:ADT
DTSTART:20180311T060000
END:DAYLIGHT
BEGIN:STANDARD
TZOFFSETFROM:-0300
TZOFFSETTO:-0400
TZNAME:AST
DTSTART:20181104T050000
END:STANDARD
BEGIN:DAYLIGHT
TZOFFSETFROM:-0400
TZOFFSETTO:-0300
TZNAME:ADT
DTSTART:20190310T060000
END:DAYLIGHT
BEGIN:STANDARD
TZOFFSETFROM:-0300
TZOFFSETTO:-0400
TZNAME:AST
DTSTART:20191103T050000
END:STANDARD
BEGIN:DAYLIGHT
TZOFFSETFROM:-0400
TZOFFSETTO:-0300
TZNAME:ADT
DTSTART:20200308T060000
END:DAYLIGHT
BEGIN:STANDARD
TZOFFSETFROM:-0300
TZOFFSETTO:-0400
TZNAME:AST
DTSTART:20201101T050000
END:STANDARD
END:VTIMEZONE
BEGIN:VEVENT
DTSTART;VALUE=DATE:20191116
DTEND;VALUE=DATE:20191118
DTSTAMP:20260423T092144
CREATED:20190910T132426Z
LAST-MODIFIED:20190910T132426Z
UID:11930-1573862400-1574035199@nscurl.com
SUMMARY:Competition Coach Introduction Workshop
DESCRIPTION:Cost: $175. 9:00 AM to 5:00 PM both days. \nPayment can be made on site using cheque (cheques made payable to the Nova Scotia Curling Association) or by credit card using the “Register Here” link below. Cash will not be accepted on site. \nRegistration must be completed via the Locker for ALL participants in order to receive credit for taking the workshop. Please click here to register on the Locker. \nREGISTER HERE
URL:https://nscurl.com/event/competition-coach-introduction-workshop-5/
LOCATION:Glooscap Curling Club\, 17 Crescent Avenue\, Kentville\, Nova Scotia\, B4N 3V9\, Canada
CATEGORIES:Coaching Development,NCCP Training
ORGANIZER;CN="Andrew Paris":MAILTO:aparis@nscurl.com
END:VEVENT
BEGIN:VEVENT
DTSTART;TZID=America/Halifax:20191117T090000
DTEND;TZID=America/Halifax:20191117T170000
DTSTAMP:20260423T092144
CREATED:20190909T165543Z
LAST-MODIFIED:20191024T202102Z
UID:11924-1573981200-1574010000@nscurl.com
SUMMARY:Club Coach Youth Workshop
DESCRIPTION:Cost: $75. 9:00 AM to 5:00 PM. \nPayment can be made on site using cheque (cheques made payable to the Nova Scotia Curling Association) or by credit card using the “Register Here” link below. Cash will not be accepted on site. \nRegistration must be completed via the Locker for ALL participants in order to receive credit for taking the workshop. Please click here to register on the Locker. \nREGISTER HERE
URL:https://nscurl.com/event/club-coach-youth-workshop-8/
LOCATION:Dartmouth Curling Club\, 35 Canal Street\, Dartmouth\, Nova Scotia\, B2Y 2W1\, Canada
CATEGORIES:Coaching Development,NCCP Training
ORGANIZER;CN="Andrew Paris":MAILTO:aparis@nscurl.com
END:VEVENT
END:VCALENDAR