BEGIN:VCALENDAR
VERSION:2.0
PRODID:-//Nova Scotia Curling Association - ECPv6.15.20//NONSGML v1.0//EN
CALSCALE:GREGORIAN
METHOD:PUBLISH
X-WR-CALNAME:Nova Scotia Curling Association
X-ORIGINAL-URL:https://nscurl.com
X-WR-CALDESC:Events for Nova Scotia Curling Association
REFRESH-INTERVAL;VALUE=DURATION:PT1H
X-Robots-Tag:noindex
X-PUBLISHED-TTL:PT1H
BEGIN:VTIMEZONE
TZID:America/Halifax
BEGIN:DAYLIGHT
TZOFFSETFROM:-0400
TZOFFSETTO:-0300
TZNAME:ADT
DTSTART:20180311T060000
END:DAYLIGHT
BEGIN:STANDARD
TZOFFSETFROM:-0300
TZOFFSETTO:-0400
TZNAME:AST
DTSTART:20181104T050000
END:STANDARD
BEGIN:DAYLIGHT
TZOFFSETFROM:-0400
TZOFFSETTO:-0300
TZNAME:ADT
DTSTART:20190310T060000
END:DAYLIGHT
BEGIN:STANDARD
TZOFFSETFROM:-0300
TZOFFSETTO:-0400
TZNAME:AST
DTSTART:20191103T050000
END:STANDARD
BEGIN:DAYLIGHT
TZOFFSETFROM:-0400
TZOFFSETTO:-0300
TZNAME:ADT
DTSTART:20200308T060000
END:DAYLIGHT
BEGIN:STANDARD
TZOFFSETFROM:-0300
TZOFFSETTO:-0400
TZNAME:AST
DTSTART:20201101T050000
END:STANDARD
END:VTIMEZONE
BEGIN:VEVENT
DTSTART;VALUE=DATE:20191122
DTEND;VALUE=DATE:20191125
DTSTAMP:20260423T092021
CREATED:20190916T094844Z
LAST-MODIFIED:20190916T094844Z
UID:11947-1574380800-1574639999@nscurl.com
SUMMARY:The Ladies Holly Spiel
DESCRIPTION:–
URL:https://nscurl.com/event/the-ladies-holly-spiel-3/
LOCATION:Nova Scotia\, Canada
CATEGORIES:Adult Bonspiels,Junior Bonspiels
ATTACH;FMTTYPE=image/jpeg:https://nscurl.com/wp-content/uploads/2019/09/The-Ladies-Holly-Spiel.jpg
ORGANIZER;CN="Alena Turnbull":MAILTO:dancer_mon@hotmail.com
END:VEVENT
BEGIN:VEVENT
DTSTART;TZID=America/Halifax:20191123T090000
DTEND;TZID=America/Halifax:20191123T170000
DTSTAMP:20260423T092021
CREATED:20191008T162821Z
LAST-MODIFIED:20191008T162821Z
UID:12023-1574499600-1574528400@nscurl.com
SUMMARY:Club Coach Youth Workshop
DESCRIPTION:Cost: $75. 9:00 AM to 5:00 PM. \nPayment can be made on site using cheque (cheques made payable to the Nova Scotia Curling Association) or by credit card using the “Register Here” link below. Cash will not be accepted on site. \nRegistration must be completed via the Locker for ALL participants in order to receive credit for taking the workshop. Please click here to register on the Locker. \nREGISTER HERE
URL:https://nscurl.com/event/club-coach-youth-workshop-9/
LOCATION:Sydney Curling Club\, 619 George Street\, Sydney\, Nova Scotia\, B1P 6J7\, Canada
CATEGORIES:Coaching Development,NCCP Training
ORGANIZER;CN="Andrew Paris":MAILTO:aparis@nscurl.com
END:VEVENT
END:VCALENDAR