BEGIN:VCALENDAR
VERSION:2.0
PRODID:-//Nova Scotia Curling Association - ECPv6.15.20//NONSGML v1.0//EN
CALSCALE:GREGORIAN
METHOD:PUBLISH
X-ORIGINAL-URL:https://nscurl.com
X-WR-CALDESC:Events for Nova Scotia Curling Association
REFRESH-INTERVAL;VALUE=DURATION:PT1H
X-Robots-Tag:noindex
X-PUBLISHED-TTL:PT1H
BEGIN:VTIMEZONE
TZID:America/Halifax
BEGIN:DAYLIGHT
TZOFFSETFROM:-0400
TZOFFSETTO:-0300
TZNAME:ADT
DTSTART:20180311T060000
END:DAYLIGHT
BEGIN:STANDARD
TZOFFSETFROM:-0300
TZOFFSETTO:-0400
TZNAME:AST
DTSTART:20181104T050000
END:STANDARD
BEGIN:DAYLIGHT
TZOFFSETFROM:-0400
TZOFFSETTO:-0300
TZNAME:ADT
DTSTART:20190310T060000
END:DAYLIGHT
BEGIN:STANDARD
TZOFFSETFROM:-0300
TZOFFSETTO:-0400
TZNAME:AST
DTSTART:20191103T050000
END:STANDARD
BEGIN:DAYLIGHT
TZOFFSETFROM:-0400
TZOFFSETTO:-0300
TZNAME:ADT
DTSTART:20200308T060000
END:DAYLIGHT
BEGIN:STANDARD
TZOFFSETFROM:-0300
TZOFFSETTO:-0400
TZNAME:AST
DTSTART:20201101T050000
END:STANDARD
END:VTIMEZONE
BEGIN:VEVENT
DTSTART;VALUE=DATE:20191128
DTEND;VALUE=DATE:20191203
DTSTAMP:20260423T075521
CREATED:20191009T163901Z
LAST-MODIFIED:20191022T165206Z
UID:12045-1574899200-1575331199@nscurl.com
SUMMARY:2020 AMJ Campbell U21 Men's Qualifier
DESCRIPTION:General Info\n\n \nRegistration\nPRESENTING SPONSOR \nNova Scotia Curling is now using Curling Canada’s Curling IO system for all of its events. This is the same system that is used to register teams for all of their events. You are required to have a profile within their system in order to register. Creating an account is easy. You simply use one of your existing social media or email accounts. Once logged in\, you will be able to update your profile & register for any NSC event. \n\nRegistration Closes on Oct 25\, 2019 at 11:59 pm \n  \nPractice & Schedule Info\n \nNSC will make every attempt to release the draw schedule roughly two weeks prior to the event. Teams competing in the event should make the appropriate travel & lodging arrangements to ensure they can be at the venue by 8 am on day the event is scheduled to start in case they have the first pre-event practice or first draw of the event. Events leading to a Canadian Championship and requiring a pre-event practice\, this schedule will be released with the completed draw. In the event there is a larger than expected number of teams and the pre-event practices and/or draw cannot be completed in the time allotted for the event\, then the schedule will be extended the necessary day(s) and practices/draw one will commence on the first scheduled day of the event. Information on pre-event and in event practices can be found here. \n  \n\n\nRules\nThis event is governed by NSC’s Competition Rules and Curling Canada’s Rules for Officiated Play. In the event there is conflicting information provided\, the NSC Competitions Director will make the final decision on which rule(s) will be used. \nNSC’s Competition Rules can be viewed online. \nAge Requirements\nTo be eligible to compete in this event players must be 20 years of age or younger prior to July 1\, 2019 as per Curling Canada’s age restrictions. \n\n\n\n\n\n\nSchedule & Registered Teams\n\n \nPRESENTING SPONSOR \nAll information for this event can be found on the Curling IO page. \nTeams that have registered and have been approved for entry into the event will be listed in the team section of the event.  Complete lineups for teams will only be displayed if each player on the team has a valid Curling IO profile.  All players in Nova Scotia are encouraged to create one. \n\nPast Champions\n\n \n\n\n\n\n	YearWinning ClubSkipThirdSecondLeadAlternateCoachCC/WC\n\n\n\n\n	2025HalifaxZach AthertonAlan FawcettTyler McMullenJed FreemanJoel Krats\n\n\n	2024TruroCalan MacIsaacNathan GrayOwain FisherChristopher McCurdyCraig Burgess\n\n\n	2023TruroCalan MacIsaacNathan GrayOwain FisherChristopher McCurdyCraig Burgess\n\n\n	2022HalifaxOwen PurcellJoel KratsAdam McEachrenScott WeagleAnthony Purcell++\n\n\n	2021None due to COVID\n\n\n	2020ChesterGraeme WeagleOwen PurcellJeffrey MeagherScott WeagleAnthony Purcell\n\n\n	2019ChesterGraeme WeagleOwen PurcellJeffrey MeagherBrett DoreyAnthony Purcell\n\n\n	2018MayflowerMatthew ManuelAdam CocksNick ZachernukAlec CameronStu Cameron\n\n\n	2017MayflowerMatthew ManuelAdam CocksNick ZachernukAlec CameronStu Cameron\n\n\n	2016MayflowerMatthew ManuelNick ZachernukRyan AbrahamAlec CameronStu Cameron\n\n\n	2015MayflowerMatthew ManuelNick ZachernukRyan AbrahamAlec CameronStu Cameron\n\n\n	2014WindsorRobert MayhewMichael BrophyMatt JacksonBen Creaser\n\n\n	2013MayflowerStuart ThompsonScott BabinLuke SaundersAlex MacNeil\n\n\n	2012MayflowerStuart ThompsonScott BabinAlex MacNeilPaul Weingartshofer\n\n\n	2011MayflowerKendal ThompsonCameron MacKenzieStuart ThompsonAndrew Komlodi\n\n\n	2010MayflowerScott GarnettTravis StoneTony WeingartshoferPaul Weingartshofer\n\n\n	2009HighlanderPaul DexterRobby MacLeanAlex MacFadyenJoshua MacInnis\n\n\n	2008MayflowerKelsey AmeroAdrian AnctilCameron MacKenzieChris Baltzer\n\n\n	2007HighlanderDominic DaemanIan JurlinkRobby McLeanTrent Hilliard\n\n\n	2006HighlanderDominic DaemanIan JurlinkRobby McLeanJared Bowles\n\n\n	2005MayflowerIan Fitzner-LeBlancChris McDonahBill MacPheeKendell Keeley\n\n\n	2004CFBJamie ChristiansonBrad MacInnisTodd MoorsJoshua MacInnis\n\n\n	2003MayflowerKevin SaccaryScott SaccaryJared BentLuke Johnson\n\n\n	2002MayflowerKevin SaccaryScott SaccaryJared BentLuke Johnson\n\n\n	2001ChedabuctoDenis BelliveauJonathan MacDonaldJason Van VonderonNicholas Deagle\n\n\n	2000ChesterGraham BreckonMatthew MaderMark RobarDavid Backman
URL:https://nscurl.com/event/2020-amj-campbell-u21-mens-qualifier/
LOCATION:Clare Curling Association\, 32 Connector Road\, Meteghan\, Nova Scotia\, B0W 2J0\, Canada
CATEGORIES:Junior Events
ATTACH;FMTTYPE=image/jpeg:https://nscurl.com/wp-content/uploads/2018/05/AMJ_Logo-Final_CMYK7119-660x231.jpg
ORGANIZER;CN="Andrew Abraham":MAILTO:aabraham1965@icloud.com
END:VEVENT
BEGIN:VEVENT
DTSTART;VALUE=DATE:20191128
DTEND;VALUE=DATE:20191203
DTSTAMP:20260423T075521
CREATED:20191009T165233Z
LAST-MODIFIED:20191022T165238Z
UID:12055-1574899200-1575331199@nscurl.com
SUMMARY:2020 AMJ Campbell U21 Women's Qualifiers
DESCRIPTION:General Info\n\n \nRegistration\nPRESENTING SPONSOR \nNova Scotia Curling is now using Curling Canada’s Curling IO system for all of its events. This is the same system that is used to register teams for all of their events. You are required to have a profile within their system in order to register. Creating an account is easy. You simply use one of your existing social media or email accounts. Once logged in\, you will be able to update your profile & register for any NSC event. \n\nRegistration Closes on Oct 25\, 2019 at 11:59 pm \n  \nPractice & Schedule Info\n \nNSC will make every attempt to release the draw schedule roughly two weeks prior to the event. Teams competing in the event should make the appropriate travel & lodging arrangements to ensure they can be at the venue by 8 am on day the event is scheduled to start in case they have the first pre-event practice or first draw of the event. Events leading to a Canadian Championship and requiring a pre-event practice\, this schedule will be released with the completed draw. In the event there is a larger than expected number of teams and the pre-event practices and/or draw cannot be completed in the time allotted for the event\, then the schedule will be extended the necessary day(s) and practices/draw one will commence on the first scheduled day of the event. Information on pre-event and in event practices can be found here. \n  \n\n\nRules\nThis event is governed by NSC’s Competition Rules and Curling Canada’s Rules for Officiated Play. In the event there is conflicting information provided\, the NSC Competitions Director will make the final decision on which rule(s) will be used. \nNSC’s Competition Rules can be viewed online. \nAge Requirements\nTo be eligible to compete in this event players must be 20 years of age or younger prior to July 1\, 2019 as per Curling Canada’s age restrictions. \n\n\n\n\n\n\nSchedule & Registered Teams\n\n \nPRESENTING SPONSOR \nAll information for this event can be found on the Curling IO page. \nTeams that have registered and have been approved for entry into the event will be listed in the team section of the event.  Complete lineups for teams will only be displayed if each player on the team has a valid Curling IO profile.  All players in Nova Scotia are encouraged to create one. \n\nPast Champions\n\n \n\n\n\n\n	YearWinning ClubSkipThirdSecondLeadAlternateCoachCC/WC\n\n\n\n\n	2025LakeshoreRebecca ReganOlivia McDonahRya LeonardElla KinleyHeather Smith\n\n\n	2024HalifaxAllyson MacNuttMaria FitzgeraldAlison UmlahGrace McCuskerTheresa Breen\n\n\n	2023ChesterSophie BladesKate WeissentStephanie AthertonAlexis CluneyAndrew Atherton\n\n\n	2022HalifaxTaylour StevensLauren FergusonAlison UmlahCate FitzgeraldMary Mattatall\n\n\n	2021None due to COVID\n\n\n	2020HalifaxTaylour StevensLindsey BurgessKate CallaghanCate FitzgeraldMary Mattatall\n\n\n	2019HalifaxKaitlyn JonesLauren LenentineKarlee BurgessLindsey BurgessAndrew Atherton\n\n\n	2018HalifaxKaitlyn JonesKristin ClarkeKarlee BurgessLindsey BurgessAndrew Atherton++\n\n\n	2017ChesterKristin ClarkeEmily LloydKarlee BurgessJanique LeBlancAndrew Atherton\n\n\n	2016ChesterMary FayKristin ClarkeKarlee BurgessJanique LeBlancAndrew Atherton++\n\n\n	2015ChesterMary FayJennifer SmithKarlee BurgessJanique LeBlancAndrew Atherton\n\n\n	2014ChesterMary FayJennifer SmithKarlee BurgessJanique LeBlancAndrew Atherton\n\n\n	2013TruroMary Myketyn-DriscollTaylor ClarkeMacKenzie ProctorSara Sears\n\n\n	2012MayflowerEmily DwyerAmanda ColterKatrina MacKinnonLaura Kennedy\n\n\n	2011ChesterLindsay DoucetSara SpaffordMeryn AveryEllen Graham\n\n\n	2010BridgewaterTara LeGayJane SnyderLeah SquareyLaura Murray\n\n\n	2009CFB HalifaxMarie ChristiansonTanya HilliardJane SnyderCaitlyn Fralic\n\n\n	2008MayflowerDanielle ParsonsKatie LinesCourtney HuestisJane Snyder\n\n\n	2007CFB HalifaxMarie ChristiansonKatie ThomasLiz WoodworthJenn Baxter\n\n\n	2006LakeshoreSarah RhynoJennifer BrineJessica BradfordHeather Ross\n\n\n	2005MayflowerMorgan MuiseMichelle WoodroofeAmanda SedgeAshlee Rushton\n\n\n	2004ChedabuctoJill MouzarPaige MattieBlisse ComstockChloe ComstockDonalda Mattie++\n\n\n	2003ChedabuctoRobyn MattiePaige MattieBlisse ComstockChloe Comstock\n\n\n	2002ChedabuctoRobyn MattiePaige MattieBlisse ComstockGilda Chisholm\n\n\n	2001LiverpoolJill MouzarMeaghan SmartMeghan MacAdamsCarolyn Marshall\n\n\n	2000AmherstTeri LakeKatie BabcockStephanie TurnbullSarah Smith
URL:https://nscurl.com/event/2020-amj-campbell-u21-womens-qualifiers/
LOCATION:Clare Curling Association\, 32 Connector Road\, Meteghan\, Nova Scotia\, B0W 2J0\, Canada
CATEGORIES:Junior Events
ATTACH;FMTTYPE=image/jpeg:https://nscurl.com/wp-content/uploads/2018/05/AMJ_Logo-Final_CMYK7119-660x231.jpg
ORGANIZER;CN="Andrew Abraham":MAILTO:aabraham1965@icloud.com
END:VEVENT
END:VCALENDAR