BEGIN:VCALENDAR
VERSION:2.0
PRODID:-//Nova Scotia Curling Association - ECPv6.15.20//NONSGML v1.0//EN
CALSCALE:GREGORIAN
METHOD:PUBLISH
X-WR-CALNAME:Nova Scotia Curling Association
X-ORIGINAL-URL:https://nscurl.com
X-WR-CALDESC:Events for Nova Scotia Curling Association
REFRESH-INTERVAL;VALUE=DURATION:PT1H
X-Robots-Tag:noindex
X-PUBLISHED-TTL:PT1H
BEGIN:VTIMEZONE
TZID:America/Halifax
BEGIN:DAYLIGHT
TZOFFSETFROM:-0400
TZOFFSETTO:-0300
TZNAME:ADT
DTSTART:20180311T060000
END:DAYLIGHT
BEGIN:STANDARD
TZOFFSETFROM:-0300
TZOFFSETTO:-0400
TZNAME:AST
DTSTART:20181104T050000
END:STANDARD
BEGIN:DAYLIGHT
TZOFFSETFROM:-0400
TZOFFSETTO:-0300
TZNAME:ADT
DTSTART:20190310T060000
END:DAYLIGHT
BEGIN:STANDARD
TZOFFSETFROM:-0300
TZOFFSETTO:-0400
TZNAME:AST
DTSTART:20191103T050000
END:STANDARD
BEGIN:DAYLIGHT
TZOFFSETFROM:-0400
TZOFFSETTO:-0300
TZNAME:ADT
DTSTART:20200308T060000
END:DAYLIGHT
BEGIN:STANDARD
TZOFFSETFROM:-0300
TZOFFSETTO:-0400
TZNAME:AST
DTSTART:20201101T050000
END:STANDARD
END:VTIMEZONE
BEGIN:VEVENT
DTSTART;VALUE=DATE:20191212
DTEND;VALUE=DATE:20191217
DTSTAMP:20260423T075545
CREATED:20191010T095519Z
LAST-MODIFIED:20191022T163650Z
UID:12073-1576108800-1576540799@nscurl.com
SUMMARY:2020 Scotties Qualifier
DESCRIPTION:General Info\n\n \nRegistration\nPRESENTING SPONSOR \nNova Scotia Curling is now using Curling Canada’s Curling IO system for all of its events. This is the same system that is used to register teams for all of their events. You are required to have a profile within their system in order to register. Creating an account is easy. You simply use one of your existing social media or email accounts. Once logged in\, you will be able to update your profile & register for any NSC event. \n\nRegistration Closes on Nov 08\, 2019 at 11:59 pm \n  \nPractice & Schedule Info\n \nNSC will make every attempt to release the draw schedule roughly two weeks prior to the event. Teams competing in the event should make the appropriate travel & lodging arrangements to ensure they can be at the venue by 8 am on day the event is scheduled to start in case they have the first pre-event practice or first draw of the event. Events leading to a Canadian Championship and requiring a pre-event practice\, this schedule will be released with the completed draw. In the event there is a larger than expected number of teams and the pre-event practices and/or draw cannot be completed in the time allotted for the event\, then the schedule will be extended the necessary day(s) and practices/draw one will commence on the first scheduled day of the event. Information on pre-event and in event practices can be found here. \n  \n\n\nRules\nThis event is governed by NSC’s Competition Rules and Curling Canada’s Rules for Officiated Play. In the event there is conflicting information provided\, the NSC Competitions Director will make the final decision on which rule(s) will be used. \nNSC’s Competition Rules can be viewed online. \nAge Requirements\nThere is no age restriction for this event. \n\n\n2019 VIDEO PLAYBACK\n\n\n\n\n\nSchedule & Registered Teams\n\n \nPRESENTING SPONSOR \nAll information for this event can be found on the Curling IO page. \nTeams that have registered and have been approved for entry into the event will be listed in the team section of the event.  Complete lineups for teams will only be displayed if each player on the team has a valid Curling IO profile.  All players in Nova Scotia are encouraged to create one. \n\nPast Champions\n\n \n\n\n\n\n	YearWinning ClubSkipThirdSecondLeadAlternateCoachCC/WC\n\n\n\n\n	2025HalifaxChristina BlackJill BrothersJenn BaxterKarlee EveristMarlee PowersStuart MacLean\n\n\n	2024HalifaxHeather SmithJill BrothersMarie ChristiansonErin CarmodyTaylour StevensColleen Jones\n\n\n	2023DartmouthChristina BlackJenn BaxterKarlee EveristShelley BarkerCarole MacLeanStuart MacLean\n\n\n	2022DartmouthChristina BlackJenn BaxterKarlee EveristShelley BarkerCarole MacLeanStuart MacLean\n\n\n	2021 Selected (Covid)Jill BrothersErin CarmodyJennifer BrineEmma LoanKim KellyDaryell Nowlan\n\n\n	2020DartmouthMary-Anne ArsenaultChristina BlackJennifer BaxterEmma LoganKristin ClarkeStuart MacLean\n\n\n	2019MayflowerJill BrothersErin CarmodySarah MurphyJenn BrineKim KellyTaylor Ardiel\n\n\n	2018DartmouthMary-Anne ArsenaultChristina BlackJennifer BaxterJennifer CrouseCarole MacLeanPeter Corkum\n\n\n	2017NSCAMary MattatallMarg CutcliffeJill Alcoe-HollandAndrea SaulnierJulie McEvoyBruce Lohnes\n\n\n	2016MayflowerJill BrothersSarah MurphyBlisse JoyceTeri UdleJennifer BrineDaryell Nowlan\n\n\n	2015MayflowerMary-Anne ArsenaultChristina BlackJane SnyderJennifer BaxterCarole MacLeanPeter Corkum\n\n\n	2014MayflowerHeather SmithJill BrothersBlisse JoyceTeri LakeStephanie McVicarPeter Gallant\n\n\n	2013MayflowerMary-Anne ArsenaultKim KellyColleen JonesJen BaxterNancy DelahuntPeter Corkum\n\n\n	2012MayflowerHeather Smith-DaceyDanielle ParsonsBlisse JoyceTeri LakeMelanie ComstockMark Dacey\n\n\n	2011MayflowerHeather Smith-DaceyDanielle ParsonsBlisse JoyceTeri LakeMelanie ComstockMark Dacey\n\n\n	2010DartmouthNancy McConneryJennifer CrouseSheena GilmanJill ThomasKelly MacIntoshCarol MacLean\n\n\n	2009DartmouthNancy McConneryJennifer CrouseSheena GilmanJill ThomasColleen PinkneyCarole MacLean\n\n\n	2008MayflowerMary-Anne ArsenaultKim KellyLaine PetersNancy DelahuntCheryl McBainPeter Corkum\n\n\n	2007MayflowerJill MouzarMeredith HarrisonTeri LakeHayley ClarkeMary Mattatall\n\n\n	2006MayflowerColleen JonesKim KellyMary-Anne ArsenaultNancy DelahuntMary Sue Radford\n\n\n	2005MayflowerKay ZinckMary MattatallCandice MittelstadtMonica Moriarty Meaghan SmartRob Krepps\n\n\n	2004MayflowerMeredith DoyleHeather Smith-DaceyLaine PetersBeth IskiwNancy MacDonaldDave Scott\n\n\n	2003TruroNancy McConneryColleen PinkneyShelley MacNuttWendy CurrieKaren HennigarDavid Williams\n\n\n	2002TruroMeredith DoyleBeth IskiwCandice MacLeanKrista TriderAllyson BurgessJim Burgess\n\n\n	2001MayflowerColleen JonesKim KellyMary-Anne ArsenaultNancy DelahuntLaine PetersKen Bagnall++\n\n\n	2000MayflowerKay ZinckHeather Smith-DaceyKrista BernardLaine PetersCathy DonaldAl Smith
URL:https://nscurl.com/event/2020-scotties-qualifier/
LOCATION:Berwick Curling Club\, 250 Veteran’s Drive\, Berwick\, Nova Scotia\, B0P 1E0\, Canada
CATEGORIES:Adult Events,Junior Events
ATTACH;FMTTYPE=image/gif:https://nscurl.com/wp-content/uploads/2018/05/scotties665x2651.gif
ORGANIZER;CN="Andrew Abraham":MAILTO:aabraham1965@icloud.com
END:VEVENT
BEGIN:VEVENT
DTSTART;VALUE=DATE:20191212
DTEND;VALUE=DATE:20191217
DTSTAMP:20260423T075545
CREATED:20191010T094851Z
LAST-MODIFIED:20191022T163753Z
UID:12063-1576108800-1576540799@nscurl.com
SUMMARY:2020 Deloitte Tankard Qualifier
DESCRIPTION:General Info\n\n \nRegistration\nPRESENTING SPONSOR \nNova Scotia Curling is now using Curling Canada’s Curling IO system for all of its events. This is the same system that is used to register teams for all of their events. You are required to have a profile within their system in order to register. Creating an account is easy. You simply use one of your existing social media or email accounts. Once logged in\, you will be able to update your profile & register for any NSC event. \n\nRegistration Closes on Nov 08\, 2019 at 11:59 pm \n  \nPractice & Schedule Info\n \nNSC will make every attempt to release the draw schedule roughly two weeks prior to the event. Teams competing in the event should make the appropriate travel & lodging arrangements to ensure they can be at the venue by 8 am on day the event is scheduled to start in case they have the first pre-event practice or first draw of the event. Events leading to a Canadian Championship and requiring a pre-event practice\, this schedule will be released with the completed draw. In the event there is a larger than expected number of teams and the pre-event practices and/or draw cannot be completed in the time allotted for the event\, then the schedule will be extended the necessary day(s) and practices/draw one will commence on the first scheduled day of the event. Information on pre-event and in event practices can be found here. \n  \n\n\nRules\nThis event is governed by NSC’s Competition Rules and Curling Canada’s Rules for Officiated Play. In the event there is conflicting information provided\, the NSC Competitions Director will make the final decision on which rule(s) will be used. \nNSC’s Competition Rules can be viewed online. \nAge Requirements\nThere is no age restriction for this event. \n\n\n2019 VIDEO PLAYBACK\n\n\n\n\n\nSchedule & Registered Teams\n\n \nPRESENTING SPONSOR \nAll information for this event can be found on the Curling IO page. \nTeams that have registered and have been approved for entry into the event will be listed in the team section of the event.  Complete lineups for teams will only be displayed if each player on the team has a valid Curling IO profile.  All players in Nova Scotia are encouraged to create one. \n\nPast Champions\n\n \n\n\n\n\n	YearWinning ClubSkipThirdSecondLeadAlternateCoachCC/WC\n\n\n\n\n	2025HalifaxOwen PurcellLuke SaundersScott SaccaryRyan AbrahamCalan MacIsaacColleen Jones\n\n\n	2024HalifaxMatthew ManuelLuke SaundersJeff MeagherNick ZachernukKim Kelly\n\n\n	2023HalifaxMatthew ManuelLuke SaundersJeff MeagherNick ZachernukKevin Patterson\n\n\n	2022Selected (Covid)Paul FlemmingScott SaccaryRyan AbrahamPhil CrowellKevin Ouellette\n\n\n	2021Selected (Covid)Scott MacDonaldPaul FlemmingScott SaccaryPhil CrowellKevin Ouellette\n\n\n	2020HalifaxJamie MurphyPaul FlemmingScott SaccaryPhilip CrowellKevin OuelletteBruce Lohnes\n\n\n	2019DartmouthStuart ThompsonColten SteeleTravis ColterTaylor ArdielBill MacPheeKevin Patterson\n\n\n	2018HalifaxJamie MurphyPaul FlemmingScott SaccaryPhilip CrowellBruce Lohnes\n\n\n	2017HalifaxJamie MurphyJordan PinderScott SaccaryPhilip CrowellAlan DarraghBruce Lohnes\n\n\n	2016MayflowerJamie MurphyJordan PinderScott SaccaryPhilip CrowellAlan DarraghBruce Lohnes\n\n\n	2015MayflowerGlen MacLeodPeter BurgessColten SteeleRobby MacLeanPaul FlemmingStuart MacLean\n\n\n	2014LakeshoreJamie MurphyJordan PinderMike BardsleyDonald MacDermaidMark KehoeAlan Darragh\n\n\n	2013LakeshoreIan Fitzner-LeBlancPaul FlemmingGraham BreckonKelly MittelstadtKent SmithStuart MacLean\n\n\n	2012LakeshoreJamie MurphyJordan PinderMike BardsleyDonald MacDermaidKyle SchmeisserHelen Radford\n\n\n	2011MayflowerShawn AdamsPaul FlemmingAndrew GibsonKelly MittelstadtCraig BurgessStuart MacLean\n\n\n	2010MayflowerIan Fitzner-LeBlancStuart MacLeanKent SmithPhilip CrowellMark RobarDavid MacLellan\n\n\n	2009MayflowerMark DaceyBruce LohnesAndrew GibsonKris GranchelliMat HarrisPeter Corkum\n\n\n	2008BridgewaterBrian RafuseCurt PalmerAlan DarraghDave SlauenwhiteGlenn JosephsonPeter MacPhee\n\n\n	2007WindsorMark KehoeCurt PalmerDoug BryantRichard BarkerDonnie SmithDonalda Mattie\n\n\n	2006MayflowerMark DaceyBruce LohnesRob HarrisAndrew GibsonMat HarrisPeter Corkum\n\n\n	2005MayflowerShawn AdamsPaul FlemmingCraig BurgessKelly MittelstadtStuart MacLeanJim Burgess\n\n\n	2004MayflowerMark DaceyBruce LohnesRob HarrisAndrew GibsonMat HarrisPeter Corkum\n\n\n	2003MayflowerMark DaceyBruce LohnesRob HarrisAndrew GibsonSteve OgdenPeter Corkum+\n\n\n	2002BridgewaterShawn AdamsCraig BurgessJeff HopkinsBen BlanchardJason BlanchardNeil Powers\n\n\n	2001MayflowerMark DaceyPaul FlemmingBlayne IskiwTom FetterlyMat Harris\n\n\n	2000BridgewaterShawn AdamsJeff HopkinsBen BlanchardJason BlanchardRob MacArther
URL:https://nscurl.com/event/2020-deloitte-tankard-qualifier/
LOCATION:Berwick Curling Club\, 250 Veteran’s Drive\, Berwick\, Nova Scotia\, B0P 1E0\, Canada
CATEGORIES:Adult Events,Junior Events
ATTACH;FMTTYPE=image/jpeg:https://nscurl.com/wp-content/uploads/2018/04/Deloitte500x152.jpeg
ORGANIZER;CN="Andrew Abraham":MAILTO:aabraham1965@icloud.com
END:VEVENT
END:VCALENDAR