BEGIN:VCALENDAR
VERSION:2.0
PRODID:-//Nova Scotia Curling Association - ECPv6.15.20//NONSGML v1.0//EN
CALSCALE:GREGORIAN
METHOD:PUBLISH
X-ORIGINAL-URL:https://nscurl.com
X-WR-CALDESC:Events for Nova Scotia Curling Association
REFRESH-INTERVAL;VALUE=DURATION:PT1H
X-Robots-Tag:noindex
X-PUBLISHED-TTL:PT1H
BEGIN:VTIMEZONE
TZID:America/Halifax
BEGIN:DAYLIGHT
TZOFFSETFROM:-0400
TZOFFSETTO:-0300
TZNAME:ADT
DTSTART:20190310T060000
END:DAYLIGHT
BEGIN:STANDARD
TZOFFSETFROM:-0300
TZOFFSETTO:-0400
TZNAME:AST
DTSTART:20191103T050000
END:STANDARD
BEGIN:DAYLIGHT
TZOFFSETFROM:-0400
TZOFFSETTO:-0300
TZNAME:ADT
DTSTART:20200308T060000
END:DAYLIGHT
BEGIN:STANDARD
TZOFFSETFROM:-0300
TZOFFSETTO:-0400
TZNAME:AST
DTSTART:20201101T050000
END:STANDARD
BEGIN:DAYLIGHT
TZOFFSETFROM:-0400
TZOFFSETTO:-0300
TZNAME:ADT
DTSTART:20210314T060000
END:DAYLIGHT
BEGIN:STANDARD
TZOFFSETFROM:-0300
TZOFFSETTO:-0400
TZNAME:AST
DTSTART:20211107T050000
END:STANDARD
END:VTIMEZONE
BEGIN:VEVENT
DTSTART;TZID=America/Halifax:20200110T163000
DTEND;TZID=America/Halifax:20200112T163000
DTSTAMP:20260423T062812
CREATED:20191011T162747Z
LAST-MODIFIED:20191011T162747Z
UID:12014-1578673800-1578846600@nscurl.com
SUMMARY:Grey Cup of Curling
DESCRIPTION:Open bonspiel. Any combination of players.\nCash to be won for every game.\n24 team maximum and the bonspiel is expected to be full.
URL:https://nscurl.com/event/grey-cup-of-curling-2/
LOCATION:Amherst Curling Club\, 45 Prince Arthur Street\, Amherst\, Nova Scotia\, B4H 3Y6\, Canada
CATEGORIES:Adult Bonspiels
ATTACH;FMTTYPE=image/jpeg:https://nscurl.com/wp-content/uploads/2019/10/image.jpeg
ORGANIZER;CN="Robin Keith":MAILTO:rrkeith57@hotmail.com
END:VEVENT
BEGIN:VEVENT
DTSTART;VALUE=DATE:20200111
DTEND;VALUE=DATE:20200113
DTSTAMP:20260423T062812
CREATED:20190910T133846Z
LAST-MODIFIED:20190910T133846Z
UID:11932-1578700800-1578873599@nscurl.com
SUMMARY:Club Coach Workshop
DESCRIPTION:Cost: $125. 9:00 AM to 5:00 PM both days. \nPayment can be made on site using cheque (cheques made payable to the Nova Scotia Curling Association) or by credit card using the “Register Here” link below. Cash will not be accepted on site. \nRegistration must be completed via the Locker for ALL participants in order to receive credit for taking the workshop. Please click here to register on the Locker. \nREGISTER HERE
URL:https://nscurl.com/event/club-coach-workshop-5/
LOCATION:Berwick Curling Club\, 250 Veteran’s Drive\, Berwick\, Nova Scotia\, B0P 1E0\, Canada
CATEGORIES:Coaching Development,NCCP Training
ORGANIZER;CN="Andrew Paris":MAILTO:aparis@nscurl.com
END:VEVENT
BEGIN:VEVENT
DTSTART;VALUE=DATE:20200111
DTEND;VALUE=DATE:20200113
DTSTAMP:20260423T062812
CREATED:20190828T164300Z
LAST-MODIFIED:20190828T164300Z
UID:11914-1578700800-1578873599@nscurl.com
SUMMARY:January Thaw Mixed Bonspiel
DESCRIPTION:Two-day Mixed Bonspiel. Fee is $120 per team. Four games guaranteed. \nSaturday is three 6-end games per team\, meal for participants. \nSunday is one 8-end game for all teams to determine finalists\, soup and sandwich lunch for all\, then 8-end game in A\, B and C divisions. Prizes for all finalists
URL:https://nscurl.com/event/january-thaw-mixed-bonspiel-3/
LOCATION:Middleton Curling Club\, 6 King Street\, Middleton\, Nova Scotia\, B0S 1P0\, Canada
CATEGORIES:Adult Bonspiels
ATTACH;FMTTYPE=image/jpeg:https://nscurl.com/wp-content/uploads/2019/08/advertising-poster-2020.jpg
ORGANIZER;CN="Karen Sotvedt":MAILTO:karen.sotvedt@avrsb.ca
END:VEVENT
END:VCALENDAR