BEGIN:VCALENDAR
VERSION:2.0
PRODID:-//Nova Scotia Curling Association - ECPv6.15.20//NONSGML v1.0//EN
CALSCALE:GREGORIAN
METHOD:PUBLISH
X-ORIGINAL-URL:https://nscurl.com
X-WR-CALDESC:Events for Nova Scotia Curling Association
REFRESH-INTERVAL;VALUE=DURATION:PT1H
X-Robots-Tag:noindex
X-PUBLISHED-TTL:PT1H
BEGIN:VTIMEZONE
TZID:America/Halifax
BEGIN:DAYLIGHT
TZOFFSETFROM:-0400
TZOFFSETTO:-0300
TZNAME:ADT
DTSTART:20190310T060000
END:DAYLIGHT
BEGIN:STANDARD
TZOFFSETFROM:-0300
TZOFFSETTO:-0400
TZNAME:AST
DTSTART:20191103T050000
END:STANDARD
BEGIN:DAYLIGHT
TZOFFSETFROM:-0400
TZOFFSETTO:-0300
TZNAME:ADT
DTSTART:20200308T060000
END:DAYLIGHT
BEGIN:STANDARD
TZOFFSETFROM:-0300
TZOFFSETTO:-0400
TZNAME:AST
DTSTART:20201101T050000
END:STANDARD
BEGIN:DAYLIGHT
TZOFFSETFROM:-0400
TZOFFSETTO:-0300
TZNAME:ADT
DTSTART:20210314T060000
END:DAYLIGHT
BEGIN:STANDARD
TZOFFSETFROM:-0300
TZOFFSETTO:-0400
TZNAME:AST
DTSTART:20211107T050000
END:STANDARD
END:VTIMEZONE
BEGIN:VEVENT
DTSTART;VALUE=DATE:20200130
DTEND;VALUE=DATE:20200203
DTSTAMP:20260423T050001
CREATED:20191011T161759Z
LAST-MODIFIED:20191022T164551Z
UID:12098-1580342400-1580687999@nscurl.com
SUMMARY:2020 Junior Mixed Doubles Championship
DESCRIPTION:General Info\n\n \nRegistration\nPRESENTING SPONSOR \nNova Scotia Curling is now using Curling Canada’s Curling IO system for all of its events. This is the same system that is used to register teams for all of their events. You are required to have a profile within their system in order to register. Creating an account is easy. You simply use one of your existing social media or email accounts. Once logged in\, you will be able to update your profile & register for any NSC event. \n\nRegistration closes on Dec 27\, 2019 at 11:59 pm \n  \nPractice & Schedule Info\n \nNSC will make every attempt to release the draw schedule roughly two weeks prior to the event. Teams competing in the event should make the appropriate travel & lodging arrangements to ensure they can be at the venue by 8 am on day the event is scheduled to start in case they have the first pre-event practice or first draw of the event. Events leading to a Canadian Championship and requiring a pre-event practice\, this schedule will be released with the completed draw. In the event there is a larger than expected number of teams and the pre-event practices and/or draw cannot be completed in the time allotted for the event\, then the schedule will be extended the necessary day(s) and practices/draw one will commence on the first scheduled day of the event. Information on pre-event and in event practices can be found here. \n  \n\n\nRules\nThis event is governed by NSC’s Competition Rules and Curling Canada’s Rules for Officiated Play. In the event there is conflicting information provided\, the NSC Competitions Director will make the final decision on which rule(s) will be used. \nNSC’s Competition Rules can be viewed online. \nAge Requirements\nTo be eligible to compete in this event players must be 20 years of age or younger prior to July 1\, 2019. \n\n\n  \n  \nRELIVE CHAMPIONSHIP MOMENTS\n\n                    \n                                    \n                    \n                                                \n                                            \n                    \n                                    \n                                \n                \n            \n \n\n\n\n\nSchedule & Registered Teams\n\n \nPRESENTING SPONSOR \nAll information for this event can be found on the Curling IO page. \nTeams that have registered and have been approved for entry into the event will be listed in the team section of the event.  Complete lineups for teams will only be displayed if each player on the team has a valid Curling IO profile.  All players in Nova Scotia are encouraged to create one.
URL:https://nscurl.com/event/2020-junior-mixed-doubles-championship/
LOCATION:Chester Curling Club\, 190 Pigloop Road\, Chester\, Nova Scotia\, B0J 1J0\, Canada
CATEGORIES:Junior Events
ATTACH;FMTTYPE=image/jpeg:https://nscurl.com/wp-content/uploads/2019/10/NSCA-2019-V2.jpg
ORGANIZER;CN="Andrew Abraham":MAILTO:aabraham1965@icloud.com
END:VEVENT
BEGIN:VEVENT
DTSTART;TZID=America/Halifax:20200131T180000
DTEND;TZID=America/Halifax:20200202T150000
DTSTAMP:20260423T050001
CREATED:20191212T115038Z
LAST-MODIFIED:20191212T115038Z
UID:12744-1580493600-1580655600@nscurl.com
SUMMARY:Lobsterspiel Open
DESCRIPTION:Come visit the Lobster Capital of Canada! Barrington Regional Curling Club’s famous annual Lobsterspiel Open is January 31- February 2\, 2020. 24 teams. Open format. 3-game guarantee. Eight end games. Lobster supper Saturday night (alternative meal available). Cash prizes for event winners and finalists. Canteen open all weekend. Entry fee only $200/team\, includes Lobster supper and “win your entry fee back” draw. Register by January 24\, 2020. Facebook @Barrington Curling Club\, email brcc@ns.aliantzinc.ca or phone 902-637-2009 to register your team.
URL:https://nscurl.com/event/lobsterspiel-open/
LOCATION:Barrington Regional Curling Club\, 40 Park Lane\, Barrington Passage\, Nova Scotia\, B0W 1G0\, Canada
CATEGORIES:Adult Bonspiels
ATTACH;FMTTYPE=image/png:https://nscurl.com/wp-content/uploads/2019/12/BRCC-Lobsterspiel-2019-poster.png
ORGANIZER;CN="Jon Langille":MAILTO:jonlangille@yahoo.ca
END:VEVENT
END:VCALENDAR