BEGIN:VCALENDAR
VERSION:2.0
PRODID:-//Nova Scotia Curling Association - ECPv6.15.20//NONSGML v1.0//EN
CALSCALE:GREGORIAN
METHOD:PUBLISH
X-ORIGINAL-URL:https://nscurl.com
X-WR-CALDESC:Events for Nova Scotia Curling Association
REFRESH-INTERVAL;VALUE=DURATION:PT1H
X-Robots-Tag:noindex
X-PUBLISHED-TTL:PT1H
BEGIN:VTIMEZONE
TZID:America/Halifax
BEGIN:DAYLIGHT
TZOFFSETFROM:-0400
TZOFFSETTO:-0300
TZNAME:ADT
DTSTART:20190310T060000
END:DAYLIGHT
BEGIN:STANDARD
TZOFFSETFROM:-0300
TZOFFSETTO:-0400
TZNAME:AST
DTSTART:20191103T050000
END:STANDARD
BEGIN:DAYLIGHT
TZOFFSETFROM:-0400
TZOFFSETTO:-0300
TZNAME:ADT
DTSTART:20200308T060000
END:DAYLIGHT
BEGIN:STANDARD
TZOFFSETFROM:-0300
TZOFFSETTO:-0400
TZNAME:AST
DTSTART:20201101T050000
END:STANDARD
BEGIN:DAYLIGHT
TZOFFSETFROM:-0400
TZOFFSETTO:-0300
TZNAME:ADT
DTSTART:20210314T060000
END:DAYLIGHT
BEGIN:STANDARD
TZOFFSETFROM:-0300
TZOFFSETTO:-0400
TZNAME:AST
DTSTART:20211107T050000
END:STANDARD
END:VTIMEZONE
BEGIN:VEVENT
DTSTART;VALUE=DATE:20200206
DTEND;VALUE=DATE:20200210
DTSTAMP:20260423T050001
CREATED:20191017T100130Z
LAST-MODIFIED:20191030T100637Z
UID:12166-1580947200-1581292799@nscurl.com
SUMMARY:2020 Under 15 Men’s Greenspiel
DESCRIPTION:General Info\n\n \nRegistration\nPRESENTING SPONSOR \nNova Scotia Curling is now using Curling Canada’s Curling IO system for all of its events. This is the same system that is used to register teams for all of their events. You are required to have a profile within their system in order to register. Creating an account is easy. You simply use one of your existing social media or email accounts. Once logged in\, you will be able to update your profile & register for any NSC event. \n\nRegistration closes on Jan 03\, 2020 at 11:59 pm \n  \nPractice & Schedule Info\n \nNSC will make every attempt to release the draw schedule roughly two weeks prior to the event. Teams competing in the event should make the appropriate travel & lodging arrangements to ensure they can be at the venue by 8 am on day the event is scheduled to start in case they have the first pre-event practice or first draw of the event. Events leading to a Canadian Championship and requiring a pre-event practice\, this schedule will be released with the completed draw. In the event there is a larger than expected number of teams and the pre-event practices and/or draw cannot be completed in the time allotted for the event\, then the schedule will be extended the necessary day(s) and practices/draw one will commence on the first scheduled day of the event. Information on pre-event and in event practices can be found here. \n  \n\n\nRules\nThis event is governed by NSC’s Competition Rules and Curling Canada’s Rules for Officiated Play. In the event there is conflicting information provided\, the NSC Competitions Director will make the final decision on which rule(s) will be used. \nNSC’s Competition Rules can be viewed online. \nAge Requirements\nTo be eligible to compete in this event players must be 14 years of age or younger prior to July 1\, 2019. \n\n\n  \n  \nRELIVE CHAMPIONSHIP MOMENTS\n\n                    \n                                    \n                    \n                                                \n                                            \n                    \n                                    \n                                \n                \n            \n \n\n\n\n\nSchedule & Registered Teams\n\n \nPRESENTING SPONSOR \nAll information for this event can be found on the Curling IO page. \nTeams that have registered and have been approved for entry into the event will be listed in the team section of the event.  Complete lineups for teams will only be displayed if each player on the team has a valid Curling IO profile.  All players in Nova Scotia are encouraged to create one.
URL:https://nscurl.com/event/2020-under-15-mens-greenspiel/
LOCATION:Bridgewater Curling Club\, 90 Dominion Street\, Bridgewater\, Nova Scotia\, B4V 2K1\, Canada
CATEGORIES:Junior Events
ATTACH;FMTTYPE=image/jpeg:https://nscurl.com/wp-content/uploads/2019/10/NSCA-2019-V2.jpg
ORGANIZER;CN="Andrew Abraham":MAILTO:aabraham1965@icloud.com
END:VEVENT
BEGIN:VEVENT
DTSTART;VALUE=DATE:20200206
DTEND;VALUE=DATE:20200210
DTSTAMP:20260423T050001
CREATED:20191017T100951Z
LAST-MODIFIED:20191030T100546Z
UID:12177-1580947200-1581292799@nscurl.com
SUMMARY:2020 Under 15 Women's Greenspiel
DESCRIPTION:General Info\n\n \nRegistration\nPRESENTING SPONSOR \nNova Scotia Curling is now using Curling Canada’s Curling IO system for all of its events. This is the same system that is used to register teams for all of their events. You are required to have a profile within their system in order to register. Creating an account is easy. You simply use one of your existing social media or email accounts. Once logged in\, you will be able to update your profile & register for any NSC event. \n\nRegistration closes on Jan 03\, 2020 at 11:59 pm \n  \nPractice & Schedule Info\n \nNSC will make every attempt to release the draw schedule roughly two weeks prior to the event. Teams competing in the event should make the appropriate travel & lodging arrangements to ensure they can be at the venue by 8 am on day the event is scheduled to start in case they have the first pre-event practice or first draw of the event. Events leading to a Canadian Championship and requiring a pre-event practice\, this schedule will be released with the completed draw. In the event there is a larger than expected number of teams and the pre-event practices and/or draw cannot be completed in the time allotted for the event\, then the schedule will be extended the necessary day(s) and practices/draw one will commence on the first scheduled day of the event. Information on pre-event and in event practices can be found here. \n  \n\n\nRules\nThis event is governed by NSC’s Competition Rules and Curling Canada’s Rules for Officiated Play. In the event there is conflicting information provided\, the NSC Competitions Director will make the final decision on which rule(s) will be used. \nNSC’s Competition Rules can be viewed online. \nAge Requirements\nTo be eligible to compete in this event players must be 14 years of age or younger prior to July 1\, 2019. \n\n\n  \n  \nRELIVE CHAMPIONSHIP MOMENTS\n\n                    \n                                    \n                    \n                                                \n                                            \n                    \n                                    \n                                \n                \n            \n \n\n\n\n\nSchedule & Registered Teams\n\n \nPRESENTING SPONSOR \nAll information for this event can be found on the Curling IO page. \nTeams that have registered and have been approved for entry into the event will be listed in the team section of the event.  Complete lineups for teams will only be displayed if each player on the team has a valid Curling IO profile.  All players in Nova Scotia are encouraged to create one.
URL:https://nscurl.com/event/2020-under-15-womens-greenspiel/
LOCATION:Bridgewater Curling Club\, 90 Dominion Street\, Bridgewater\, Nova Scotia\, B4V 2K1\, Canada
CATEGORIES:Junior Events
ATTACH;FMTTYPE=image/jpeg:https://nscurl.com/wp-content/uploads/2019/10/NSCA-2019-V2.jpg
ORGANIZER;CN="Andrew Abraham":MAILTO:aabraham1965@icloud.com
END:VEVENT
BEGIN:VEVENT
DTSTART;VALUE=DATE:20200206
DTEND;VALUE=DATE:20200212
DTSTAMP:20260423T050001
CREATED:20191017T102012Z
LAST-MODIFIED:20191022T164854Z
UID:12180-1580947200-1581465599@nscurl.com
SUMMARY:2020 Senior Women's Championship
DESCRIPTION:General Info\n\n \nRegistration\nPRESENTING SPONSOR \nNova Scotia Curling is now using Curling Canada’s Curling IO system for all of its events. This is the same system that is used to register teams for all of their events. You are required to have a profile within their system in order to register. Creating an account is easy. You simply use one of your existing social media or email accounts. Once logged in\, you will be able to update your profile & register for any NSC event. \n\nRegistration closes on Jan 03\, 2020 at 11:59 pm \n  \nPractice & Schedule Info\n \nNSC will make every attempt to release the draw schedule roughly two weeks prior to the event. Teams competing in the event should make the appropriate travel & lodging arrangements to ensure they can be at the venue by 8 am on day the event is scheduled to start in case they have the first pre-event practice or first draw of the event. Events leading to a Canadian Championship and requiring a pre-event practice\, this schedule will be released with the completed draw. In the event there is a larger than expected number of teams and the pre-event practices and/or draw cannot be completed in the time allotted for the event\, then the schedule will be extended the necessary day(s) and practices/draw one will commence on the first scheduled day of the event. Information on pre-event and in event practices can be found here. \n  \n\n\nRules\nThis event is governed by NSC’s Competition Rules and Curling Canada’s Rules for Officiated Play. In the event there is conflicting information provided\, the NSC Competitions Director will make the final decision on which rule(s) will be used. \nNSC’s Competition Rules can be viewed online. \nAge Requirements\nTo be eligible to compete in this event players must be 50 years of age or older prior to June 30\, 2020. \n\n\nRELIVE CHAMPIONSHIP MOMENTS\n\n                    \n                                    \n                    \n                                                \n                                            \n                    \n                                    \n                                \n                \n            \n \n\n\n\n\nSchedule & Registered Teams\n\n \nPRESENTING SPONSOR \nAll information for this event can be found on the Curling IO page. \nTeams that have registered and have been approved for entry into the event will be listed in the team section of the event.  Complete lineups for teams will only be displayed if each player on the team has a valid Curling IO profile.  All players in Nova Scotia are encouraged to create one. \n\nPast Champions\n\n \n\n\n\n\n	YearWinning ClubSkipThirdSecondLeadAlternateCoachCC/WC\n\n\n\n\n	2024HalifaxTheresa BreenKerri DennyJayne Flinn BurtonMary Sue Radford\n\n\n	2023GlooscapAndrea SaulnierJill Alcoe-HollandJocelyn NixKim Garby\n\n\n	2022HalifaxTheresa BreenMary Sue RadfordJulie McMullinHelen Radford\n\n\n	2021None due to COVID\n\n\n	2020HalifaxTheresa BreenMary Sue RadfordJulie McMullinHelen Radford\n\n\n	2019NSCANancy McConneryMargaret CutcliffeJill Alcoe-HollandAndrea Saulnier\n\n\n	2018NSCAMary MattatallMarg CutcliffeJill Alcoe-HollandAndrea Saulnier\n\n\n	2017NSCAMary MattatallMarg CutcliffeJill Alcoe-HollandAndrea Saulnier\n\n\n	2016MayflowerColleen JonesKim KellyMary Sue RadfordNancy Delahunt++\n\n\n	2015MayflowerColleen JonesKim KellyMary Sue RadfordNancy Delahunt\n\n\n	2014TruroColleen PinkneyWendy CurrieShelley MacNuttSusan Creelman\n\n\n	2013TruroColleen PinkneyWendy CurrieShelley MacNuttSusan Creelman+\n\n\n	2012MayflowerColleen JonesNancy DelahuntMarsha SobeySally Saunders\n\n\n	2011MayflowerColleen JonesNancy DelahuntMarsha SobeySally SaundersJocelyn Nix\n\n\n	2010GlooscapJocelyn NixAndrea SaulnierJill Alcoe-HollandJulie Morley\n\n\n	2009TruroColleen PinkneyWendy CurrieKaren HennigarSusan Creelman++\n\n\n	2008GlooscapYvonne MartinJulie MorleyAndrea SaulnierAudrey Dorey\n\n\n	2007MayflowerMarg CutcliffePenny LaRocqueJane ArseneauJill Linquist\n\n\n	2006MayflowerMarg CutcliffePenny LaRocqueJane ArseneauJill Linquist\n\n\n	2005MayflowerSue-Anne BartlettPenny LaRocqueKaren HennigarMarjorie MacKay\n\n\n	2004MayflowerSue-Anne BartlettPenny LaRocqueKaren HennigarJane Brett\n\n\n	2003GlooscapYvonne MartinCarol HampseySandra WalkerAllison Weagle\n\n\n	2002GlooscapYvonne MartinCarol HampseyDonna MacKinnonAllison Weagle\n\n\n	2001MayflowerPenny LaRocqueSharon Clarke-HorneSharon LowLouise MacPhee\n\n\n	2000AmherstAudrey AcklesRachel SmithCarol GothreauBetty Ripley
URL:https://nscurl.com/event/2020-senior-womens-championship/
LOCATION:Truro Curling Club\, 56 Young Street\, Truro\, Nova Scotia\, B2N 5C7\, Canada
CATEGORIES:Adult Events
ATTACH;FMTTYPE=image/jpeg:https://nscurl.com/wp-content/uploads/2019/10/NSCA-2019-V2.jpg
ORGANIZER;CN="Andrew Abraham":MAILTO:aabraham1965@icloud.com
END:VEVENT
BEGIN:VEVENT
DTSTART;VALUE=DATE:20200206
DTEND;VALUE=DATE:20200212
DTSTAMP:20260423T050001
CREATED:20191017T102719Z
LAST-MODIFIED:20191022T164821Z
UID:12185-1580947200-1581465599@nscurl.com
SUMMARY:2020 Senior Men's Championship
DESCRIPTION:General Info\n\n \nRegistration\nPRESENTING SPONSOR \nNova Scotia Curling is now using Curling Canada’s Curling IO system for all of its events. This is the same system that is used to register teams for all of their events. You are required to have a profile within their system in order to register. Creating an account is easy. You simply use one of your existing social media or email accounts. Once logged in\, you will be able to update your profile & register for any NSC event. \n\nRegistration closes on Jan 03\, 2020 at 11:59 pm \n  \nPractice & Schedule Info\n \nNSC will make every attempt to release the draw schedule roughly two weeks prior to the event. Teams competing in the event should make the appropriate travel & lodging arrangements to ensure they can be at the venue by 8 am on day the event is scheduled to start in case they have the first pre-event practice or first draw of the event. Events leading to a Canadian Championship and requiring a pre-event practice\, this schedule will be released with the completed draw. In the event there is a larger than expected number of teams and the pre-event practices and/or draw cannot be completed in the time allotted for the event\, then the schedule will be extended the necessary day(s) and practices/draw one will commence on the first scheduled day of the event. Information on pre-event and in event practices can be found here. \n  \n\n\nRules\nThis event is governed by NSC’s Competition Rules and Curling Canada’s Rules for Officiated Play. In the event there is conflicting information provided\, the NSC Competitions Director will make the final decision on which rule(s) will be used. \nNSC’s Competition Rules can be viewed online. \nAge Requirements\nTo be eligible to compete in this event players must be 50 years of age or older prior to June 30\, 2020. \n\n\nRELIVE CHAMPIONSHIP MOMENTS\n\n                    \n                                    \n                    \n                                                \n                                            \n                    \n                                    \n                                \n                \n            \n \n\n\n\n\nSchedule & Registered Teams\n\n \nPRESENTING SPONSOR \nAll information for this event can be found on the Curling IO page. \nTeams that have registered and have been approved for entry into the event will be listed in the team section of the event.  Complete lineups for teams will only be displayed if each player on the team has a valid Curling IO profile.  All players in Nova Scotia are encouraged to create one. \n\nPast Champions\n\n \n\n\n\n\n	YearWinning ClubSkipThirdSecondLeadAlternate CoachCC/WC\n\n\n\n\n	2024HalifaxPaul FlemmingMarty GavinKris GranchelliStuart MacLean\n\n\n	2023HalifaxPaul FlemmingPeter BurgessMarty GavinKris Granchelli\n\n\n	2022NSCAGlen MacLeodCraig BurgessKevin OuellettePeter Neily\n\n\n	2021None due to COVID\n\n\n	2020DartmouthAlan O'LearyStuart MacLeanDanny ChristiansonHarold McCarthy\n\n\n	2019NSCABrent MacDougallAndrew DauphineeMartin GavinTerry Piper\n\n\n	2018DartmouthAlan O'LearyStuart MacLeanDanny ChristiansonHarold McCarthy\n\n\n	2017DartmouthAlan O'LearyStuart MacLeanDanny ChristiansonHarold McCarthy\n\n\n	2016DartmouthAlan O'LearyAndrew DauphineeDanny ChristiansonHarold McCarthy\n\n\n	2015NSCAWayne SangsterPhil ReddenPeter NeilyJames Barr\n\n\n	2014MayflowerAlan O'LearyAndrew DauphineeDanny ChristiansonHarold McCarthy+\n\n\n	2013CFBAlan O'LearyAndrew DauphineeDanny ChristiansonHarold McCarthy\n\n\n	2012MayflowerDave McCuskerMike HemsworthJohn FlinnScott Moulton\n\n\n	2011MayflowerScott SaundersCurt PalmerDave SlauenwhiteGlenn JosephsonAlan Darragh\n\n\n	2010LakeshoreBrian RafuseCurt PalmerAlan DarraghDave Slauenwhite\n\n\n	2009MayflowerBryan MacPhersonSteve ElderJohn MontgomeryRollie Gauthier\n\n\n	2008BridgewaterBrian RafuseCurt PalmerAlan DarraghDave SlauenwhiteGlenn Josephson\n\n\n	2007BridgewaterBrian RafuseDave SlauenwhiteAlan DarraghGlenn Josephson\n\n\n	2006DartmouthDon MacIntoshPeter MacPheeMike CurriePeter Neily\n\n\n	2005TruroDon MacIntoshBob TealePeter NeilyLarry Higgins\n\n\n	2004MayflowerSteve OgdenTom FetterlyRod McCarronGlenn Josephson\n\n\n	2003MayflowerPeter CorkumStu CameronJim SteffensDavid Conrad\n\n\n	2002BluenoseHaylett ClarkeBill MacLeodVic BelliveauPeter GrantRoger Pettit\n\n\n	2001MayflowerRichard BelyeaGary CoppTerry MacKenzieJim Quinn\n\n\n	2000DartmouthLowell GouldenPeter MacPheeRobert TealeDonald Ross
URL:https://nscurl.com/event/2020-senior-mens-championship/
LOCATION:Truro Curling Club\, 56 Young Street\, Truro\, Nova Scotia\, B2N 5C7\, Canada
CATEGORIES:Adult Events
ATTACH;FMTTYPE=image/jpeg:https://nscurl.com/wp-content/uploads/2019/10/NSCA-2019-V2.jpg
ORGANIZER;CN="Andrew Abraham":MAILTO:aabraham1965@icloud.com
END:VEVENT
BEGIN:VEVENT
DTSTART;VALUE=DATE:20200207
DTEND;VALUE=DATE:20200210
DTSTAMP:20260423T050001
CREATED:20191021T094617Z
LAST-MODIFIED:20191021T094617Z
UID:12211-1581033600-1581292799@nscurl.com
SUMMARY:2020 Ship Hector Bonspiel
DESCRIPTION:48TH ANNUAL SHIP HECTOR OPEN CURLING BONSPIEL\nHosted by the four Pictou County curling clubs; BLUENOSE – New Glasgow\, NEW CALEDONIAN – Pictou\, STELLAR – Stellarton & WESTVILLE \nFRIDAY\, FEBRUARY 7 TO SUNDAY\, FEBRUARY 9\, 2019\n$7\,100.00 IN PRIZES* 20 TEAMS “IN MONEY”* GUARANTEED 4 GAMES\n*based on 48 team entries \nENTRY FEE $200 PER TEAM – OPEN TO MENS’\, LADIES’\, MIXED\, JUNIOR & SENIOR TEAMS\, STICK CURLERS WELCOME!\n➢ Registration\, Draw and Reception Buffet at the Bluenose Curling Club\, 5:30 – 7:00 pm Friday\, February 7th\, 2019. \n➢ First Draws at all clubs Friday 8:00pm and 10:00pm. \n➢ Finals Sunday 1:30pm. \nSend Registration/Entry form (below) to: Scott Maston\, P. O. Box 1258\, Pictou\, NS\, B0K 1H0. Make cheques payable to: “Ship Hector Curling Bonspiel” All entries will be acknowledged promptly. \nFurther Information: shiphectorbonspiel@gmail.com \nENTRY FORM SHIP HECTOR BONSPIEL (docx): http://curling.pictou.org/wp-content/uploads/2018/10/ENTRY-FORM-SHIP-HECTOR-BONSPIEL.docx
URL:https://nscurl.com/event/2020-ship-hector-bonspiel/
LOCATION:New Caledonian Curling Club\, 66 Caladah Avenue\, Pictou\, Nova Scotia\, B0K 1H0\, Canada
CATEGORIES:Adult Bonspiels
ATTACH;FMTTYPE=image/png:https://nscurl.com/wp-content/uploads/2019/10/HectorLogo.png
ORGANIZER;CN="Scott Maston":MAILTO:shiphectorbonspiel@gmail.com
END:VEVENT
END:VCALENDAR