BEGIN:VCALENDAR
VERSION:2.0
PRODID:-//Nova Scotia Curling Association - ECPv6.15.20//NONSGML v1.0//EN
CALSCALE:GREGORIAN
METHOD:PUBLISH
X-WR-CALNAME:Nova Scotia Curling Association
X-ORIGINAL-URL:https://nscurl.com
X-WR-CALDESC:Events for Nova Scotia Curling Association
REFRESH-INTERVAL;VALUE=DURATION:PT1H
X-Robots-Tag:noindex
X-PUBLISHED-TTL:PT1H
BEGIN:VTIMEZONE
TZID:America/Halifax
BEGIN:DAYLIGHT
TZOFFSETFROM:-0400
TZOFFSETTO:-0300
TZNAME:ADT
DTSTART:20190310T060000
END:DAYLIGHT
BEGIN:STANDARD
TZOFFSETFROM:-0300
TZOFFSETTO:-0400
TZNAME:AST
DTSTART:20191103T050000
END:STANDARD
BEGIN:DAYLIGHT
TZOFFSETFROM:-0400
TZOFFSETTO:-0300
TZNAME:ADT
DTSTART:20200308T060000
END:DAYLIGHT
BEGIN:STANDARD
TZOFFSETFROM:-0300
TZOFFSETTO:-0400
TZNAME:AST
DTSTART:20201101T050000
END:STANDARD
BEGIN:DAYLIGHT
TZOFFSETFROM:-0400
TZOFFSETTO:-0300
TZNAME:ADT
DTSTART:20210314T060000
END:DAYLIGHT
BEGIN:STANDARD
TZOFFSETFROM:-0300
TZOFFSETTO:-0400
TZNAME:AST
DTSTART:20211107T050000
END:STANDARD
END:VTIMEZONE
BEGIN:VEVENT
DTSTART;VALUE=DATE:20200304
DTEND;VALUE=DATE:20200310
DTSTAMP:20260423T032604
CREATED:20191024T100934Z
LAST-MODIFIED:20191125T125954Z
UID:12271-1583280000-1583715599@nscurl.com
SUMMARY:2020 Women's Curling Club Championship (formerly Travelers)
DESCRIPTION:General Info\n\n \nRegistration\nPRESENTING SPONSOR \nNova Scotia Curling is now using Curling Canada’s Curling IO system for all of its events. This is the same system that is used to register teams for all of their events. You are required to have a profile within their system in order to register. Creating an account is easy. You simply use one of your existing social media or email accounts. Once logged in\, you will be able to update your profile & register for any NSC event. \n\nRegistration closes on Jan 31\, 2020 at 11:59 pm \n  \nPractice & Schedule Info\nThe NSC will make every attempt to release the draw schedule roughly two weeks prior to the event. Teams competing in the event should make the appropriate travel & lodging arrangements to ensure they can be at the venue by 8 am on day the event is scheduled to start in case they have the first pre-event practice or first draw of the event. Events leading to a Canadian Championship and requiring a pre-event practice\, this schedule will be released with the completed draw. In the event there is a larger than expected number of teams and the pre-event practices and/or draw cannot be completed in the time allotted for the event\, then the schedule will be extended the necessary day(s) and practices/draw one will commence on the first scheduled day of the event. Information on pre-event and in event practices can be found here. \n  \n\n\nRules\nThis event is governed by NSC’s Competition Rules and Curling Canada’s Rules for Officiated Play. In the event there is conflicting information provided\, the NSC Competitions Director will make the final decision on which rule(s) will be used. \nNSC’s Competition Rules can be viewed online. \nSpecial rules for this event can be viewed here. \nAge Requirements\nTo be eligible to compete in this event players must be 19 years of age or old prior to November 2\, 2019. \n\n\n  \n  \nRELIVE CHAMPIONSHIP MOMENTS\n\n                    \n                                    \n                    \n                                                \n                                            \n                    \n                                    \n                                \n                \n            \n \n\n\n\n\nSchedule & Registered Teams\n\n \nPRESENTING SPONSOR \nAll information for this event can be found on the Curling IO page. \nTeams that have registered and have been approved for entry into the event will be listed in the team section of the event.  Complete lineups for teams will only be displayed if each player on the team has a valid Curling IO profile.  All players in Nova Scotia are encouraged to create one.
URL:https://nscurl.com/event/2020-womens-curling-club-championship-formerly-travelers/
LOCATION:Amherst Curling Club\, 45 Prince Arthur Street\, Amherst\, Nova Scotia\, B4H 3Y6\, Canada
CATEGORIES:Adult Events
ATTACH;FMTTYPE=image/jpeg:https://nscurl.com/wp-content/uploads/2019/10/NSCA-2019-V2.jpg
ORGANIZER;CN="Andrew Abraham":MAILTO:aabraham1965@icloud.com
END:VEVENT
BEGIN:VEVENT
DTSTART;VALUE=DATE:20200305
DTEND;VALUE=DATE:20200311
DTSTAMP:20260423T032604
CREATED:20191024T101655Z
LAST-MODIFIED:20191024T101655Z
UID:12275-1583366400-1583801999@nscurl.com
SUMMARY:2020 Under 18 Women's Championship
DESCRIPTION:General Info\n\n \nRegistration\nPRESENTING SPONSOR \nNova Scotia Curling is now using Curling Canada’s Curling IO system for all of its events. This is the same system that is used to register teams for all of their events. You are required to have a profile within their system in order to register. Creating an account is easy. You simply use one of your existing social media or email accounts. Once logged in\, you will be able to update your profile & register for any NSC event. \n\nRegistration closes on Jan 31\, 2020 at 11:59 pm \n  \nPractice & Schedule Info\n \nThe NSC will make every attempt to release the draw schedule roughly two weeks prior to the event. Teams competing in the event should make the appropriate travel & lodging arrangements to ensure they can be at the venue by 8 am on day the event is scheduled to start in case they have the first pre-event practice or first draw of the event. Events leading to a Canadian Championship and requiring a pre-event practice\, this schedule will be released with the completed draw. In the event there is a larger than expected number of teams and the pre-event practices and/or draw cannot be completed in the time allotted for the event\, then the schedule will be extended the necessary day(s) and practices/draw one will commence on the first scheduled day of the event. Information on pre-event and in event practices can be found here. \n  \n\n\nRules\nThis event is governed by NSC’s Competition Rules and Curling Canada’s Rules for Officiated Play. In the event there is conflicting information provided\, the NSC Competitions Director will make the final decision on which rule(s) will be used. \nNSC’s Competition Rules can be viewed online. \nAge Requirements\nTo be eligible to compete in this event players must be 17 years of age or younger prior to July 1\, 2019. \n\n\n  \n  \nRELIVE CHAMPIONSHIP MOMENTS\n\n                    \n                                    \n                    \n                                                \n                                            \n                    \n                                    \n                                \n                \n            \n \n\n\n\n\nSchedule & Registered Teams\n\n \nPRESENTING SPONSOR \nAll information for this event can be found on the Curling IO page. \nTeams that have registered and have been approved for entry into the event will be listed in the team section of the event.  Complete lineups for teams will only be displayed if each player on the team has a valid Curling IO profile.  All players in Nova Scotia are encouraged to create one. \n\nPast Champions\n\n \n\n\n\n\n	YearWinning ClubSkipThirdSecondLeadAlternateCoachCC\n\n\n\n\n	2025HalifaxCassidy BladesSteffi AthertonAnna MacNuttLily MitchellAndrew Atherton\n\n\n	2024LakeshoreRebecca ReganOlivia McDonahMackenzie HiltzElla KinleyMichel Ladouceur\n\n\n	2023LakeshoreRebecca ReganMackenzie HiltzElla WilsonElla KinleyAce MacDonaldMichel Ladouceur\n\n\n	2022MayflowerMarin CallaghanMaria FitzgeraldMacKenzie HillPeyton BowserMike Callaghan\n\n\n	2021None due to COVID\n\n\n	2020BridgewaterKatelyn NoddingCally MooreLydia LockeAllison UmlahScott Nodding\n\n\n	2019MayflowerCally MooreTaylour StevensCassidy CurrieCate FitzgeraldRob Moore\n\n\n	2018LakeshoreIsabelle LadouceurEmilie ProulxKate CallaghanMakayla HarnishElsa Nauss Brian Rafuse\n\n\n	2017MayflowerCally MooreCassidy CurrieAlexis ChiassonCate FitzgeraldRob Moore
URL:https://nscurl.com/event/2020-under-18-womens-championship/
LOCATION:Truro Curling Club\, 56 Young Street\, Truro\, Nova Scotia\, B2N 5C7\, Canada
CATEGORIES:Junior Events
ATTACH;FMTTYPE=image/jpeg:https://nscurl.com/wp-content/uploads/2019/10/NSCA-2019-V2.jpg
ORGANIZER;CN="Andrew Abraham":MAILTO:aabraham1965@icloud.com
END:VEVENT
BEGIN:VEVENT
DTSTART;VALUE=DATE:20200305
DTEND;VALUE=DATE:20200311
DTSTAMP:20260423T032604
CREATED:20191024T102918Z
LAST-MODIFIED:20191024T102918Z
UID:12278-1583366400-1583801999@nscurl.com
SUMMARY:2020 Under 18 Men's Championship
DESCRIPTION:General Info\n\n \nRegistration\nPRESENTING SPONSOR \nNova Scotia Curling is now using Curling Canada’s Curling IO system for all of its events. This is the same system that is used to register teams for all of their events. You are required to have a profile within their system in order to register. Creating an account is easy. You simply use one of your existing social media or email accounts. Once logged in\, you will be able to update your profile & register for any NSC event. \n\nRegistration closes on Jan 31\, 2020 at 11:59 pm \n  \nPractice & Schedule Info\n \nNSC will make every attempt to release the draw schedule roughly two weeks prior to the event. Teams competing in the event should make the appropriate travel & lodging arrangements to ensure they can be at the venue by 8 am on day the event is scheduled to start in case they have the first pre-event practice or first draw of the event. Events leading to a Canadian Championship and requiring a pre-event practice\, this schedule will be released with the completed draw. In the event there is a larger than expected number of teams and the pre-event practices and/or draw cannot be completed in the time allotted for the event\, then the schedule will be extended the necessary day(s) and practices/draw one will commence on the first scheduled day of the event. Information on pre-event and in event practices can be found here. \n  \n\n\nRules\nThis event is governed by NSC’s Competition Rules and Curling Canada’s Rules for Officiated Play. In the event there is conflicting information provided\, the NSC Competitions Director will make the final decision on which rule(s) will be used. \nNSC’s Competition Rules can be viewed online. \nAge Requirements\nTo be eligible to compete in this event players must be 17 years of age or younger prior to July 1\, 2019. \n\n\n  \n  \nRELIVE CHAMPIONSHIP MOMENTS\n\n                    \n                                    \n                    \n                                                \n                                            \n                    \n                                    \n                                \n                \n            \n \n\n\n\n\nSchedule & Registered Teams\n\n \nPRESENTING SPONSOR \nAll information for this event can be found on the Curling IO page. \nTeams that have registered and have been approved for entry into the event will be listed in the team section of the event.  Complete lineups for teams will only be displayed if each player on the team has a valid Curling IO profile.  All players in Nova Scotia are encouraged to create one. \n\nPast Champions\n\n \n\n\n\n\n	YearWinning ClubSkipThirdSecondLeadAlternateCoachCC\n\n\n\n\n	2025HalifaxZach AthertonAlan FawcettTyler McMullenJed FreemanJoel Krats\n\n\n	2024HalifaxZach AthertonAlan FawcettTyler McMullenBrennan SmithJoel Krats\n\n\n	2023HalifaxNick MosherOwen McPhersonEvan HennigarAidan MacDonaldDanny Christianson\n\n\n	2022TruroCalan MacIsaacNathan GrayOwain FisherChristopher McCurdyCraig Burgess\n\n\n	2021None due to COVID\n\n\n	2020LunenburgAdam CurrieBenjamin CurrieNathan AllenConnor HainesNick Deagle\n\n\n	2019TruroAdam McEachrenOwen PurcellAlex McDonahScott WeagleAnthony Purcell\n\n\n	2018ChesterGraeme WeagleOwen PurcellJeffrey MeagherScott WeagleAnthony Purcell\n\n\n	2017Ryan AbrahamMitchell CortelloJake FlemmingThomas MosherPaul Flemming
URL:https://nscurl.com/event/2020-under-18-mens-championship/
LOCATION:Truro Curling Club\, 56 Young Street\, Truro\, Nova Scotia\, B2N 5C7\, Canada
CATEGORIES:Junior Events
ATTACH;FMTTYPE=image/jpeg:https://nscurl.com/wp-content/uploads/2019/10/NSCA-2019-V2.jpg
ORGANIZER;CN="Andrew Abraham":MAILTO:aabraham1965@icloud.com
END:VEVENT
END:VCALENDAR