BEGIN:VCALENDAR
VERSION:2.0
PRODID:-//Nova Scotia Curling Association - ECPv6.15.20//NONSGML v1.0//EN
CALSCALE:GREGORIAN
METHOD:PUBLISH
X-WR-CALNAME:Nova Scotia Curling Association
X-ORIGINAL-URL:https://nscurl.com
X-WR-CALDESC:Events for Nova Scotia Curling Association
REFRESH-INTERVAL;VALUE=DURATION:PT1H
X-Robots-Tag:noindex
X-PUBLISHED-TTL:PT1H
BEGIN:VTIMEZONE
TZID:America/Halifax
BEGIN:DAYLIGHT
TZOFFSETFROM:-0400
TZOFFSETTO:-0300
TZNAME:ADT
DTSTART:20190310T060000
END:DAYLIGHT
BEGIN:STANDARD
TZOFFSETFROM:-0300
TZOFFSETTO:-0400
TZNAME:AST
DTSTART:20191103T050000
END:STANDARD
BEGIN:DAYLIGHT
TZOFFSETFROM:-0400
TZOFFSETTO:-0300
TZNAME:ADT
DTSTART:20200308T060000
END:DAYLIGHT
BEGIN:STANDARD
TZOFFSETFROM:-0300
TZOFFSETTO:-0400
TZNAME:AST
DTSTART:20201101T050000
END:STANDARD
BEGIN:DAYLIGHT
TZOFFSETFROM:-0400
TZOFFSETTO:-0300
TZNAME:ADT
DTSTART:20210314T060000
END:DAYLIGHT
BEGIN:STANDARD
TZOFFSETFROM:-0300
TZOFFSETTO:-0400
TZNAME:AST
DTSTART:20211107T050000
END:STANDARD
END:VTIMEZONE
BEGIN:VEVENT
DTSTART;VALUE=DATE:20200319
DTEND;VALUE=DATE:20200324
DTSTAMP:20260423T032605
CREATED:20191025T101703Z
LAST-MODIFIED:20191030T100734Z
UID:12312-1584579600-1584925199@nscurl.com
SUMMARY:2020 Under 16 Mixed Championship
DESCRIPTION:General Info\n\n \nRegistration\nPRESENTING SPONSOR \nNova Scotia Curling is now using Curling Canada’s Curling IO system for all of its events. This is the same system that is used to register teams for all of their events. You are required to have a profile within their system in order to register. Creating an account is easy. You simply use one of your existing social media or email accounts. Once logged in\, you will be able to update your profile & register for any NSC event. \n\nRegistration closes on Feb 14\, 2020 at 11:59 pm \n  \nPractice & Schedule Info\nThe NSC will make every attempt to release the draw schedule roughly two weeks prior to the event. Teams competing in the event should make the appropriate travel & lodging arrangements to ensure they can be at the venue by 8 am on day the event is scheduled to start in case they have the first pre-event practice or first draw of the event. Events leading to a Canadian Championship and requiring a pre-event practice\, this schedule will be released with the completed draw. In the event there is a larger than expected number of teams and the pre-event practices and/or draw cannot be completed in the time allotted for the event\, then the schedule will be extended the necessary day(s) and practices/draw one will commence on the first scheduled day of the event. Information on pre-event and in event practices can be found here. \n  \n\n\nRules\nThis event is governed by NSC’s Competition Rules and Curling Canada’s Rules for Officiated Play. In the event there is conflicting information provided\, the NSC Competitions Director will make the final decision on which rule(s) will be used. \nNSC’s Competition Rules can be viewed online. \nAge Requirements\nTo be eligible to compete in this event players must be 15 years of age or younger prior to July 1\, 2019. \n\n\n  \n  \nRELIVE CHAMPIONSHIP MOMENTS\n\n                    \n                                    \n                    \n                                                \n                                            \n                    \n                                    \n                                \n                \n            \n \n\n\n\n\nSchedule & Registered Teams\n\n \nPRESENTING SPONSOR \nAll information for this event can be found on the Curling IO page. \nTeams that have registered and have been approved for entry into the event will be listed in the team section of the event.  Complete lineups for teams will only be displayed if each player on the team has a valid Curling IO profile.  All players in Nova Scotia are encouraged to create one.
URL:https://nscurl.com/event/2020-under-16-mixed-championship/
LOCATION:Lakeshore Curling Club\, 409 Glendale Avenue\, Lower Sackville\, Nova Scotia\, B4C 3V3\, Canada
CATEGORIES:Junior Events
ATTACH;FMTTYPE=image/jpeg:https://nscurl.com/wp-content/uploads/2019/10/NSCA-2019-V2.jpg
ORGANIZER;CN="Andrew Abraham":MAILTO:aabraham1965@icloud.com
END:VEVENT
BEGIN:VEVENT
DTSTART;VALUE=DATE:20200319
DTEND;VALUE=DATE:20200324
DTSTAMP:20260423T032605
CREATED:20191025T102322Z
LAST-MODIFIED:20191030T100818Z
UID:12321-1584579600-1584925199@nscurl.com
SUMMARY:2020 Under 19 Mixed Championship
DESCRIPTION:General Info\n\n \nRegistration\nPRESENTING SPONSOR \nNova Scotia Curling is now using Curling Canada’s Curling IO system for all of its events. This is the same system that is used to register teams for all of their events. You are required to have a profile within their system in order to register. Creating an account is easy. You simply use one of your existing social media or email accounts. Once logged in\, you will be able to update your profile & register for any NSC event. \n\nRegistration closes on Feb 14\, 2020 at 11:59 pm \n  \nPractice & Schedule Info\nNSC will make every attempt to release the draw schedule roughly two weeks prior to the event. Teams competing in the event should make the appropriate travel & lodging arrangements to ensure they can be at the venue by 8 am on day the event is scheduled to start in case they have the first pre-event practice or first draw of the event. Events leading to a Canadian Championship and requiring a pre-event practice\, this schedule will be released with the completed draw. In the event there is a larger than expected number of teams and the pre-event practices and/or draw cannot be completed in the time allotted for the event\, then the schedule will be extended the necessary day(s) and practices/draw one will commence on the first scheduled day of the event. Information on pre-event and in event practices can be found here. \n  \n\n\nRules\nThis event is governed by NSC’s Competition Rules and Curling Canada’s Rules for Officiated Play. In the event there is conflicting information provided\, the NSC Competitions Director will make the final decision on which rule(s) will be used. \nNSC’s Competition Rules can be viewed online. \nAge Requirements\nTo be eligible to compete in this event players must be 18 years of age or younger prior to July 1\, 2019. \n\n\n  \n  \nRELIVE CHAMPIONSHIP MOMENTS\n\n                    \n                                    \n                    \n                                                \n                                            \n                    \n                                    \n                                \n                \n            \n \n\n\n\n\nSchedule & Registered Teams\n\n \nPRESENTING SPONSOR \nAll information for this event can be found on the Curling IO page. \nTeams that have registered and have been approved for entry into the event will be listed in the team section of the event.  Complete lineups for teams will only be displayed if each player on the team has a valid Curling IO profile.  All players in Nova Scotia are encouraged to create one.
URL:https://nscurl.com/event/2020-under-19-mixed-championship/
LOCATION:Lakeshore Curling Club\, 409 Glendale Avenue\, Lower Sackville\, Nova Scotia\, B4C 3V3\, Canada
CATEGORIES:Junior Events
ATTACH;FMTTYPE=image/jpeg:https://nscurl.com/wp-content/uploads/2019/10/NSCA-2019-V2.jpg
ORGANIZER;CN="Andrew Abraham":MAILTO:aabraham1965@icloud.com
END:VEVENT
BEGIN:VEVENT
DTSTART;VALUE=DATE:20200320
DTEND;VALUE=DATE:20200324
DTSTAMP:20260423T032605
CREATED:20200204T133636Z
LAST-MODIFIED:20200204T133636Z
UID:13037-1584666000-1584925199@nscurl.com
SUMMARY:Berwick Junior Curl Into Spring Fun Spiel
DESCRIPTION:When: March 20-22\, 2020\nWhere: Berwick Curling Club\nAges: U12 (4 end games & on ice coaching)  U15 (6 end games) \n12 teams for each group\n$120/team \nDeadline :Feb 22 /2020 \nContact: Alice McNeil\nalice.mailman@ns.sympatico.ca\n902-844-1085
URL:https://nscurl.com/event/berwick-junior-curl-into-spring-fun-spiel/
LOCATION:Berwick Curling Club\, 250 Veteran’s Drive\, Berwick\, Nova Scotia\, B0P 1E0\, Canada
CATEGORIES:Junior Bonspiels
ATTACH;FMTTYPE=image/jpeg:https://nscurl.com/wp-content/uploads/2020/01/Berwick-Jr.-Curling-into-Spring-Fun-Spiel-poster-2020-page-001-scaled.jpg
ORGANIZER;CN="Alice McNeil":MAILTO:alice.mailman@ns.sympatico.ca
END:VEVENT
END:VCALENDAR