BEGIN:VCALENDAR
VERSION:2.0
PRODID:-//Nova Scotia Curling Association - ECPv6.15.20//NONSGML v1.0//EN
CALSCALE:GREGORIAN
METHOD:PUBLISH
X-ORIGINAL-URL:https://nscurl.com
X-WR-CALDESC:Events for Nova Scotia Curling Association
REFRESH-INTERVAL;VALUE=DURATION:PT1H
X-Robots-Tag:noindex
X-PUBLISHED-TTL:PT1H
BEGIN:VTIMEZONE
TZID:America/Halifax
BEGIN:DAYLIGHT
TZOFFSETFROM:-0400
TZOFFSETTO:-0300
TZNAME:ADT
DTSTART:20190310T060000
END:DAYLIGHT
BEGIN:STANDARD
TZOFFSETFROM:-0300
TZOFFSETTO:-0400
TZNAME:AST
DTSTART:20191103T050000
END:STANDARD
BEGIN:DAYLIGHT
TZOFFSETFROM:-0400
TZOFFSETTO:-0300
TZNAME:ADT
DTSTART:20200308T060000
END:DAYLIGHT
BEGIN:STANDARD
TZOFFSETFROM:-0300
TZOFFSETTO:-0400
TZNAME:AST
DTSTART:20201101T050000
END:STANDARD
BEGIN:DAYLIGHT
TZOFFSETFROM:-0400
TZOFFSETTO:-0300
TZNAME:ADT
DTSTART:20210314T060000
END:DAYLIGHT
BEGIN:STANDARD
TZOFFSETFROM:-0300
TZOFFSETTO:-0400
TZNAME:AST
DTSTART:20211107T050000
END:STANDARD
END:VTIMEZONE
BEGIN:VEVENT
DTSTART;VALUE=DATE:20201112
DTEND;VALUE=DATE:20201116
DTSTAMP:20260422T150639
CREATED:20201008T203756Z
LAST-MODIFIED:20201023T110126Z
UID:14121-1605139200-1605484799@nscurl.com
SUMMARY:Stu Sells 1824 Halifax Classic
DESCRIPTION:The 3rd annual Stu Sells 1824 Halifax Classic will take place Nov.12-15\, 2020 at the Halifax Curling Club\, 948 South Bland Street. This is a triple knock-out event with 16 of the top mens teams in Atlantic Canada competing for $25\,000 in prize money. Accepted registrations will be based on 2019 WCT points standings. Limited on-line ticket sales will be available in late October by visiting www.halifaxcurl.com/events
URL:https://nscurl.com/event/stu-sells-1824-halifax-classic/
LOCATION:Halifax Curling Club\, 948 South Bland Street\, Halifax\, Nova Scotia\, B3H 2S5\, Canada
CATEGORIES:Adult Bonspiels,Adult Events
ATTACH;FMTTYPE=image/jpeg:https://nscurl.com/wp-content/uploads/2020/10/HalifaxClassicLogo.jpg
ORGANIZER;CN="Stephen Thompson":MAILTO:info@halifaxcurl.com
END:VEVENT
END:VCALENDAR