BEGIN:VCALENDAR
VERSION:2.0
PRODID:-//Nova Scotia Curling Association - ECPv6.15.20//NONSGML v1.0//EN
CALSCALE:GREGORIAN
METHOD:PUBLISH
X-WR-CALNAME:Nova Scotia Curling Association
X-ORIGINAL-URL:https://nscurl.com
X-WR-CALDESC:Events for Nova Scotia Curling Association
REFRESH-INTERVAL;VALUE=DURATION:PT1H
X-Robots-Tag:noindex
X-PUBLISHED-TTL:PT1H
BEGIN:VTIMEZONE
TZID:America/Halifax
BEGIN:DAYLIGHT
TZOFFSETFROM:-0400
TZOFFSETTO:-0300
TZNAME:ADT
DTSTART:20190310T060000
END:DAYLIGHT
BEGIN:STANDARD
TZOFFSETFROM:-0300
TZOFFSETTO:-0400
TZNAME:AST
DTSTART:20191103T050000
END:STANDARD
BEGIN:DAYLIGHT
TZOFFSETFROM:-0400
TZOFFSETTO:-0300
TZNAME:ADT
DTSTART:20200308T060000
END:DAYLIGHT
BEGIN:STANDARD
TZOFFSETFROM:-0300
TZOFFSETTO:-0400
TZNAME:AST
DTSTART:20201101T050000
END:STANDARD
BEGIN:DAYLIGHT
TZOFFSETFROM:-0400
TZOFFSETTO:-0300
TZNAME:ADT
DTSTART:20210314T060000
END:DAYLIGHT
BEGIN:STANDARD
TZOFFSETFROM:-0300
TZOFFSETTO:-0400
TZNAME:AST
DTSTART:20211107T050000
END:STANDARD
END:VTIMEZONE
BEGIN:VEVENT
DTSTART;TZID=America/Halifax:20201128T090000
DTEND;TZID=America/Halifax:20201128T150000
DTSTAMP:20260422T150237
CREATED:20201116T215417Z
LAST-MODIFIED:20201128T022337Z
UID:14557-1606554000-1606575600@nscurl.com
SUMMARY:South Shore Regional Junior Development Camp - Chester Curling Club [Postponed]
DESCRIPTION:UPDATE (Nov. 23\, 2020): THE SOUTH SHORE REGIONAL DEVELOPMENT CAMP HAS BEEN POSTPONED.\nCLICK HERE to learn more about the South Shore Regional Junior Development Camp. \nCLICK HERE to register ($50/ a participant). \nDeadline for registration will be a week prior to the event’s start date. \nAny questions regarding the Junior Development Camp can be directly to: \nRyan Abraham \nTechnical Director \nrabraham@nscurl.com \nm: (902) 877-3054
URL:https://nscurl.com/event/south-shore-regional-junior-development-camp-3/
LOCATION:Chester Curling Club\, 190 Pigloop Road\, Chester\, Nova Scotia\, B0J 1J0\, Canada
CATEGORIES:Athlete Development,Junior Events
END:VEVENT
BEGIN:VEVENT
DTSTART;TZID=America/Halifax:20201128T090000
DTEND;TZID=America/Halifax:20201129T150000
DTSTAMP:20260422T150237
CREATED:20201116T222451Z
LAST-MODIFIED:20201128T022309Z
UID:14563-1606554000-1606662000@nscurl.com
SUMMARY:Club Coach Clinic (Bridgewater Curling Club) [Postponed]
DESCRIPTION:UPDATE (Nov. 23rd\, 2020): THE BRIDGEWATER CLUB COACH CLINIC HAS BEEN POSTPONED.\nCLICK HERE to learn more about the Club Coach Clinic. \nCLICK HERE to register ($125/ a participant). \nDeadline for registration will be a week prior to the event’s start date. \nAny questions regarding the Club Coach Clinic can be directly to: \nRyan Abraham \nTechnical Director \nrabraham@nscurl.com \nm: (902) 877-3054
URL:https://nscurl.com/event/club-coach-clinic-bridgewater-curling-club/
LOCATION:Bridgewater Curling Club\, 90 Dominion Street\, Bridgewater\, Nova Scotia\, B4V 2K1\, Canada
CATEGORIES:Coaching Development,NCCP Training
END:VEVENT
END:VCALENDAR