BEGIN:VCALENDAR
VERSION:2.0
PRODID:-//Nova Scotia Curling Association - ECPv6.15.20//NONSGML v1.0//EN
CALSCALE:GREGORIAN
METHOD:PUBLISH
X-ORIGINAL-URL:https://nscurl.com
X-WR-CALDESC:Events for Nova Scotia Curling Association
REFRESH-INTERVAL;VALUE=DURATION:PT1H
X-Robots-Tag:noindex
X-PUBLISHED-TTL:PT1H
BEGIN:VTIMEZONE
TZID:America/Halifax
BEGIN:DAYLIGHT
TZOFFSETFROM:-0400
TZOFFSETTO:-0300
TZNAME:ADT
DTSTART:20190310T060000
END:DAYLIGHT
BEGIN:STANDARD
TZOFFSETFROM:-0300
TZOFFSETTO:-0400
TZNAME:AST
DTSTART:20191103T050000
END:STANDARD
BEGIN:DAYLIGHT
TZOFFSETFROM:-0400
TZOFFSETTO:-0300
TZNAME:ADT
DTSTART:20200308T060000
END:DAYLIGHT
BEGIN:STANDARD
TZOFFSETFROM:-0300
TZOFFSETTO:-0400
TZNAME:AST
DTSTART:20201101T050000
END:STANDARD
BEGIN:DAYLIGHT
TZOFFSETFROM:-0400
TZOFFSETTO:-0300
TZNAME:ADT
DTSTART:20210314T060000
END:DAYLIGHT
BEGIN:STANDARD
TZOFFSETFROM:-0300
TZOFFSETTO:-0400
TZNAME:AST
DTSTART:20211107T050000
END:STANDARD
END:VTIMEZONE
BEGIN:VEVENT
DTSTART;VALUE=DATE:20201204
DTEND;VALUE=DATE:20201207
DTSTAMP:20260422T132822
CREATED:20201029T170823Z
LAST-MODIFIED:20201030T133456Z
UID:14356-1607040000-1607299199@nscurl.com
SUMMARY:Island Petroleum Cashspiel
DESCRIPTION:Island Petroleum Cashspiel hosted by the Silver Fox Curling and Yacht Club in Summerside PEI
URL:https://nscurl.com/event/island-petroleum-cashspiel/
LOCATION:Nova Scotia\, Canada
CATEGORIES:Adult Bonspiels,Junior Bonspiels
ATTACH;FMTTYPE=image/jpeg:https://nscurl.com/wp-content/uploads/2020/10/Island-Petro-Clubs-Poster.jpg
ORGANIZER;CN="Terry Arsenault":MAILTO:arsenault76_1@hotmail.com
END:VEVENT
BEGIN:VEVENT
DTSTART;VALUE=DATE:20201204
DTEND;VALUE=DATE:20201207
DTSTAMP:20260422T132822
CREATED:20201210T173732Z
LAST-MODIFIED:20201210T173732Z
UID:14359-1607040000-1607299199@nscurl.com
SUMMARY:Island Petroleum Cashspiel
DESCRIPTION:Island Petroleum Cashspiel hosted by the Silver Fox Curling and Yacht Club in Summerside PEI
URL:https://nscurl.com/event/island-petroleum-cashspiel-2/
LOCATION:Nova Scotia
CATEGORIES:Junior Bonspiels
ATTACH;FMTTYPE=image/jpeg:https://nscurl.com/wp-content/uploads/2020/10/Island-Petro-Clubs-Poster-1.jpg
ORGANIZER;CN="Terry Arsenault":MAILTO:arsenault76_1@hotmail.com
END:VEVENT
END:VCALENDAR