BEGIN:VCALENDAR
VERSION:2.0
PRODID:-//Nova Scotia Curling Association - ECPv6.15.20//NONSGML v1.0//EN
CALSCALE:GREGORIAN
METHOD:PUBLISH
X-WR-CALNAME:Nova Scotia Curling Association
X-ORIGINAL-URL:https://nscurl.com
X-WR-CALDESC:Events for Nova Scotia Curling Association
REFRESH-INTERVAL;VALUE=DURATION:PT1H
X-Robots-Tag:noindex
X-PUBLISHED-TTL:PT1H
BEGIN:VTIMEZONE
TZID:America/Halifax
BEGIN:DAYLIGHT
TZOFFSETFROM:-0400
TZOFFSETTO:-0300
TZNAME:ADT
DTSTART:20200308T060000
END:DAYLIGHT
BEGIN:STANDARD
TZOFFSETFROM:-0300
TZOFFSETTO:-0400
TZNAME:AST
DTSTART:20201101T050000
END:STANDARD
BEGIN:DAYLIGHT
TZOFFSETFROM:-0400
TZOFFSETTO:-0300
TZNAME:ADT
DTSTART:20210314T060000
END:DAYLIGHT
BEGIN:STANDARD
TZOFFSETFROM:-0300
TZOFFSETTO:-0400
TZNAME:AST
DTSTART:20211107T050000
END:STANDARD
BEGIN:DAYLIGHT
TZOFFSETFROM:-0400
TZOFFSETTO:-0300
TZNAME:ADT
DTSTART:20220313T060000
END:DAYLIGHT
BEGIN:STANDARD
TZOFFSETFROM:-0300
TZOFFSETTO:-0400
TZNAME:AST
DTSTART:20221106T050000
END:STANDARD
END:VTIMEZONE
BEGIN:VEVENT
DTSTART;TZID=America/Halifax:20210201T080000
DTEND;TZID=America/Halifax:20210203T170000
DTSTAMP:20260422T101703
CREATED:20201018T181045Z
LAST-MODIFIED:20210111T062107Z
UID:14191-1612166400-1612371600@nscurl.com
SUMMARY:2021 Grandmasters Men's Championship [Cancelled]
DESCRIPTION:2020-2021 Dates and Locations\n2020 MEN’S CHAMPIONS Skip – David Steeves\, Mate – Sinc Dewis\, Second – Bruce Larter\, Lead – Bob Small \nProvincial – Lakeshore Curling Club\, Lower Sackville\, NS ~ February 1-3\, 2021 \nQualifications\nAll teams who register will qualify directly to the Provincial Championships. \nPractice and Schedule Info\n\nNSC will make every attempt to release the draw schedule roughly two weeks prior to the event. Teams competing in the event should make the appropriate travel & lodging arrangements to ensure they can be at the venue by 8 am on day the event is scheduled to start in case they have the first pre-event practice or first draw of the event. Events leading to a Canadian Championship and requiring a pre-event practice\, this schedule will be released with the completed draw. In the event there is a larg \ner than expected number of teams and the pre-event practices and/or draw cannot be completed in the time allotted for the event\, then the schedule will be extended the necessary day(s) and practices/draw one will commence on the first scheduled day of the event. Information on pre-event and in event practices can be found here. \n\n\nRules\nThis event is not governed by NSC’s Competition Rules and Curling. \nAge Requirements\nAll Grandmasters competitors must be 70 years of age or older at the start of the event. \nRegistrations \n\n\nAll information and registration for this event can be found on the Curling I/O page. \nTeams that have qualified for the event will be listed in the team section of the event. Complete lineups for teams will only be displayed if each player on the team has a valid Curling I/O profile. All players in Nova Scotia are encouraged to create one. \nEvent Disclaimers:\n\nIf there are less than 8 teams registered for any event at the d \neadline\, NSCA reserves the right to cancel the event.  All entry fees will be returned. \nIf a provincial winner is declared and the Canadian is not held in 2021\, neither provincial uniforms or team assistance will be issued to the winning team.  Further information will be available here once confirmation received by Curling Canada – please check back. \n\nContact:\nQuestions about the 2021 Grandmasters Men’s Championship? Please contact: \nAndrew Abraham | Director of Competitions \nm. (902) 220-3307 \ne. aabraham1965@icloud.com
URL:https://nscurl.com/event/2021-grandmasters-mens-championship/
LOCATION:Lakeshore Curling Club\, 409 Glendale Avenue\, Lower Sackville\, Nova Scotia\, B4C 3V3\, Canada
CATEGORIES:Adult Events,NSCA Championships
END:VEVENT
BEGIN:VEVENT
DTSTART;TZID=America/Halifax:20210201T080000
DTEND;TZID=America/Halifax:20210203T170000
DTSTAMP:20260422T101703
CREATED:20201018T181511Z
LAST-MODIFIED:20210111T062118Z
UID:14194-1612166400-1612371600@nscurl.com
SUMMARY:2021 Grandmasters Women's Championship [Cancelled]
DESCRIPTION:2020-2021 Dates and Locations\nProvincial – Lakeshore Curling Club\, Lower Sackville\, NS ~ February 1-3\, 2021 \nQualifications\n2020 WOMEN’S CHAMPIONS Skip – Marjorie MacKay\, Third – Judy McMahon\, Second – Caroline Belliveau\, Lead – Karen Romkey \nAll teams who register will qualify directly to the Provincial Championships. \nPractice and Schedule Info\n\nNSC will make every attempt to release the draw schedule roughly two weeks prior to the event. Teams competing in the event should make the appropriate travel & lodging arrangements to ensure they can be at the venue by 8 am on day the event is scheduled to start in case they have the first pre-event practice or first draw of the event. Events leading to a Canadian Championship and requiring a pre-event practice\, this schedule will be released with the completed draw. In the event there is a larg \ner than expected number of teams and the pre-event practices and/or draw cannot be completed in the time allotted for the event\, then the schedule will be extended the necessary day(s) and practices/draw one will commence on the first scheduled day of the event. Information on pre-event and in event practices can be found here. \n\n\nRules\nThis event is not governed by NSC’s Competition Rules and Curling. \nAge Requirements\nAll Grandmasters competitors must be 70 years of age or older at the start of the event. \nRegistrations \n\n\nAll information and registration for this event can be found on the Curling I/O page. \nTeams that have qualified for the event will be listed in the team section of the event. Complete lineups for teams will only be displayed if each player on the team has a valid Curling I/O profile. All players in Nova Scotia are encouraged to create one. \nEvent Disclaimers:\n\nIf there are less than 8 teams registered for any event at the deadline\, NSCA reserves the right to cancel the event.  All entry fees will be returned. \nIf a provincial winner is declared and the Canadian is not held in 2021\, neither provincial uniforms or team assistance will be issued to the winning team.  Further information will be available here once confirmation received by Curling Canada – please check back. \n\nContact:\nQuestions about the 2021 Grandmasters Women’s Championship? Please contact: \nAndrew Abraham | Director of Competitions \nm. (902) 220-3307 \ne. aabraham1965@icloud.com
URL:https://nscurl.com/event/2021-grandmasters-womens-championship/
LOCATION:Lakeshore Curling Club\, 409 Glendale Avenue\, Lower Sackville\, Nova Scotia\, B4C 3V3\, Canada
CATEGORIES:Adult Events,NSCA Championships
END:VEVENT
END:VCALENDAR