BEGIN:VCALENDAR
VERSION:2.0
PRODID:-//Nova Scotia Curling Association - ECPv6.15.20//NONSGML v1.0//EN
CALSCALE:GREGORIAN
METHOD:PUBLISH
X-WR-CALNAME:Nova Scotia Curling Association
X-ORIGINAL-URL:https://nscurl.com
X-WR-CALDESC:Events for Nova Scotia Curling Association
REFRESH-INTERVAL;VALUE=DURATION:PT1H
X-Robots-Tag:noindex
X-PUBLISHED-TTL:PT1H
BEGIN:VTIMEZONE
TZID:America/Halifax
BEGIN:DAYLIGHT
TZOFFSETFROM:-0400
TZOFFSETTO:-0300
TZNAME:ADT
DTSTART:20200308T060000
END:DAYLIGHT
BEGIN:STANDARD
TZOFFSETFROM:-0300
TZOFFSETTO:-0400
TZNAME:AST
DTSTART:20201101T050000
END:STANDARD
BEGIN:DAYLIGHT
TZOFFSETFROM:-0400
TZOFFSETTO:-0300
TZNAME:ADT
DTSTART:20210314T060000
END:DAYLIGHT
BEGIN:STANDARD
TZOFFSETFROM:-0300
TZOFFSETTO:-0400
TZNAME:AST
DTSTART:20211107T050000
END:STANDARD
BEGIN:DAYLIGHT
TZOFFSETFROM:-0400
TZOFFSETTO:-0300
TZNAME:ADT
DTSTART:20220313T060000
END:DAYLIGHT
BEGIN:STANDARD
TZOFFSETFROM:-0300
TZOFFSETTO:-0400
TZNAME:AST
DTSTART:20221106T050000
END:STANDARD
END:VTIMEZONE
BEGIN:VEVENT
DTSTART;TZID=America/Halifax:20210204T080000
DTEND;TZID=America/Halifax:20210208T170000
DTSTAMP:20260422T100913
CREATED:20201004T032730Z
LAST-MODIFIED:20210111T062128Z
UID:14029-1612425600-1612803600@nscurl.com
SUMMARY:2021 Senior Men's Provincial Championship [Cancelled]
DESCRIPTION:2020-2021 Dates and Locations\n2020 SENIOR MEN’S CHAMPIONS Skip – Alan O’Leary\, Mate – Stuart MacLean\, Second – Danny Christianson\, Lead – Harold McCarthy \nProvincial – Truro Curling Club\, Truro\, NS ~ February 4-8\, 2021 \nQualifications\nAll teams who register will qualify directly to the Provincial Championships. \nPractice and Schedule Info\n\nNSC will make every attempt to release the draw schedule roughly two weeks prior to the event. Teams competing in the event should make the appropriate travel & lodging arrangements to ensure they can be at the venue by 8 am on day the event is scheduled to start in case they have the first pre-event practice or first draw of the event. Events leading to a Canadian Championship and requiring a pre-event practice\, this schedule will be released with the completed draw. In the event there is a larger than expected number of teams and the pre-event practices and/or draw cannot be completed in the time allotted for the event\, then the schedule will be extended the necessary day(s) and practices/draw one will commence on the first scheduled day of the event. Information on pre-event and in event practices can be found here. \n\n\nRules\nThis event is governed by NSC’s Competition Rules and Curling Canada’s Rules for Officiated Play. In the event there is conflicting information provided\, the NSC Competitions Director will make the final decision on which rule(s) will be used. \nNSC’s Senior Competition Rules can be viewed online. \nAge Requirements\nThe age restriction for this event is 50 years or older as of June 30\, 2020. \n\n\nRegistrations\nAll information and registration for this event can be found on the Curling I/O page. \nTeams that have qualified for the event will be listed in the team section of the event. Complete lineups for teams will only be displayed if each player on the team has a valid Curling I/O profile. All players in Nova Scotia are encouraged to create one. \nEvent Disclaimers:\n\nIf there are less than 8 teams registered for any event at the deadline\, NSCA reserves the right to cancel the event.  All entry fees will be returned. \nIf a provincial winner is declared and the Canadian is not held in 2021\, neither provincial uniforms or team assistance will be issued to the winning team.  Further information will be available here once confirmation received by Curling Canada – please check back. \n\nContact:\nQuestions about the 2021 Senior Provincials? Please contact: \nAndrew Abraham | Director of Competitions \nm. (902) 220-3307 \ne. aabraham1965@icloud.com
URL:https://nscurl.com/event/2021-senior-mens-provincial-championship/
LOCATION:Nova Scotia
CATEGORIES:Adult Events,NSCA Championships
END:VEVENT
BEGIN:VEVENT
DTSTART;TZID=America/Halifax:20210204T080000
DTEND;TZID=America/Halifax:20210208T170000
DTSTAMP:20260422T100913
CREATED:20201004T033113Z
LAST-MODIFIED:20210111T062218Z
UID:14032-1612425600-1612803600@nscurl.com
SUMMARY:2021 Senior Women's Provincials [Cancelled]
DESCRIPTION:2020-2021 Dates and Locations\n2020 SENIORS WOMEN’S CHAMPIONS Skip – Theresa Breen\, Mate – Mary Sue Radford\, Second – Julie McMullin\, Lead – Helen Radford \nProvincial – Truro Curling Club\, Truro\, NS ~ February 4-8\, 2021 \nQualifications\nAll teams who register will qualify directly to the Provincial Championships. \nPractice and Schedule Info\n\nNSC will make every attempt to release the draw schedule roughly two weeks prior to the event. Teams competing in the event should make the appropriate travel & lodging arrangements to ensure they can be at the venue by 8 am on day the event is scheduled to start in case they have the first pre-event practice or first draw of the event. Events leading to a Canadian Championship and requiring a pre-event practice\, this schedule will be released with the completed draw. In the event there is a larger than expected number of teams and the pre-event practices and/or draw cannot be completed in the time allotted for the event\, then the schedule will be extended the necessary day(s) and practices/draw one will commence on the first scheduled day of the event. Information on pre-event and in event practices can be found here. \n\n\nRules\nThis event is governed by NSC’s Competition Rules and Curling Canada’s Rules for Officiated Play. In the event there is conflicting information provided\, the NSC Competitions Director will make the final decision on which rule(s) will be used. \nNSC’s Senior Competition Rules can be viewed online. \nAge Requirements\nThe age restriction for this event is 50 years or older as of June 30\, 2020. \n\n\nRegistrations\nAll information and registration for this event can be found on the Curling I/O page. \nTeams that have qualified for the event will be listed in the team section of the event. Complete lineups for teams will only be displayed if each player on the team has a valid Curling I/O profile. All players in Nova Scotia are encouraged to create one. \nEvent Disclaimers:\n\nIf there are less than 8 teams registered for any event at the deadline\, NSCA reserves the right to cancel the event.  All entry fees will be returned. \nIf a provincial winner is declared and the Canadian is not held in 2021\, neither provincial uniforms or team assistance will be issued to the winning team.  Further information will be available here once confirmation received by Curling Canada – please check back. \n\nContact:\nQuestions about the 2021 Senior Provincials? Please contact: \nAndrew Abraham | Director of Competitions \nm. (902) 220-3307 \ne. aabraham1965@icloud.com
URL:https://nscurl.com/event/2021-senior-womens-provincials/
LOCATION:Truro Curling Club\, 56 Young Street\, Truro\, Nova Scotia\, B2N 5C7\, Canada
CATEGORIES:Adult Events,NSCA Championships
END:VEVENT
BEGIN:VEVENT
DTSTART;VALUE=DATE:20210205
DTEND;VALUE=DATE:20210208
DTSTAMP:20260422T100913
CREATED:20200224T115750Z
LAST-MODIFIED:20200224T115750Z
UID:13356-1612483200-1612742399@nscurl.com
SUMMARY:Ship Hector Bonspiel
DESCRIPTION:49th annual Ship Hector Bonspiel- historic Bonspiel hosted among the 4 curling clubs in Pictou County (New Caledonia Curling Club\, Stellar Curling Club\, Bluenose Curling Club & Westville Curling Club)
URL:https://nscurl.com/event/ship-hector-bonspiel/
LOCATION:Nova Scotia\, Canada
CATEGORIES:Adult Bonspiels
ORGANIZER;CN="Scott Maston":MAILTO:shiphectorbonspiel@gmail.com
END:VEVENT
BEGIN:VEVENT
DTSTART;TZID=America/Halifax:20210205T170000
DTEND;TZID=America/Halifax:20210207T170000
DTSTAMP:20260422T100913
CREATED:20201015T204722Z
LAST-MODIFIED:20201015T204722Z
UID:14171-1612544400-1612717200@nscurl.com
SUMMARY:Liverpool Open Doubles Tournament
DESCRIPTION:Open format 6 end doubles tournament stick curling is allowed at the Liverpool Curling Club. $100.00 entry fee which guarantees 3 games a lobster chowder dinner and draw to the button with cash prizes. Contact Wade Davison at wd856208@dal.ca for any additional details or to arrange the time for your first draw.
URL:https://nscurl.com/event/liverpool-open-doubles-tournament/
LOCATION:Liverpool Curling Club\, 108 Gorham\, Liverpool\, Nova Scotia\, B0T 1K0\, Canada
CATEGORIES:Adult Bonspiels,Adult Events,Bonspiels,Men's Events
ATTACH;FMTTYPE=image/png:https://nscurl.com/wp-content/uploads/2020/10/Doubles-Curling-Bonspiel-@Liverpool-Curling-Club-1-2-2.png
ORGANIZER;CN="Wade Davison":MAILTO:lobsterspiel@gmail.com
END:VEVENT
BEGIN:VEVENT
DTSTART;TZID=America/Halifax:20210205T170000
DTEND;TZID=America/Halifax:20210207T170000
DTSTAMP:20260422T100913
CREATED:20201210T173815Z
LAST-MODIFIED:20201210T173815Z
UID:14167-1612544400-1612717200@nscurl.com
SUMMARY:Liverpool Open Doubles Tournament
DESCRIPTION:Open format 6 end doubles tournament stick curling is allowed at the Liverpool Curling Club. $100.00 entry fee which guarantees 3 games a lobster chowder dinner and draw to the button with cash prizes. Contact Wade Davison at wd856208@dal.ca for any additional details or to arrange the time for your first draw.
URL:https://nscurl.com/event/liverpool-open-doubles-tournament-2/
LOCATION:Liverpool Curling Club\, 108 Gorham\, Liverpool\, Nova Scotia\, B0T 1K0\, Canada
CATEGORIES:Adult Bonspiels
ORGANIZER;CN="Wade Davison":MAILTO:lobsterspiel@gmail.com
END:VEVENT
END:VCALENDAR