BEGIN:VCALENDAR
VERSION:2.0
PRODID:-//Nova Scotia Curling Association - ECPv6.15.20//NONSGML v1.0//EN
CALSCALE:GREGORIAN
METHOD:PUBLISH
X-ORIGINAL-URL:https://nscurl.com
X-WR-CALDESC:Events for Nova Scotia Curling Association
REFRESH-INTERVAL;VALUE=DURATION:PT1H
X-Robots-Tag:noindex
X-PUBLISHED-TTL:PT1H
BEGIN:VTIMEZONE
TZID:America/Halifax
BEGIN:DAYLIGHT
TZOFFSETFROM:-0400
TZOFFSETTO:-0300
TZNAME:ADT
DTSTART:20160313T060000
END:DAYLIGHT
BEGIN:STANDARD
TZOFFSETFROM:-0300
TZOFFSETTO:-0400
TZNAME:AST
DTSTART:20161106T050000
END:STANDARD
BEGIN:DAYLIGHT
TZOFFSETFROM:-0400
TZOFFSETTO:-0300
TZNAME:ADT
DTSTART:20170312T060000
END:DAYLIGHT
BEGIN:STANDARD
TZOFFSETFROM:-0300
TZOFFSETTO:-0400
TZNAME:AST
DTSTART:20171105T050000
END:STANDARD
BEGIN:DAYLIGHT
TZOFFSETFROM:-0400
TZOFFSETTO:-0300
TZNAME:ADT
DTSTART:20180311T060000
END:DAYLIGHT
BEGIN:STANDARD
TZOFFSETFROM:-0300
TZOFFSETTO:-0400
TZNAME:AST
DTSTART:20181104T050000
END:STANDARD
BEGIN:DAYLIGHT
TZOFFSETFROM:-0400
TZOFFSETTO:-0300
TZNAME:ADT
DTSTART:20190310T060000
END:DAYLIGHT
BEGIN:STANDARD
TZOFFSETFROM:-0300
TZOFFSETTO:-0400
TZNAME:AST
DTSTART:20191103T050000
END:STANDARD
END:VTIMEZONE
BEGIN:VEVENT
DTSTART;TZID=America/Halifax:20180223T170000
DTEND;TZID=America/Halifax:20180225T170000
DTSTAMP:20260419T122901
CREATED:20180102T121612Z
LAST-MODIFIED:20180102T121612Z
UID:7886-1519405200-1519578000@nscurl.com
SUMMARY:6th Annual Truro Kitchen Party Mixed Spiel
DESCRIPTION:A fun mixed Semi- competitive spiel full of music and food. Each team gets their own pizza Friday night and a catered buffet meal on Saturday. Teams are guaranteed 3 games. Friday night we have an old fashioned Kitchen Party where anyone who plays an instrument is encouraged to join in ! Loads of music / door prizes and food. Limit to 24 teams.
URL:https://nscurl.com/event/6th-annual-truro-kitchen-party-mixed-spiel/
LOCATION:Truro Curling Club\, 56 Young Street\, Truro\, Nova Scotia\, B2N 5C7\, Canada
CATEGORIES:Adult Bonspiels
ATTACH;FMTTYPE=image/jpeg:https://nscurl.com/wp-content/uploads/2018/01/2018-Kitchen-Party-Mixed-Spiel-poster.jpg
ORGANIZER;CN="Randy DeGrass":MAILTO:randy.degrass@eastlink.ca
END:VEVENT
BEGIN:VEVENT
DTSTART;VALUE=DATE:20180223
DTEND;VALUE=DATE:20180226
DTSTAMP:20260419T122901
CREATED:20171122T190003Z
LAST-MODIFIED:20171122T190120Z
UID:7641-1519344000-1519603199@nscurl.com
SUMMARY:Joe Tidd Memorial Spiel
DESCRIPTION:Bridgetown Curling Club\nREGISTRATION DUE DATE: February 9\, 2018\nEARLY BIRD REGISTRATION DATE**: January 11\, 2018\n**Free Team Breakfast Saturday** \nTeam Entry Fee $160\n18 Teams Maximum\nOpen Format\nGuaranteed Three 8 End Games\nSaturday\nLunch & Dinner included\nFor more information please contact Chip Kerr using the below information
URL:https://nscurl.com/event/joe-tidd-memorial-spiel/
LOCATION:Bridgetown Curling Club\, 333 Granville Street East\, Bridgetown\, Nova Scotia\, B0S 1C0\, Canada
CATEGORIES:Adult Bonspiels
ATTACH;FMTTYPE=image/jpeg:https://nscurl.com/wp-content/uploads/2017/11/Joe-Tidd-Memorial-Fun-Spiel-2018.jpg
ORGANIZER;CN="Chip Kerr":MAILTO:lequillehandyman@gmail.com
END:VEVENT
BEGIN:VEVENT
DTSTART;VALUE=DATE:20180223
DTEND;VALUE=DATE:20180226
DTSTAMP:20260419T122901
CREATED:20171120T120706Z
LAST-MODIFIED:20171120T120706Z
UID:7597-1519344000-1519603199@nscurl.com
SUMMARY:Tropicurl 2018
DESCRIPTION:Brush off your coconuts\, Tropicurl is coming! Save the Date for this fun bonspeil! Mixed team format and registration information coming soon. For more informaiton email Steph and Katie at tropicurlkentville@gmail.com
URL:https://nscurl.com/event/tropicurl-2018/
LOCATION:Glooscap Curling Club\, 17 Crescent Avenue\, Kentville\, Nova Scotia\, B4N 3V9\, Canada
CATEGORIES:Adult Bonspiels
ATTACH;FMTTYPE=image/jpeg:https://nscurl.com/wp-content/uploads/2017/11/Tropicurl-poster.jpg
ORGANIZER;CN="Steph & Katie":MAILTO:tropicurlkentville@gmail.com
END:VEVENT
BEGIN:VEVENT
DTSTART;VALUE=DATE:20180207
DTEND;VALUE=DATE:20180209
DTSTAMP:20260419T122901
CREATED:20180129T125059Z
LAST-MODIFIED:20180129T125059Z
UID:8341-1517961600-1518134399@nscurl.com
SUMMARY:MASTERS Plus Amherst Curling Club
DESCRIPTION:MASTERS Plus BONSPIEL\nFebruary 7 and 8\, 2018\n3 of 4  team members above the age of 60\,\n4th may be between 55 and 60\nSticks Permitted\, Mixed Teams Welcome\nTEAM ENTRY – $160.\nTop 6 Teams in the Prizes\nLunch\,Snacks Each Day – On the House\nNo evening games
URL:https://nscurl.com/event/masters-plus-amherst-curling-club-2/
LOCATION:Amherst Curling Club\, 45 Prince Arthur Street\, Amherst\, Nova Scotia\, B4H 3Y6\, Canada
CATEGORIES:Adult Bonspiels
ATTACH;FMTTYPE=image/png:https://nscurl.com/wp-content/uploads/2018/01/Entry-ACCMastersPlus-2018.png
ORGANIZER;CN="Robin Keith":MAILTO:rrkeith57@hotmail.com
END:VEVENT
BEGIN:VEVENT
DTSTART;VALUE=DATE:20180202
DTEND;VALUE=DATE:20180205
DTSTAMP:20260419T122901
CREATED:20171231T195123Z
LAST-MODIFIED:20171231T195123Z
UID:7858-1517529600-1517788799@nscurl.com
SUMMARY:Annual Lobster Spiel Open
DESCRIPTION:Join us for out annual Lobster Spiel. Now an Open format! Enjoy great curling and a lobster dinner on Saturday night. Includes breakfast on Saturday and Sunday mornings. Canteen open with a variety of food options throughout the event. Great bar selection.
URL:https://nscurl.com/event/annual-lobster-spiel-open/
LOCATION:Barrington Regional Curling Club\, 40 Park Lane\, Barrington Passage\, Nova Scotia\, B0W 1G0\, Canada
CATEGORIES:Adult Bonspiels
ATTACH;FMTTYPE=image/jpeg:https://nscurl.com/wp-content/uploads/2017/12/Open-Lobster-Spiel-2018.jpg
ORGANIZER;CN="Elwin Smith":MAILTO:brcc@ns.aliantzinc.ca
END:VEVENT
BEGIN:VEVENT
DTSTART;VALUE=DATE:20180126
DTEND;VALUE=DATE:20180129
DTSTAMP:20260419T122901
CREATED:20171030T101926Z
LAST-MODIFIED:20171030T101926Z
UID:7340-1516924800-1517183999@nscurl.com
SUMMARY:Gold Star Bonspiel
DESCRIPTION:Open Bonspiel\, any combination of men & women for team of 4. Garanteed 3 games\, Food\, dancing on Saturday\, Acadian hospitality.
URL:https://nscurl.com/event/gold-star-bonspiel/
LOCATION:Clare Curling Association\, 32 Connector Road\, Meteghan\, Nova Scotia\, B0W 2J0\, Canada
CATEGORIES:Adult Bonspiels
ATTACH;FMTTYPE=image/jpeg:https://nscurl.com/wp-content/uploads/2017/10/Goldstar.jpg.jpg
ORGANIZER;CN="JP Comeau":MAILTO:clarecurling@eastlink.ca
END:VEVENT
BEGIN:VEVENT
DTSTART;VALUE=DATE:20180119
DTEND;VALUE=DATE:20180122
DTSTAMP:20260419T122901
CREATED:20171121T114151Z
LAST-MODIFIED:20171121T114151Z
UID:7625-1516320000-1516579199@nscurl.com
SUMMARY:2018 Lakeshore Seniors & Masters Cashspiel
DESCRIPTION:Open to Men’s and Women’s teams with Seniors and Master Divisions.
URL:https://nscurl.com/event/2018-lakeshore-seniors-masters-cashspiel/
LOCATION:Lakeshore Curling Club\, 409 Glendale Avenue\, Lower Sackville\, Nova Scotia\, B4C 3V3\, Canada
CATEGORIES:Adult Bonspiels
ATTACH;FMTTYPE=image/png:https://nscurl.com/wp-content/uploads/2017/11/CBSMC2018-1.png
END:VEVENT
BEGIN:VEVENT
DTSTART;VALUE=DATE:20180113
DTEND;VALUE=DATE:20180115
DTSTAMP:20260419T122901
CREATED:20171103T153431Z
LAST-MODIFIED:20171103T153431Z
UID:7415-1515801600-1515974399@nscurl.com
SUMMARY:January Thaw Mixed Bonspiel
DESCRIPTION:Two-day bonspiel for mixed teams. Four games guaranteed: three 6-end games on Saturday\, eight-end games on Sunday.\nDinner served on Saturday and lunch for all curlers on Sunday before the finals in three divisions.
URL:https://nscurl.com/event/january-thaw-mixed-bonspiel/
LOCATION:Middleton Curling Club\, 6 King Street\, Middleton\, Nova Scotia\, B0S 1P0\, Canada
CATEGORIES:Adult Bonspiels
ATTACH;FMTTYPE=image/jpeg:https://nscurl.com/wp-content/uploads/2017/11/2018-poster.jpg
ORGANIZER;CN="Karen Sotvedt":MAILTO:karen.sotvedt@avrsb.ca
END:VEVENT
BEGIN:VEVENT
DTSTART;TZID=America/Halifax:20180112T190000
DTEND;TZID=America/Halifax:20180112T210000
DTSTAMP:20260419T122901
CREATED:20180104T113636Z
LAST-MODIFIED:20180104T113636Z
UID:7926-1515783600-1515790800@nscurl.com
SUMMARY:Olympic Curling
DESCRIPTION:Free evening of curling. Equipment and instruction provided\, childcare available.
URL:https://nscurl.com/event/olympic-curling/
LOCATION:Windsor Curling Club\, 174 Gray Street\, Windsor\, Nova Scotia\, B0N 2T0\, Canada
CATEGORIES:Adult Bonspiels,Junior Bonspiels
END:VEVENT
BEGIN:VEVENT
DTSTART;VALUE=DATE:20180112
DTEND;VALUE=DATE:20180115
DTSTAMP:20260419T122901
CREATED:20171018T101833Z
LAST-MODIFIED:20171018T101833Z
UID:7283-1515715200-1515974399@nscurl.com
SUMMARY:2018 Lunenburg Youth Spiel
DESCRIPTION:U15 Division: 16 Teams (Boys\, Girls or Mixed). The Event is 6 End Games with 8 End Finals. $90/team \nU18 Division: 16 Teams (Boys\, Girls or Mixed). The Event is 8 End Games including Finals. $110/team \nAll teams are guaranteed 3 games. \nEntry and Payment Deadline: December 20\, 2017 \nTo register\, please email Dylan Haines at: lcc.jr.curling@gmail.com
URL:https://nscurl.com/event/2018-lunenburg-youth-spiel/
LOCATION:Lunenburg Curling Club\, 21 Green Street\, Lunenburg\, Nova Scotia\, B0J 2C0\, Canada
CATEGORIES:Junior Bonspiels
ATTACH;FMTTYPE=image/jpeg:https://nscurl.com/wp-content/uploads/2017/10/2018-Spiel-flyer-page-001.jpg
ORGANIZER;CN="Dylan Haines":MAILTO:lcc.jr.curling@gmail.com
END:VEVENT
BEGIN:VEVENT
DTSTART;VALUE=DATE:20180112
DTEND;VALUE=DATE:20180115
DTSTAMP:20260419T122901
CREATED:20171015T183414Z
LAST-MODIFIED:20171015T183414Z
UID:7272-1515715200-1515974399@nscurl.com
SUMMARY:Grey Cup Bonspiel
DESCRIPTION:The 2018 Grey Cup of Curling will take place at the Amherst Curling Club January 12-13-14. \n3 Games minimum guaranteed \nMaximum of 24 teams with an Open Format (any combination of players accepted) \nRegistration deadline is January 5\, 2018 and includes Banquet\, snacks and entertainment. \nWinners receive cash prizes (a minimum of $3200 will be given away)\, plus the winning team will get their names engraved on to the original Grey Cup. \nfor more details see https://amherstcurlingclub.com/2018-grey-cup-curling.html
URL:https://nscurl.com/event/grey-cup-bonspiel/
LOCATION:Amherst Curling Club\, 45 Prince Arthur Street\, Amherst\, Nova Scotia\, B4H 3Y6\, Canada
CATEGORIES:Adult Bonspiels
ATTACH;FMTTYPE=image/jpeg:https://nscurl.com/wp-content/uploads/2017/10/Grey-Cup-of-Curling-2018.jpg
END:VEVENT
BEGIN:VEVENT
DTSTART;TZID=America/Halifax:20180106T080000
DTEND;TZID=America/Halifax:20180107T170000
DTSTAMP:20260419T122901
CREATED:20170908T110315Z
LAST-MODIFIED:20170908T110315Z
UID:6501-1515225600-1515344400@nscurl.com
SUMMARY:Wolfville Cash Spiel
DESCRIPTION:Annual cash spiel open to all classes of curling Masters\, Seniors\, Mixed\, Travelers\, Tankard\, and Scotties\n300.00 entry fee\, teams get paid for wins.
URL:https://nscurl.com/event/wolfville-cash-spiel/
LOCATION:Wolfville Curling Club\, 22 Elm Avenue\, Wolfville\, Nova Scotia\, B4P 1Z9\, Canada
CATEGORIES:Adult Bonspiels
ORGANIZER;CN="Tony Stirling":MAILTO:tstirling@eastlink.ca
END:VEVENT
BEGIN:VEVENT
DTSTART;VALUE=DATE:20171227
DTEND;VALUE=DATE:20171230
DTSTAMP:20260419T122901
CREATED:20170721T120537Z
LAST-MODIFIED:20170721T120537Z
UID:5738-1514332800-1514591999@nscurl.com
SUMMARY:TCA Youth Championship
DESCRIPTION:The 37th annual TCA Youth Championship will be held in Oshawa from December 27-29 and features an exciting prize purse. This year’s tournament will feature an opening ceremony on December 28\, as well as the first ever gender-neutral TCA Youth Awards.\nAward Ceremony \nThe award ceremony on December 29 will feature performances by recoding artist Viktoria Leone. Location will be announced closer to the Championship. Awards that will be presented are the following: \n    Sportsmanship\n    Most Valuable Player\n    Most Outstanding Coach \nTickets for the awards are available for parents and community members. Tickets are limited. Click HERE to purchase parents and community members tickets.\nHost Hotel \nGroup rates have been set up at the Holiday Inn Oshawa. Rates can be booked by using the Group Code CUR when clicking HERE.\nGiving Back \nA portion of the proceeds from this year’s event will be donated to select community organizations. This organizations will be announced in October 2017.
URL:https://nscurl.com/event/tca-youth-championship/
LOCATION:Oshawa Golf & Curling Club\, 160 Alexandra Street\, Oshawa\, Ontario\, L1G 2C4\, Canada
CATEGORIES:Junior Bonspiels
ORGANIZER;CN="Jonathan Giancroce":MAILTO:jgiancroce@outlook.com
END:VEVENT
BEGIN:VEVENT
DTSTART;VALUE=DATE:20171208
DTEND;VALUE=DATE:20171211
DTSTAMP:20260419T122901
CREATED:20171017T095952Z
LAST-MODIFIED:20171017T095952Z
UID:7279-1512691200-1512950399@nscurl.com
SUMMARY:2017 Truro Curling Club Open Cashspiel
DESCRIPTION:Open Cash Spiel designed for teams / players participating in the following Championships a) Men’s\,Women’s or Mixed Travelers b) Senior Men’s or Women’s c) Master’s Men’s or Women’s d) Police or Firefighters \n 16 Teams accepted – Four divisions of four teams playing a round robin within each section.\n The top two teams in each division will qualify for Sunday’s main event while the bottom two qualify for the consolation event. \n4 Games guaranteed \, meal on Saturday and Pizza on Friday and live entertainment on Saturday provided.
URL:https://nscurl.com/event/2017-truro-curling-club-open-cashspiel/
LOCATION:Truro Curling Club\, 56 Young Street\, Truro\, Nova Scotia\, B2N 5C7\, Canada
CATEGORIES:Adult Bonspiels
ATTACH;FMTTYPE=image/jpeg:https://nscurl.com/wp-content/uploads/2017/10/TruroCurling-Club-Open-Cash-Spiel-2017-2018.jpg
ORGANIZER;CN="Randy DeGrass":MAILTO:randy.degrass@eastlink.ca
END:VEVENT
BEGIN:VEVENT
DTSTART;TZID=America/Halifax:20171202T140000
DTEND;TZID=America/Halifax:20171202T180000
DTSTAMP:20260419T122901
CREATED:20171031T094713Z
LAST-MODIFIED:20171031T095334Z
UID:7353-1512223200-1512237600@nscurl.com
SUMMARY:6th Annual Movember Spiel
DESCRIPTION:Come out and be the difference in a man’s life. All proceeds to Movember. Individual entry. Suggested donation is $25. Food prizes and more.
URL:https://nscurl.com/event/6th-annual-movember-spiel/
LOCATION:CFB Halifax Curling Club\, 6441 Hawk Terrace\, Halifax\, Nova Scotia\, B3K 5Y5\, Canada
CATEGORIES:Adult Bonspiels
ATTACH;FMTTYPE=image/jpeg:https://nscurl.com/wp-content/uploads/2017/10/B28CF4BE-696F-4CA4-9BB4-B6919A606EE6.jpeg
END:VEVENT
BEGIN:VEVENT
DTSTART;VALUE=DATE:20171201
DTEND;VALUE=DATE:20171203
DTSTAMP:20260419T122901
CREATED:20171027T105606Z
LAST-MODIFIED:20171027T105606Z
UID:7330-1512086400-1512259199@nscurl.com
SUMMARY:Retired Teachers Bonspiel
DESCRIPTION:2017 RTO Provincial Bonspiel\nDecember 1-2\, 2017\nShelburne Curling Centre\n144 John Street (attached to the arena) Shelburne\, NS \nMaximum registration: 12 teams. All teams must have at least 2 RTO\, NSTU or active substitute members.\nEach team is guaranteed 3 six end games. There will be cash prizes for the 1st\, 2nd and 3rd place teams as well as several special and door prizes and a 50/50 draw.\nRegistration is $100 per team and includes live entertainment and snacks Friday evening as well as muffins & coffee and a chili lunch provided on Saturday. A cash bar will be available for all draws.\nTo register or for additional information please contact\nElizabeth Acker cessam@ns.sympatico.ca or call 902-875-3044. \nRegistration deadline is November 25th and the fee will be collected Friday night.
URL:https://nscurl.com/event/retired-teachers-bonspiel/
LOCATION:Shelburne Curling Club\, 144 John Street\, Shelburne\, Nova Scotia\, B0T 1W0\, Canada
CATEGORIES:Adult Bonspiels
ORGANIZER;CN="Elizabeth Acker":MAILTO:cessam@ns.sympatico.ca
END:VEVENT
BEGIN:VEVENT
DTSTART;VALUE=DATE:20171124
DTEND;VALUE=DATE:20171127
DTSTAMP:20260419T122901
CREATED:20170929T101842Z
LAST-MODIFIED:20170929T102554Z
UID:7079-1511481600-1511740799@nscurl.com
SUMMARY:The Ladies Holly Spiel
DESCRIPTION:Ladies only event. \nEvery team receives a prize! \nMorning nutrition\, snacks after each game\, Saturday luncheon included. \nChristmas Sweater contest\, Music and Dancing on Saturday evening! \nCraft tables and Raffles all weekend! \n  \nFirst 20 teams with entry fee enclosed. \nClosing date for entries is November 10th. \nNote: No refunds after Number 1st. \n  \nEntry form available from the link below.
URL:https://nscurl.com/event/the-ladies-holly-spiel/
LOCATION:Glooscap Curling Club\, 17 Crescent Avenue\, Kentville\, Nova Scotia\, B4N 3V9\, Canada
CATEGORIES:Adult Bonspiels,Junior Bonspiels
ORGANIZER;CN="Edna Salter":MAILTO:f.salter@ns.sympatico.ca
END:VEVENT
BEGIN:VEVENT
DTSTART;VALUE=DATE:20171124
DTEND;VALUE=DATE:20171127
DTSTAMP:20260419T122901
CREATED:20171004T100233Z
LAST-MODIFIED:20171004T100330Z
UID:7140-1511481600-1511740799@nscurl.com
SUMMARY:2017 Lakeshore Stick Cashspiel
DESCRIPTION:2nd Annual Lakeshore Stick Cashspiel\nNovember 24-26\nOpen Division and Women’s Division\nPrize Purse based on Number of Registrations\n$100.00 per team\nDeadline November 10\, 2017\nInfo and register on-line or by email:
URL:https://nscurl.com/event/2017-lakeshore-stick-cashspiel/
LOCATION:Lakeshore Curling Club\, 409 Glendale Avenue\, Lower Sackville\, Nova Scotia\, B4C 3V3\, Canada
CATEGORIES:Adult Bonspiels
ATTACH;FMTTYPE=image/png:https://nscurl.com/wp-content/uploads/2017/10/2017-Lakeshore-Stick-Cashspiel.png
ORGANIZER;CN="Karen Skiffington":MAILTO:info@lakeshorecurlingclub.com
END:VEVENT
BEGIN:VEVENT
DTSTART;VALUE=DATE:20171118
DTEND;VALUE=DATE:20171119
DTSTAMP:20260419T122901
CREATED:20171030T101650Z
LAST-MODIFIED:20171031T093811Z
UID:7338-1510963200-1511049599@nscurl.com
SUMMARY:Palliative Care Bonspiel
DESCRIPTION:Welcome to St. Andrews\, Antigonish for a fun filled day of curling\, good company\, with lunch and snacks provided.\nWe invite you to enter any combination of team and support a worthy cause. There will be prizes for all curlers.\nThe cost is $120. for the team\nThere will be 3 – 6-end games
URL:https://nscurl.com/event/palliative-care-bonspiel/
LOCATION:Highlander Curling Club\, 3916 Highway 316\, St. Andrew's\, Nova Scotia\, B0H 1X0\, Canada
CATEGORIES:Adult Bonspiels
ORGANIZER;CN="Joyce Van Berkel":MAILTO:lvanberkel@eastlink.ca
END:VEVENT
BEGIN:VEVENT
DTSTART;VALUE=DATE:20171118
DTEND;VALUE=DATE:20171119
DTSTAMP:20260419T122901
CREATED:20171011T095047Z
LAST-MODIFIED:20171011T095047Z
UID:7238-1510963200-1511049599@nscurl.com
SUMMARY:16th Annual Gingerbread Spiel
DESCRIPTION:The Chester Curling Club’s Gingerbread Spiel is dishing out dough this year! The 16th Annual Ladies Day Spiel is continuing to spread a little seasonal cheer on Saturday\, November 18\, 2017. If you are looking for a casual atmosphere\, and a little extra holiday spending cash to boot…. this spiel is for you. \nEntry Fee: $100.00\, maximum of 16 teams\, and includes morning snacks and lunch. Prizes will be awarded to the top 3 teams and will be based on number of teams entered. Three 6-end games. Same great fun for all. First draw @ 8:30 am.
URL:https://nscurl.com/event/16th-annual-gingerbread-spiel/
LOCATION:Chester Curling Club\, 190 Pigloop Road\, Chester\, Nova Scotia\, B0J 1J0\, Canada
CATEGORIES:Adult Bonspiels
ATTACH;FMTTYPE=image/jpeg:https://nscurl.com/wp-content/uploads/2017/10/gingerbread-2017-flyer-page-001.jpg
ORGANIZER;CN="Carla Rafuse":MAILTO:gingerbread@chestercurlingclub.ca
END:VEVENT
BEGIN:VEVENT
DTSTART;VALUE=DATE:20171117
DTEND;VALUE=DATE:20171120
DTSTAMP:20260419T122901
CREATED:20170714T100303Z
LAST-MODIFIED:20170716T012654Z
UID:5568-1510876800-1511135999@nscurl.com
SUMMARY:Ice Cup Open Bonspiel
DESCRIPTION:This great event is open to all combinations of teams. \n24 Teams\n3 – 6 End Games Guaranteed\nSaturday Night Supper & Band\nPrizes \nFor more information or to register please contact one of the event organizer below.
URL:https://nscurl.com/event/ice-cup-open-bonspiel/
LOCATION:Halifax Curling Club\, 948 South Bland Street\, Halifax\, Nova Scotia\, B3H 2S5\, Canada
CATEGORIES:Adult Bonspiels,Bonspiels
ATTACH;FMTTYPE=image/jpeg:https://nscurl.com/wp-content/uploads/2017/07/2017hccfunspiel.jpg
ORGANIZER;CN="Ryan MacIver":MAILTO:rmaciver@maritimetravel.ca
END:VEVENT
BEGIN:VEVENT
DTSTART;VALUE=DATE:20171113
DTEND;VALUE=DATE:20171117
DTSTAMP:20260419T122901
CREATED:20171003T094444Z
LAST-MODIFIED:20171003T094444Z
UID:7108-1510531200-1510876799@nscurl.com
SUMMARY:49th Metro Women's Bonspiel
DESCRIPTION:Open to Teams from the four Metro Women’s Curling Clubs\, Halifax\, Mayflower\, Lakeshore and Dartmouth. A maximum of 24 teams with play taking place at the Halifax and Mayflower Curling Clubs. Applications will be accepted at noon on October 24th with a closing date of November 3rd.\nFollowing the final draw refreshments will be served at the Halifax Curling Club. \nThe Ann Sjolander Memorial Bonspiel will coincide with the Metro event. This is an Individual entry with Teams made up of curlers from the various Clubs.
URL:https://nscurl.com/event/49th-metro-womens-bonspiel/
LOCATION:Halifax Curling Club\, 948 South Bland Street\, Halifax\, Nova Scotia\, B3H 2S5\, Canada
CATEGORIES:Adult Bonspiels
ORGANIZER;CN="Sheila Snoe":MAILTO:sisnow88@gmail.com
END:VEVENT
BEGIN:VEVENT
DTSTART;VALUE=DATE:20171027
DTEND;VALUE=DATE:20171031
DTSTAMP:20260419T122901
CREATED:20170911T155141Z
LAST-MODIFIED:20170911T155141Z
UID:6845-1509066000-1509325199@nscurl.com
SUMMARY:2017 Lakeshore Junior Spiel
DESCRIPTION:This event is open to Junior teams U21 and Canada Winter Games Aged.  Each age group will have a Junior Men and Junior Women Division.  Open to 6 teams in each division (more may be considered based on total registration overall).  NSJRS Points available for U21 division.
URL:https://nscurl.com/event/2017-lakeshore-junior-spiel/
LOCATION:Lakeshore Curling Club\, 409 Glendale Avenue\, Lower Sackville\, Nova Scotia\, B4C 3V3\, Canada
CATEGORIES:Junior Bonspiels
ATTACH;FMTTYPE=image/png:https://nscurl.com/wp-content/uploads/2017/09/Lakeshorejr01.png
ORGANIZER;CN="Karen Skiffington":MAILTO:info@lakeshorecurlingclub.com
END:VEVENT
BEGIN:VEVENT
DTSTART;VALUE=DATE:20171026
DTEND;VALUE=DATE:20171031
DTSTAMP:20260419T122901
CREATED:20171024T170537Z
LAST-MODIFIED:20171024T170537Z
UID:7321-1508979600-1509325199@nscurl.com
SUMMARY:2017 Dave Jones Mayflower Cashspiel
DESCRIPTION:Join us at the 2017 Dave Jones Mayflower Cashspiel! Men’s and women’s teams will compete for cash prizes at this annual showcase of curling talent at the Mayflower Curling Club. We once again have a fantastic selection of teams competing at this year’s event. \nSaturday night is our Halloween Bash (free entry)! The band Height Requirement (8:30 pm start) will have you dancing the night away!
URL:https://nscurl.com/event/2017-dave-jones-mayflower-cashspiel/
LOCATION:Mayflower Curling Club\, 3000 Monaghan Drive\, Halifax\, Nova Scotia\, B3K 2V9\, Canada
CATEGORIES:Adult Bonspiels,Bonspiels
ORGANIZER;CN="Brent MacDougall":MAILTO:brent_macdougall@msn.com
END:VEVENT
BEGIN:VEVENT
DTSTART;VALUE=DATE:20171014
DTEND;VALUE=DATE:20171017
DTSTAMP:20260419T122901
CREATED:20170919T092833Z
LAST-MODIFIED:20170927T095852Z
UID:6958-1507942800-1508115599@nscurl.com
SUMMARY:Atlantic Mixed Doubles Curling Classic
DESCRIPTION:Mayflower Curling Club and the Lakeshore Curling Club are hosting the Atlantic Mixed Doubles Curling Classic. \nEntry: $100/team;\nRules: 8 end games; extra end for ties; must be one male and one female teams; juniors welcome!\nFormat: Pools with round robin\, 3 games guaranteed.\nTeams: First 16 paid entries accepted.\nPlayoff: Top 8 overall play quarter finals.\nPrize Money: All fees collected will go into prize money. \nFirst draw is 2pm on Saturday October 14th. \nEntries can be sent to Mark Dacey at: \nmdacey@ns.sympatico.ca \nBe sure to include players names and contact information for both players with your email.
URL:https://nscurl.com/event/atlantic-mixed-doubles-curling-classic/
LOCATION:Mayflower Curling Club\, 3000 Monaghan Drive\, Halifax\, Nova Scotia\, B3K 2V9\, Canada
CATEGORIES:Adult Bonspiels,Junior Bonspiels
ATTACH;FMTTYPE=image/png:https://nscurl.com/wp-content/uploads/2017/09/MCCMixedDoublesSpielTitle.png
ORGANIZER;CN="Mark Dacey":MAILTO:mdacey@ns.sympatico.ca
END:VEVENT
BEGIN:VEVENT
DTSTART;VALUE=DATE:20170929
DTEND;VALUE=DATE:20171003
DTSTAMP:20260419T122901
CREATED:20170831T113655Z
LAST-MODIFIED:20170831T113813Z
UID:6430-1506646800-1506905999@nscurl.com
SUMMARY:U21 Nautilus Slam
DESCRIPTION:This exciting new Slam gives Atlantic\, Ontario\, Quebec\, other Canadian and international high performance teams the opportunity to play each other on the competitive circuit. We have had significant interest from teams wanting to play in this diverse field to gain experience and we anticipate this will be a very strong field.The U21 Nautilus Slam offers a four game minimum guarantee\, a ROCKTalk and prize purse for the top eight. The top two of each gender earn an invitation to our U21 Player’s Championship. Consider adding the new U21 Nautilus Slam to your schedule!
URL:https://nscurl.com/event/u21-nautilus-slam/
LOCATION:CFB Halifax Curling Club\, 6441 Hawk Terrace\, Halifax\, Nova Scotia\, B3K 5Y5\, Canada
CATEGORIES:Junior Bonspiels
ATTACH;FMTTYPE=image/jpeg:https://nscurl.com/wp-content/uploads/2017/08/20900584_1627791570587058_395458880847950769_o.jpg
ORGANIZER;CN="Byron Scott":MAILTO:byron.juniorslamseries@gmail.com
END:VEVENT
BEGIN:VEVENT
DTSTART;VALUE=DATE:20170921
DTEND;VALUE=DATE:20170926
DTSTAMP:20260419T122902
CREATED:20170911T154952Z
LAST-MODIFIED:20170911T155040Z
UID:6842-1505955600-1506301199@nscurl.com
SUMMARY:2017 Lakeshore Cashspiel
DESCRIPTION:The Cashspiel will follow a round robin-pool format\, with a maximum of 12 teams in each of the Mens and Womens divisions with 6 Teams advancing to Championship Round.  The top teams in each pool will qualify for the Championship Round. \nWith a full field in each division the prize payouts for this year’s event will be as follows:\nChampion:\n$1 500.00 \nRunner-up:\n$1 000.00 \nSemi-Finalists:\n$ 700.00 \nQuarter-Finalists:\n$ 400.00 \nThe Lakeshore Cashspiel is open to Men’s\, Women’s\, and Elite Junior teams.\nEntry fee is $500.00\nTeam Entry deadline is September 12\, 2017\nRegister on-line at www.lakeshorecurlingclub.com under the EVENTS link.
URL:https://nscurl.com/event/2017-lakeshore-cashspiel/
LOCATION:Lakeshore Curling Club\, 409 Glendale Avenue\, Lower Sackville\, Nova Scotia\, B4C 3V3\, Canada
CATEGORIES:Adult Bonspiels,Junior Bonspiels
ATTACH;FMTTYPE=image/png:https://nscurl.com/wp-content/uploads/2017/09/20597312_1721608331473713_1346647017987648967_n.png
END:VEVENT
BEGIN:VEVENT
DTSTART;VALUE=DATE:20170727
DTEND;VALUE=DATE:20170801
DTSTAMP:20260419T122902
CREATED:20170713T211055Z
LAST-MODIFIED:20170716T171620Z
UID:5549-1501117200-1501462799@nscurl.com
SUMMARY:Clare Summer Spiel 2017 Annual Golf and Curling Bonspiel
DESCRIPTION:Come and join us for the Clare Summer Spiel 2017 Annual Golf and Curling Bonspiel.
URL:https://nscurl.com/event/clare-summer-spiel-2017-annual-golf-and-curling-bonspiel/
LOCATION:Clare Curling Association\, 32 Connector Road\, Meteghan\, Nova Scotia\, B0W 2J0\, Canada
CATEGORIES:Adult Bonspiels,Bonspiels
ORGANIZER;CN="JP Comeau":MAILTO:clarecurling@eastlink.ca
END:VEVENT
END:VCALENDAR