BEGIN:VCALENDAR
VERSION:2.0
PRODID:-//Nova Scotia Curling Association - ECPv6.15.20//NONSGML v1.0//EN
CALSCALE:GREGORIAN
METHOD:PUBLISH
X-ORIGINAL-URL:https://nscurl.com
X-WR-CALDESC:Events for Nova Scotia Curling Association
REFRESH-INTERVAL;VALUE=DURATION:PT1H
X-Robots-Tag:noindex
X-PUBLISHED-TTL:PT1H
BEGIN:VTIMEZONE
TZID:America/Halifax
BEGIN:DAYLIGHT
TZOFFSETFROM:-0400
TZOFFSETTO:-0300
TZNAME:ADT
DTSTART:20160313T060000
END:DAYLIGHT
BEGIN:STANDARD
TZOFFSETFROM:-0300
TZOFFSETTO:-0400
TZNAME:AST
DTSTART:20161106T050000
END:STANDARD
BEGIN:DAYLIGHT
TZOFFSETFROM:-0400
TZOFFSETTO:-0300
TZNAME:ADT
DTSTART:20170312T060000
END:DAYLIGHT
BEGIN:STANDARD
TZOFFSETFROM:-0300
TZOFFSETTO:-0400
TZNAME:AST
DTSTART:20171105T050000
END:STANDARD
BEGIN:DAYLIGHT
TZOFFSETFROM:-0400
TZOFFSETTO:-0300
TZNAME:ADT
DTSTART:20180311T060000
END:DAYLIGHT
BEGIN:STANDARD
TZOFFSETFROM:-0300
TZOFFSETTO:-0400
TZNAME:AST
DTSTART:20181104T050000
END:STANDARD
END:VTIMEZONE
BEGIN:VEVENT
DTSTART;VALUE=DATE:20171117
DTEND;VALUE=DATE:20171120
DTSTAMP:20260419T160049
CREATED:20170714T100303Z
LAST-MODIFIED:20170716T012654Z
UID:5568-1510876800-1511135999@nscurl.com
SUMMARY:Ice Cup Open Bonspiel
DESCRIPTION:This great event is open to all combinations of teams. \n24 Teams\n3 – 6 End Games Guaranteed\nSaturday Night Supper & Band\nPrizes \nFor more information or to register please contact one of the event organizer below.
URL:https://nscurl.com/event/ice-cup-open-bonspiel/
LOCATION:Halifax Curling Club\, 948 South Bland Street\, Halifax\, Nova Scotia\, B3H 2S5\, Canada
CATEGORIES:Adult Bonspiels,Bonspiels
ATTACH;FMTTYPE=image/jpeg:https://nscurl.com/wp-content/uploads/2017/07/2017hccfunspiel.jpg
ORGANIZER;CN="Ryan MacIver":MAILTO:rmaciver@maritimetravel.ca
END:VEVENT
BEGIN:VEVENT
DTSTART;VALUE=DATE:20171113
DTEND;VALUE=DATE:20171117
DTSTAMP:20260419T160049
CREATED:20171003T094444Z
LAST-MODIFIED:20171003T094444Z
UID:7108-1510531200-1510876799@nscurl.com
SUMMARY:49th Metro Women's Bonspiel
DESCRIPTION:Open to Teams from the four Metro Women’s Curling Clubs\, Halifax\, Mayflower\, Lakeshore and Dartmouth. A maximum of 24 teams with play taking place at the Halifax and Mayflower Curling Clubs. Applications will be accepted at noon on October 24th with a closing date of November 3rd.\nFollowing the final draw refreshments will be served at the Halifax Curling Club. \nThe Ann Sjolander Memorial Bonspiel will coincide with the Metro event. This is an Individual entry with Teams made up of curlers from the various Clubs.
URL:https://nscurl.com/event/49th-metro-womens-bonspiel/
LOCATION:Halifax Curling Club\, 948 South Bland Street\, Halifax\, Nova Scotia\, B3H 2S5\, Canada
CATEGORIES:Adult Bonspiels
ORGANIZER;CN="Sheila Snoe":MAILTO:sisnow88@gmail.com
END:VEVENT
BEGIN:VEVENT
DTSTART;VALUE=DATE:20171027
DTEND;VALUE=DATE:20171031
DTSTAMP:20260419T160049
CREATED:20170911T155141Z
LAST-MODIFIED:20170911T155141Z
UID:6845-1509066000-1509325199@nscurl.com
SUMMARY:2017 Lakeshore Junior Spiel
DESCRIPTION:This event is open to Junior teams U21 and Canada Winter Games Aged.  Each age group will have a Junior Men and Junior Women Division.  Open to 6 teams in each division (more may be considered based on total registration overall).  NSJRS Points available for U21 division.
URL:https://nscurl.com/event/2017-lakeshore-junior-spiel/
LOCATION:Lakeshore Curling Club\, 409 Glendale Avenue\, Lower Sackville\, Nova Scotia\, B4C 3V3\, Canada
CATEGORIES:Junior Bonspiels
ATTACH;FMTTYPE=image/png:https://nscurl.com/wp-content/uploads/2017/09/Lakeshorejr01.png
ORGANIZER;CN="Karen Skiffington":MAILTO:info@lakeshorecurlingclub.com
END:VEVENT
BEGIN:VEVENT
DTSTART;VALUE=DATE:20171026
DTEND;VALUE=DATE:20171031
DTSTAMP:20260419T160049
CREATED:20171024T170537Z
LAST-MODIFIED:20171024T170537Z
UID:7321-1508979600-1509325199@nscurl.com
SUMMARY:2017 Dave Jones Mayflower Cashspiel
DESCRIPTION:Join us at the 2017 Dave Jones Mayflower Cashspiel! Men’s and women’s teams will compete for cash prizes at this annual showcase of curling talent at the Mayflower Curling Club. We once again have a fantastic selection of teams competing at this year’s event. \nSaturday night is our Halloween Bash (free entry)! The band Height Requirement (8:30 pm start) will have you dancing the night away!
URL:https://nscurl.com/event/2017-dave-jones-mayflower-cashspiel/
LOCATION:Mayflower Curling Club\, 3000 Monaghan Drive\, Halifax\, Nova Scotia\, B3K 2V9\, Canada
CATEGORIES:Adult Bonspiels,Bonspiels
ORGANIZER;CN="Brent MacDougall":MAILTO:brent_macdougall@msn.com
END:VEVENT
BEGIN:VEVENT
DTSTART;VALUE=DATE:20171014
DTEND;VALUE=DATE:20171017
DTSTAMP:20260419T160049
CREATED:20170919T092833Z
LAST-MODIFIED:20170927T095852Z
UID:6958-1507942800-1508115599@nscurl.com
SUMMARY:Atlantic Mixed Doubles Curling Classic
DESCRIPTION:Mayflower Curling Club and the Lakeshore Curling Club are hosting the Atlantic Mixed Doubles Curling Classic. \nEntry: $100/team;\nRules: 8 end games; extra end for ties; must be one male and one female teams; juniors welcome!\nFormat: Pools with round robin\, 3 games guaranteed.\nTeams: First 16 paid entries accepted.\nPlayoff: Top 8 overall play quarter finals.\nPrize Money: All fees collected will go into prize money. \nFirst draw is 2pm on Saturday October 14th. \nEntries can be sent to Mark Dacey at: \nmdacey@ns.sympatico.ca \nBe sure to include players names and contact information for both players with your email.
URL:https://nscurl.com/event/atlantic-mixed-doubles-curling-classic/
LOCATION:Mayflower Curling Club\, 3000 Monaghan Drive\, Halifax\, Nova Scotia\, B3K 2V9\, Canada
CATEGORIES:Adult Bonspiels,Junior Bonspiels
ATTACH;FMTTYPE=image/png:https://nscurl.com/wp-content/uploads/2017/09/MCCMixedDoublesSpielTitle.png
ORGANIZER;CN="Mark Dacey":MAILTO:mdacey@ns.sympatico.ca
END:VEVENT
BEGIN:VEVENT
DTSTART;VALUE=DATE:20170929
DTEND;VALUE=DATE:20171003
DTSTAMP:20260419T160049
CREATED:20170831T113655Z
LAST-MODIFIED:20170831T113813Z
UID:6430-1506646800-1506905999@nscurl.com
SUMMARY:U21 Nautilus Slam
DESCRIPTION:This exciting new Slam gives Atlantic\, Ontario\, Quebec\, other Canadian and international high performance teams the opportunity to play each other on the competitive circuit. We have had significant interest from teams wanting to play in this diverse field to gain experience and we anticipate this will be a very strong field.The U21 Nautilus Slam offers a four game minimum guarantee\, a ROCKTalk and prize purse for the top eight. The top two of each gender earn an invitation to our U21 Player’s Championship. Consider adding the new U21 Nautilus Slam to your schedule!
URL:https://nscurl.com/event/u21-nautilus-slam/
LOCATION:CFB Halifax Curling Club\, 6441 Hawk Terrace\, Halifax\, Nova Scotia\, B3K 5Y5\, Canada
CATEGORIES:Junior Bonspiels
ATTACH;FMTTYPE=image/jpeg:https://nscurl.com/wp-content/uploads/2017/08/20900584_1627791570587058_395458880847950769_o.jpg
ORGANIZER;CN="Byron Scott":MAILTO:byron.juniorslamseries@gmail.com
END:VEVENT
BEGIN:VEVENT
DTSTART;VALUE=DATE:20170921
DTEND;VALUE=DATE:20170926
DTSTAMP:20260419T160049
CREATED:20170911T154952Z
LAST-MODIFIED:20170911T155040Z
UID:6842-1505955600-1506301199@nscurl.com
SUMMARY:2017 Lakeshore Cashspiel
DESCRIPTION:The Cashspiel will follow a round robin-pool format\, with a maximum of 12 teams in each of the Mens and Womens divisions with 6 Teams advancing to Championship Round.  The top teams in each pool will qualify for the Championship Round. \nWith a full field in each division the prize payouts for this year’s event will be as follows:\nChampion:\n$1 500.00 \nRunner-up:\n$1 000.00 \nSemi-Finalists:\n$ 700.00 \nQuarter-Finalists:\n$ 400.00 \nThe Lakeshore Cashspiel is open to Men’s\, Women’s\, and Elite Junior teams.\nEntry fee is $500.00\nTeam Entry deadline is September 12\, 2017\nRegister on-line at www.lakeshorecurlingclub.com under the EVENTS link.
URL:https://nscurl.com/event/2017-lakeshore-cashspiel/
LOCATION:Lakeshore Curling Club\, 409 Glendale Avenue\, Lower Sackville\, Nova Scotia\, B4C 3V3\, Canada
CATEGORIES:Adult Bonspiels,Junior Bonspiels
ATTACH;FMTTYPE=image/png:https://nscurl.com/wp-content/uploads/2017/09/20597312_1721608331473713_1346647017987648967_n.png
END:VEVENT
BEGIN:VEVENT
DTSTART;VALUE=DATE:20170727
DTEND;VALUE=DATE:20170801
DTSTAMP:20260419T160049
CREATED:20170713T211055Z
LAST-MODIFIED:20170716T171620Z
UID:5549-1501117200-1501462799@nscurl.com
SUMMARY:Clare Summer Spiel 2017 Annual Golf and Curling Bonspiel
DESCRIPTION:Come and join us for the Clare Summer Spiel 2017 Annual Golf and Curling Bonspiel.
URL:https://nscurl.com/event/clare-summer-spiel-2017-annual-golf-and-curling-bonspiel/
LOCATION:Clare Curling Association\, 32 Connector Road\, Meteghan\, Nova Scotia\, B0W 2J0\, Canada
CATEGORIES:Adult Bonspiels,Bonspiels
ORGANIZER;CN="JP Comeau":MAILTO:clarecurling@eastlink.ca
END:VEVENT
END:VCALENDAR