BEGIN:VCALENDAR
VERSION:2.0
PRODID:-//Nova Scotia Curling Association - ECPv6.15.20//NONSGML v1.0//EN
CALSCALE:GREGORIAN
METHOD:PUBLISH
X-ORIGINAL-URL:https://nscurl.com
X-WR-CALDESC:Events for Nova Scotia Curling Association
REFRESH-INTERVAL;VALUE=DURATION:PT1H
X-Robots-Tag:noindex
X-PUBLISHED-TTL:PT1H
BEGIN:VTIMEZONE
TZID:America/Halifax
BEGIN:DAYLIGHT
TZOFFSETFROM:-0400
TZOFFSETTO:-0300
TZNAME:ADT
DTSTART:20190310T060000
END:DAYLIGHT
BEGIN:STANDARD
TZOFFSETFROM:-0300
TZOFFSETTO:-0400
TZNAME:AST
DTSTART:20191103T050000
END:STANDARD
BEGIN:DAYLIGHT
TZOFFSETFROM:-0400
TZOFFSETTO:-0300
TZNAME:ADT
DTSTART:20200308T060000
END:DAYLIGHT
BEGIN:STANDARD
TZOFFSETFROM:-0300
TZOFFSETTO:-0400
TZNAME:AST
DTSTART:20201101T050000
END:STANDARD
BEGIN:DAYLIGHT
TZOFFSETFROM:-0400
TZOFFSETTO:-0300
TZNAME:ADT
DTSTART:20210314T060000
END:DAYLIGHT
BEGIN:STANDARD
TZOFFSETFROM:-0300
TZOFFSETTO:-0400
TZNAME:AST
DTSTART:20211107T050000
END:STANDARD
END:VTIMEZONE
BEGIN:VEVENT
DTSTART;VALUE=DATE:20201005
DTEND;VALUE=DATE:20201006
DTSTAMP:20260422T150549
CREATED:20200812T163822Z
LAST-MODIFIED:20200812T164008Z
UID:13818-1601856000-1601942399@nscurl.com
SUMMARY:Competition Introduction - Make Ethical Decisions
DESCRIPTION:On-line Learning Course \nGiven the current situation around COVID-19 all classroom delivery of Multi-Sport Coaching Courses have been suspended. Nova Scotia based coaches can now take Multisport Coaching Courses in a home study or virtual format for free. \nRegister Here
URL:https://nscurl.com/event/competition-introduction-make-ethical-decisions-2/
LOCATION:Nova Scotia\, Canada
CATEGORIES:NCCP Training
END:VEVENT
BEGIN:VEVENT
DTSTART;VALUE=DATE:20201008
DTEND;VALUE=DATE:20201009
DTSTAMP:20260422T150549
CREATED:20200812T164545Z
LAST-MODIFIED:20200812T164545Z
UID:13834-1602115200-1602201599@nscurl.com
SUMMARY:Competition Development - Managing Conflict
DESCRIPTION:On-line Learning Course \nGiven the current situation around COVID-19 all classroom delivery of Multi-Sport Coaching Courses have been suspended. Nova Scotia based coaches can now take Multisport Coaching Courses in a home study or virtual format for free. \nRegister Here
URL:https://nscurl.com/event/competition-development-managing-conflict/
LOCATION:Nova Scotia\, Canada
CATEGORIES:NCCP Training
END:VEVENT
BEGIN:VEVENT
DTSTART;VALUE=DATE:20201013
DTEND;VALUE=DATE:20201014
DTSTAMP:20260422T150549
CREATED:20200812T164656Z
LAST-MODIFIED:20200812T164656Z
UID:13837-1602547200-1602633599@nscurl.com
SUMMARY:Competition Development - Manage a Sport Program
DESCRIPTION:On-line Learning Course \nGiven the current situation around COVID-19 all classroom delivery of Multi-Sport Coaching Courses have been suspended. Nova Scotia based coaches can now take Multisport Coaching Courses in a home study or virtual format for free. \nRegister Here
URL:https://nscurl.com/event/competition-development-manage-a-sport-program/
LOCATION:Nova Scotia\, Canada
CATEGORIES:NCCP Training
END:VEVENT
BEGIN:VEVENT
DTSTART;VALUE=DATE:20201016
DTEND;VALUE=DATE:20201019
DTSTAMP:20260422T150549
CREATED:20200805T113240Z
LAST-MODIFIED:20200805T113240Z
UID:13796-1602806400-1603065599@nscurl.com
SUMMARY:Steele Fredericton Cashspiel
DESCRIPTION:October 16-18\, round robin\, Capital Winter Club\, Fredericton\, NB
URL:https://nscurl.com/event/steele-fredericton-cashspiel/
LOCATION:Capital Winter Club\, 232 Rookwood Ave.\, Fredericton\, New Brunswick\, E3B 2M2\, Canada
CATEGORIES:Adult Bonspiels
ATTACH;FMTTYPE=image/png:https://nscurl.com/wp-content/uploads/2020/07/CapitalWinterClubLogo.png
ORGANIZER;CN="Brent Wishart":MAILTO:cwcfreddy@gmail.com
END:VEVENT
BEGIN:VEVENT
DTSTART;VALUE=DATE:20201020
DTEND;VALUE=DATE:20201022
DTSTAMP:20260422T150549
CREATED:20200812T164806Z
LAST-MODIFIED:20200812T164947Z
UID:13840-1603152000-1603324799@nscurl.com
SUMMARY:Competition Development - Developing Athletic Abilities
DESCRIPTION:On-line Learning Course \nGiven the current situation around COVID-19 all classroom delivery of Multi-Sport Coaching Courses have been suspended. Nova Scotia based coaches can now take Multisport Coaching Courses in a home study or virtual format for free. \nRegister Here
URL:https://nscurl.com/event/competition-development-developing-athletic-abilities/
LOCATION:Nova Scotia\, Canada
CATEGORIES:NCCP Training
END:VEVENT
BEGIN:VEVENT
DTSTART;VALUE=DATE:20201027
DTEND;VALUE=DATE:20201029
DTSTAMP:20260422T150549
CREATED:20200812T164914Z
LAST-MODIFIED:20200812T164914Z
UID:13843-1603756800-1603929599@nscurl.com
SUMMARY:Competition Development - Prevention and Recovery
DESCRIPTION:On-line Learning Course \nGiven the current situation around COVID-19 all classroom delivery of Multi-Sport Coaching Courses have been suspended. Nova Scotia based coaches can now take Multisport Coaching Courses in a home study or virtual format for free. \nRegister Here
URL:https://nscurl.com/event/competition-development-prevention-and-recovery/
LOCATION:Nova Scotia\, Canada
CATEGORIES:NCCP Training
END:VEVENT
END:VCALENDAR