BEGIN:VCALENDAR
VERSION:2.0
PRODID:-//Nova Scotia Curling Association - ECPv6.15.20//NONSGML v1.0//EN
CALSCALE:GREGORIAN
METHOD:PUBLISH
X-WR-CALNAME:Nova Scotia Curling Association
X-ORIGINAL-URL:https://nscurl.com
X-WR-CALDESC:Events for Nova Scotia Curling Association
REFRESH-INTERVAL;VALUE=DURATION:PT1H
X-Robots-Tag:noindex
X-PUBLISHED-TTL:PT1H
BEGIN:VTIMEZONE
TZID:America/Halifax
BEGIN:DAYLIGHT
TZOFFSETFROM:-0400
TZOFFSETTO:-0300
TZNAME:ADT
DTSTART:20200308T060000
END:DAYLIGHT
BEGIN:STANDARD
TZOFFSETFROM:-0300
TZOFFSETTO:-0400
TZNAME:AST
DTSTART:20201101T050000
END:STANDARD
BEGIN:DAYLIGHT
TZOFFSETFROM:-0400
TZOFFSETTO:-0300
TZNAME:ADT
DTSTART:20210314T060000
END:DAYLIGHT
BEGIN:STANDARD
TZOFFSETFROM:-0300
TZOFFSETTO:-0400
TZNAME:AST
DTSTART:20211107T050000
END:STANDARD
BEGIN:DAYLIGHT
TZOFFSETFROM:-0400
TZOFFSETTO:-0300
TZNAME:ADT
DTSTART:20220313T060000
END:DAYLIGHT
BEGIN:STANDARD
TZOFFSETFROM:-0300
TZOFFSETTO:-0400
TZNAME:AST
DTSTART:20221106T050000
END:STANDARD
END:VTIMEZONE
BEGIN:VEVENT
DTSTART;TZID=America/Halifax:20210108T080000
DTEND;TZID=America/Halifax:20210110T170000
DTSTAMP:20260422T100425
CREATED:20201126T050053Z
LAST-MODIFIED:20201217T153553Z
UID:14613-1610092800-1610298000@nscurl.com
SUMMARY:2021 Mixed Doubles Championship [Cancelled]
DESCRIPTION:2020-2021 Dates and Locations\n2020 MIXED DOUBLES CHAMPIONS Karlee Jones & Bryce Everist \nProvincial – Liverpool Curling Club\, Liverpool\, NS ~ December 8-10\, 2021 \nQualifications\nAll teams who register will qualify directly to the Provincial Championships. \nPractice and Schedule Info\n\nNSC will make every attempt to release the draw schedule roughly two weeks prior to the event. Teams competing in the event should make the appropriate travel & lodging arrangements to ensure they can be at the venue by 8 am on day the event is scheduled to start in case they have the first pre-event practice or first draw of the event. Events leading to a Canadian Championship and requiring a pre-event practice\, this schedule will be released with the completed draw. In the event there is a larger than expected number of teams and the pre-event practices and/or draw cannot be completed in the time allotted for the event\, then the schedule will be extended the necessary day(s) and practices/draw one will commence on the first scheduled day of the event. Information on pre-event and in event practices can be found here. \n\n\nRules\nThis event is governed by NSC’s Competition Rules and Curling Canada’s Rules for Officiated Play. In the event there is conflicting information provided\, the NSC Competitions Director will make the final decision on which rule(s) will be used. \nNSC’s Competition Rules can be viewed online. \nAge Requirements\nThere is no age restriction for this event. \n\n\nRegistrations\nAll information and registration for this event can be found on the Curling I/O page. \nTeams that have qualified for the event will be listed in the team section of the event. Complete lineups for teams will only be displayed if each player on the team has a valid Curling I/O profile. All players in Nova Scotia are encouraged to create one. \nEvent Disclaimers:\n\nIf there are less than 8 teams registered for any event at the deadline\, NSCA reserves the right to cancel the event.  All entry fees will be returned. \nIf a provincial winner is declared and the Canadian is not held in 2021\, neither provincial uniforms or team assistance will be issued to the winning team.  Further information will be available here once confirmation received by Curling Canada – please check back. \nThis event will be an Open format this year with no qualifier.  Should there be more than 4 draws at any time\, the teams on the outside sheets will be required to use the Host Club rocks. \n\nContact:\nQuestions about the 2021 Mixed Doubles Provincials? Please contact: \nAndrew Abraham | Director of Competitions \nm. (902) 220-3307 \ne. aabraham1965@icloud.com
URL:https://nscurl.com/event/2021-mixed-doubles-championship/
LOCATION:Liverpool Curling Club\, 108 Gorham\, Liverpool\, Nova Scotia\, B0T 1K0\, Canada
CATEGORIES:Adult Events,NSCA Championships
END:VEVENT
BEGIN:VEVENT
DTSTART;TZID=America/Halifax:20210121T080000
DTEND;TZID=America/Halifax:20210124T170000
DTSTAMP:20260422T100425
CREATED:20201004T025235Z
LAST-MODIFIED:20210111T061924Z
UID:14015-1611216000-1611507600@nscurl.com
SUMMARY:2021 Club Mixed Championship [Cancelled]
DESCRIPTION:2020-2021 Dates and Locations\n2020 CLUB MIXED CHAMPIONS (R-L) Skip – Andrew Willsey\, Mate – Emily Neily\, Second – Cody Spidle\, Lead – Lisa Willsey \nProvincial – Middleton Curling Club\, Middleton\, NS ~ January 21-24\, 2021 \nQualifications\nAll teams who register will qualify directly to the Provincial Championships. \nPractice and Schedule Info\n\nNSC will make every attempt to release the draw schedule roughly two weeks prior to the event. Teams competing in the event should make the appropriate travel & lodging arrangements to ensure they can be at the venue by 8 am on day the event is scheduled to start in case they have the first pre-event practice or first draw of the event. Events leading to a Canadian Championship and requiring a pre-event practice\, this schedule will be released with the completed draw. In the event there is a larger than expected number of teams and the pre-event practices and/or draw cannot be completed in the time allotted for the event\, then the schedule will be extended the necessary day(s) and practices/draw one will commence on the first scheduled day of the event. Information on pre-event and in event practices can be found here. \n\n\nRules\nThis event is governed by NSC’s Competition Rules and Curling Canada’s Rules for Officiated Play. In the event there is conflicting information provided\, the NSC Competitions Director will make the final decision on which rule(s) will be used. \nNSC’s Club Mixed Competition Rules can be viewed online. \nAge Requirements\nThe age restriction for this event is 19 years or older as of Dec. 31\, 2020. \n\n\nRegistrations\nAll information and registration for this event can be found on the Curling I/O page. \nTeams that have qualified for the event will be listed in the team section of the event. Complete lineups for teams will only be displayed if each player on the team has a valid Curling I/O profile. All players in Nova Scotia are encouraged to create one. \nEvent Disclaimers:\n\nIf there are less than 8 teams registered for any event at the deadline\, NSCA reserves the right to cancel the event.  All entry fees will be returned. \nIf a provincial winner is declared and the Canadian is not held in 2021\, neither provincial uniforms or team assistance will be issued to the winning team.  Further information will be available here once confirmation received by Curling Canada – please check back. \n\nContact:\nQuestions about the 2021 Club Mixed Provincials? Please contact: \nAndrew Abraham | Director of Competitions \nm. (902) 220-3307 \ne. aabraham1965@icloud.com
URL:https://nscurl.com/event/2021-club-mixed-championship/
LOCATION:Middleton Curling Club\, 6 King Street\, Middleton\, Nova Scotia\, B0S 1P0\, Canada
CATEGORIES:Adult Events,NSCA Championships
END:VEVENT
BEGIN:VEVENT
DTSTART;TZID=America/Halifax:20210125T080000
DTEND;TZID=America/Halifax:20210131T170000
DTSTAMP:20260422T100425
CREATED:20200927T012012Z
LAST-MODIFIED:20210111T061934Z
UID:13890-1611561600-1612112400@nscurl.com
SUMMARY:2021 Tankard [Cancelled]
DESCRIPTION:2020 TANKARD CHAMPIONSSkip – Jamie Murphy\, Mate – Paul Flemming\, Second – Scott Saccary\, Lead – Philip Crowell\, Coach – Bruce Lohnes \n\n2020-2021 Dates and Locations\nQualifier – 2 teams via CTRS Events (Based on NS cashspiels listed below for 2020) \nQualifier – Berwick Curling Club\, Berwick\, NS ~ December 10-14\, 2020 \nUpdate (December 2nd\, 2020): Qualifier has been cancelled and the NSCA is working with the host club to offer a 12 team Men’s Provincial Championship. \nProvincial – Bluenose Curling Club\, New Glasglow\, NS ~ January 25-31\, 2021 \nQualifications\nTeams will qualify for the Provincial Final (the Tankard) through 2 CTRS berths and 1 Qualifier. \nQualifier (CTRS): The two (2) teams total team prize money earned in the following 2020 Nova Scotia Cashspiels: 2020 Curling Store Cashspiel (Lakeshore Sept. 25-27)\, New Scotland Cashspiel (CFB Halifax Oct. 10-12)\, Dave Jones Cashspiel (Mayflower Oct. 29 – Nov. 1)\, and Stu Sells 1824 Halifax Classic (Halifax Curling Club Nov. 12-15) will receive automatic berths into the Provincials. \nQualifier (Berwick Curling Club): The format of play shall be an open-entry triple knockout qualifying six (6) teams to the provincial. \nPractice and Schedule Info\n\nNSC will make every attempt to release the draw schedule roughly two weeks prior to the event. Teams competing in the event should make the appropriate travel & lodging arrangements to ensure they can be at the venue by 8 am on day the event is scheduled to start in case they have the first pre-event practice or first draw of the event. Events leading to a Canadian Championship and requiring a pre-event practice\, this schedule will be released with the completed draw. In the event there is a larger than expected number of teams and the pre-event practices and/or draw cannot be completed in the time allotted for the event\, then the schedule will be extended the necessary day(s) and practices/draw one will commence on the first scheduled day of the event. Information on pre-event and in event practices can be found here. \n\n\nRules\nThis event is governed by NSC’s Competition Rules and Curling Canada’s Rules for Officiated Play. In the event there is conflicting information provided\, the NSC Competitions Director will make the final decision on which rule(s) will be used. \nNSC’s Tankard Competition Rules can be viewed online. \nAge Requirements\nThere is no age restriction for this event. \n\n\nRegistrations\nAll information and registration for this event can be found on the Curling I/O page. \nTeams that have qualified for the event will be listed in the team section of the event. Complete lineups for teams will only be displayed if each player on the team has a valid Curling I/O profile. All players in Nova Scotia are encouraged to create one. \nEvent Disclaimers:\n\nIf there are less than 8 teams registered for any event at the deadline\, NSCA reserves the right to cancel the event.  All entry fees will be returned. \nIf a provincial winner is declared and the Canadian is not held in 2021\, neither provincial uniforms or team assistance will be issued to the winning team.  Further information will be available here once confirmation received by Curling Canada – please check back. \n\nContact:\nQuestions about the 2021 Tankard? Please contact: \nAndrew Abraham | Director of Competitions \nm. (902) 220-3307 \ne. aabraham1965@icloud.com \n  \n 
URL:https://nscurl.com/event/2021-tankard/
LOCATION:Bluenose Curling Club\, 234 Park Street\, New Glasgow\, Nova Scotia\, B2H 5E5\, Canada
CATEGORIES:Adult Events,NSCA Championships
END:VEVENT
BEGIN:VEVENT
DTSTART;TZID=America/Halifax:20210125T080000
DTEND;TZID=America/Halifax:20210131T170000
DTSTAMP:20260422T100425
CREATED:20201004T030529Z
LAST-MODIFIED:20210111T061947Z
UID:14019-1611561600-1612112400@nscurl.com
SUMMARY:2021 Scotties [Cancelled]
DESCRIPTION:2020-2021 Dates and Locations\n2020 WOMEN’S CHAMPIONS Skip – Mary-Anne Arsenault\, Mate – Christina Black\, Second – Jennifer Baxter\, Lead – Emma Logan\, Alternate – Kristin Clarke \nQualifier – Berwick Curling Club\, Berwick\, NS ~ December 10-14\, 2021 \nUpdate (December 2nd\, 2020): Qualifier has been cancelled and the NSCA is working with the host club to offer a 12 team Women’s Provincial Championship. \nProvincial – Bluenose Curling Club\, New Glasgow ~ January 25-31\, 2021 \nQualifications\nTeams will qualify for the Provincial Final (the Scotties) through 2 CTRS berths and 1 Qualifier. \nQualifier (CTRS): The two (2) teams total team prize money earned in the following 2020 Nova Scotia Cashspiels: 2020 Curling Store Cashspiel (Lakeshore Sept. 25-27)\, New Scotland Cashspiel (CFB Halifax Oct. 10-12)\, Dave Jones Cashspiel (Mayflower Oct. 29 – Nov. 1)\, and Windsor Women’s Cash Spiel (Windsor Nov. 21-22) will receive automatic berths into the Provincials. \nQualifier (Berwick Curling Club): The format of play shall be an open-entry triple knockout qualifying six (6) teams to the provincial. \nPractice and Schedule Info\n\nNSC will make every attempt to release the draw schedule roughly two weeks prior to the event. Teams competing in the event should make the appropriate travel & lodging arrangements to ensure they can be at the venue by 8 am on day the event is scheduled to start in case they have the first pre-event practice or first draw of the event. Events leading to a Canadian Championship and requiring a pre-event practice\, this schedule will be released with the completed draw. In the event there is a larger than expected number of teams and the pre-event practices and/or draw cannot be completed in the time allotted for the event\, then the schedule will be extended the necessary day(s) and practices/draw one will commence on the first scheduled day of the event. Information on pre-event and in event practices can be found here. \n\n\nRules\nThis event is governed by NSC’s Competition Rules and Curling Canada’s Rules for Officiated Play. In the event there is conflicting information provided\, the NSC Competitions Director will make the final decision on which rule(s) will be used. \nNSC’s Scotties Competition Rules can be viewed online. \nAge Requirements\nThere is no age restriction for this event. \n\n\nRegistrations\nAll information and registration for this event can be found on the Curling I/O page. \nTeams that have qualified for the event will be listed in the team section of the event. Complete lineups for teams will only be displayed if each player on the team has a valid Curling I/O profile. All players in Nova Scotia are encouraged to create one. \nEvent Disclaimers:\n\nIf there are less than 8 teams registered for any event at the deadline\, NSCA reserves the right to cancel the event.  All entry fees will be returned. \nIf a provincial winner is declared and the Canadian is not held in 2021\, neither provincial uniforms or team assistance will be issued to the winning team.  Further information will be available here once confirmation received by Curling Canada – please check back. \n\nContact:\nQuestions about the 2021 Scotties? Please contact: \nAndrew Abraham | Director of Competitions \nm. (902) 220-3307 \ne. aabraham1965@icloud.com
URL:https://nscurl.com/event/2021-scotties/
LOCATION:Bluenose Curling Club\, 234 Park Street\, New Glasgow\, Nova Scotia\, B2H 5E5\, Canada
CATEGORIES:Adult Events,NSCA Championships
ATTACH;FMTTYPE=image/gif:https://nscurl.com/wp-content/uploads/2020/10/card_scotties665x2651.gif
END:VEVENT
BEGIN:VEVENT
DTSTART;TZID=America/Halifax:20210128T080000
DTEND;TZID=America/Halifax:20210131T170000
DTSTAMP:20260422T100425
CREATED:20201004T031808Z
LAST-MODIFIED:20210111T062044Z
UID:14022-1611820800-1612112400@nscurl.com
SUMMARY:2021 Under 15 Boy's Provincial Championship [Cancelled]
DESCRIPTION:2020-2021 Dates and Locations\nProvincial – Bridgewater Curling Club\, Bridgewater\, NS ~ January 28-31\, 2021 \nQualifications\nAll teams who register will qualify directly to the Provincial Championships. \nPractice and Schedule Info\n\nNSC will make every attempt to release the draw schedule roughly two weeks prior to the event. Teams competing in the event should make the appropriate travel & lodging arrangements to ensure they can be at the venue by 8 am on day the event is scheduled to start in case they have the first pre-event practice or first draw of the event. Events leading to a Canadian Championship and requiring a pre-event practice\, this schedule will be released with the completed draw. In the event there is a larger than expected number of teams and the pre-event practices and/or draw cannot be completed in the time allotted for the event\, then the schedule will be extended the necessary day(s) and practices/draw one will commence on the first scheduled day of the event. Information on pre-event and in event practices can be found here. \n\n\nRules\nThis event is governed by NSC’s Competition Rules and Curling Canada’s Rules for Officiated Play. In the event there is conflicting information provided\, the NSC Competitions Director will make the final decision on which rule(s) will be used. \nNSC’s Competition Rules can be viewed online. \nAge Requirements\nThe age restriction for this event is 14 years or under as of June 30\, 2020. \n\n\nRegistrations\nAll information and registration for this event can be found on the Curling I/O page. \nTeams that have qualified for the event will be listed in the team section of the event. Complete lineups for teams will only be displayed if each player on the team has a valid Curling I/O profile. All players in Nova Scotia are encouraged to create one. \nEvent Disclaimers:\n\nIf there are less than 8 teams registered for any event at the deadline\, NSCA reserves the right to cancel the event.  All entry fees will be returned. \nIf a provincial winner is declared and the Canadian is not held in 2021\, neither provincial uniforms or team assistance will be issued to the winning team.  Further information will be available here once confirmation received by Curling Canada – please check back. \n\nContact:\nQuestions about the 2021 U15 Provincials? Please contact: \nAndrew Abraham | Director of Competitions \nm. (902) 220-3307 \ne. aabraham1965@icloud.com
URL:https://nscurl.com/event/2021-under-15-boys-provincial-championship/
LOCATION:Bridgewater Curling Club\, 90 Dominion Street\, Bridgewater\, Nova Scotia\, B4V 2K1\, Canada
CATEGORIES:Junior Events,NSCA Championships
END:VEVENT
BEGIN:VEVENT
DTSTART;TZID=America/Halifax:20210128T080000
DTEND;TZID=America/Halifax:20210131T170000
DTSTAMP:20260422T100425
CREATED:20201004T032110Z
LAST-MODIFIED:20210111T062058Z
UID:14027-1611820800-1612112400@nscurl.com
SUMMARY:2021 Under 15 Girl's Provincial Championship [Cancelled]
DESCRIPTION:2020-2021 Dates and Locations\nProvincial – Bridgewater Curling Club\, Bridgewater\, NS ~ January 28-31\, 2021 \nQualifications\n2020 U15 CHAMPIONS Skip – Sophie Blades\, Mate – Kate Weissent\, Second – Alexis Cluney\, Lead – Stephanie Atherton\, Coach – Andrew Atherton \nAll teams who register will qualify directly to the Provincial Championships. \nPractice and Schedule Info\n\nNSC will make every attempt to release the draw schedule roughly two weeks prior to the event. Teams competing in the event should make the appropriate travel & lodging arrangements to ensure they can be at the venue by 8 am on day the event is scheduled to start in case they have the first pre-event practice or first draw of the event. Events leading to a Canadian Championship and requiring a pre-event practice\, this schedule will be released with the completed draw. In the event there is a larger than expected number of teams and the pre-event practices and/or draw cannot be completed in the time allotted for the event\, then the schedule will be extended the necessary day(s) and practices/draw one will commence on the first scheduled day of the event. Information on pre-event and in event practices can be found here. \n\n\nRules\nThis event is governed by NSC’s Competition Rules and Curling Canada’s Rules for Officiated Play. In the event there is conflicting information provided\, the NSC Competitions Director will make the final decision on which rule(s) will be used. \nNSC’s U15 Competition Rules can be viewed online. \nAge Requirements\nThe age restriction for this event is 14 years or under as of June 30\, 2020. \n\n\nRegistrations\nAll information and registration for this event can be found on the Curling I/O page. \nTeams that have qualified for the event will be listed in the team section of the event. Complete lineups for teams will only be displayed if each player on the team has a valid Curling I/O profile. All players in Nova Scotia are encouraged to create one. \nEvent Disclaimers:\n\nIf there are less than 8 teams registered for any event at the deadline\, NSCA reserves the right to cancel the event.  All entry fees will be returned. \nIf a provincial winner is declared and the Canadian is not held in 2021\, neither provincial uniforms or team assistance will be issued to the winning team.  Further information will be available here once confirmation received by Curling Canada – please check back. \n\nContact:\nQuestions about the 2021 U15 Provincials? Please contact: \nAndrew Abraham | Director of Competitions \nm. (902) 220-3307 \ne. aabraham1965@icloud.com
URL:https://nscurl.com/event/2021-under-15-girls-provincial-championship/
LOCATION:Bridgewater Curling Club\, 90 Dominion Street\, Bridgewater\, Nova Scotia\, B4V 2K1\, Canada
CATEGORIES:Junior Events,NSCA Championships
END:VEVENT
END:VCALENDAR