BEGIN:VCALENDAR
VERSION:2.0
PRODID:-//Nova Scotia Curling Association - ECPv6.15.20//NONSGML v1.0//EN
CALSCALE:GREGORIAN
METHOD:PUBLISH
X-ORIGINAL-URL:https://nscurl.com
X-WR-CALDESC:Events for Nova Scotia Curling Association
REFRESH-INTERVAL;VALUE=DURATION:PT1H
X-Robots-Tag:noindex
X-PUBLISHED-TTL:PT1H
BEGIN:VTIMEZONE
TZID:America/Halifax
BEGIN:DAYLIGHT
TZOFFSETFROM:-0400
TZOFFSETTO:-0300
TZNAME:ADT
DTSTART:20240310T060000
END:DAYLIGHT
BEGIN:STANDARD
TZOFFSETFROM:-0300
TZOFFSETTO:-0400
TZNAME:AST
DTSTART:20241103T050000
END:STANDARD
BEGIN:DAYLIGHT
TZOFFSETFROM:-0400
TZOFFSETTO:-0300
TZNAME:ADT
DTSTART:20250309T060000
END:DAYLIGHT
BEGIN:STANDARD
TZOFFSETFROM:-0300
TZOFFSETTO:-0400
TZNAME:AST
DTSTART:20251102T050000
END:STANDARD
BEGIN:DAYLIGHT
TZOFFSETFROM:-0400
TZOFFSETTO:-0300
TZNAME:ADT
DTSTART:20260308T060000
END:DAYLIGHT
BEGIN:STANDARD
TZOFFSETFROM:-0300
TZOFFSETTO:-0400
TZNAME:AST
DTSTART:20261101T050000
END:STANDARD
END:VTIMEZONE
BEGIN:VEVENT
DTSTART;VALUE=DATE:20250222
DTEND;VALUE=DATE:20250512
DTSTAMP:20260420T023936
CREATED:20241208T225704Z
LAST-MODIFIED:20241208T225704Z
UID:29221-1740182400-1747007999@nscurl.com
SUMMARY:46th Annual Ladies OFF Broadway Bonspiel
DESCRIPTION:46th Annual Ladies Bonspiel with breakfast\, lunch\, dinner and prizes!
URL:https://nscurl.com/event/46th-annual-ladies-off-broadway-bonspiel/
LOCATION:CFB Halifax Curling Club\, 6441 Hawk Terrace\, Halifax\, Nova Scotia\, B3K 5Y5\, Canada
CATEGORIES:Adult Bonspiels
ATTACH;FMTTYPE=image/jpeg:https://nscurl.com/wp-content/uploads/2024/12/46th-Ladies-Off-Broadway-2025.jpg
END:VEVENT
END:VCALENDAR